Workbook

Sheet IA Fight
G1: Enemy Units | L1: Expedition Points / Unit | R1: Prediction using Avg.
A2: GE Level | B2: Segment | C2: Encounter | D2: Expedition Points | E2: Cumulative EP | F2: Cumulative % of Total | G2: Attacker Bonus | H2: Total | I2: Waves | J2: Damage Taken | L2: Lower Bound | M2: Upper Bound | N2: Min | O2: Max | P2: Est. | Q2: Apparent Increase | R2: Expedition Points | S2: % Error
A3: 1 | B3: 1 | C3: 1 | D3: 30 | E3: =D3 -> 30 | F3: =E3/$E$66 -> 0.0014879476 | H3: 3 | I3: 1 | J3: =H3*10 -> 30 | L3: =(D3-0.5)/H3 -> 9.8333333 | M3: =(D3+0.4)/H3 -> 10.133333 | N3: =MAX(L3:L6) -> 9.9444444 | O3: =MIN(M3:M6) -> 10.044444 | P3: 10 | R3: =ROUND(H3*P3,0) -> 30 | S3: =(R3-D3)/D3 -> 0
C4: 2 | D4: 40 | E4: =D4+E3 -> 70 | F4: =E4/$E$66 -> 0.0034718778 | H4: 4 | I4: 1 | J4: =H4*10 -> 40 | L4: =(D4-0.5)/H4 -> 9.875 | M4: =(D4+0.4)/H4 -> 10.1 | R4: =ROUND(H4*P3,0) -> 40 | S4: =(R4-D4)/D4 -> 0
C5: 3 | D5: 50 | E5: =D5+E4 -> 120 | F5: =E5/$E$66 -> 0.0059517905 | H5: 5 | I5: 1 | J5: =H5*10 -> 50 | L5: =(D5-0.5)/H5 -> 9.9 | M5: =(D5+0.4)/H5 -> 10.08 | R5: =ROUND(H5*P3,0) -> 50 | S5: =(R5-D5)/D5 -> 0
C6: 4 | D6: 90 | E6: =D6+E5 -> 210 | F6: =E6/$E$66 -> 0.010415633 | H6: 9 | I6: 2 | J6: =H6*10 -> 90 | L6: =(D6-0.5)/H6 -> 9.9444444 | M6: =(D6+0.4)/H6 -> 10.044444 | R6: =ROUND(H6*P3,0) -> 90 | S6: =(R6-D6)/D6 -> 0
B7: =B3+1 -> 2 | C7: 5 | D7: 53 | E7: =D7+E6 -> 263 | F7: =E7/$E$66 -> 0.013044341 | H7: 5 | I7: 1 | J7: =H7*10 -> 50 | L7: =(D7-0.5)/H7 -> 10.5 | M7: =(D7+0.4)/H7 -> 10.68 | N7: =MAX(L7:L10) -> 10.5 | O7: =MIN(M7:M10) -> 10.54 | P7: 10.5 | Q7: =ROUND(P7/P3,4) -> 1.05 | R7: =ROUND(H7*P7,0) -> 53 | S7: =(R7-D7)/D7 -> 0
C8: 6 | D8: 63 | E8: =D8+E7 -> 326 | F8: =E8/$E$66 -> 0.016169031 | H8: 6 | I8: 1 | J8: =H8*10 -> 60 | L8: =(D8-0.5)/H8 -> 10.416667 | M8: =(D8+0.4)/H8 -> 10.566667 | R8: =ROUND(H8*P7,0) -> 63 | S8: =(R8-D8)/D8 -> 0
C9: 7 | D9: 74 | E9: =D9+E8 -> 400 | F9: =E9/$E$66 -> 0.019839302 | H9: 7 | I9: 1 | J9: =H9*10 -> 70 | L9: =(D9-0.5)/H9 -> 10.5 | M9: =(D9+0.4)/H9 -> 10.628571 | R9: =ROUND(H9*P7,0) -> 74 | S9: =(R9-D9)/D9 -> 0
C10: 8 | D10: 105 | E10: =D10+E9 -> 505 | F10: =E10/$E$66 -> 0.025047118 | H10: 10 | I10: 1 | J10: =H10*10 -> 100 | L10: =(D10-0.5)/H10 -> 10.45 | M10: =(D10+0.4)/H10 -> 10.54 | R10: =ROUND(H10*P7,0) -> 105 | S10: =(R10-D10)/D10 -> 0
B11: =B7+1 -> 3 | C11: 9 | D11: 77 | E11: =D11+E10 -> 582 | F11: =E11/$E$66 -> 0.028866184 | H11: 7 | I11: 1 | J11: =H11*10 -> 70 | L11: =(D11-0.5)/H11 -> 10.928571 | M11: =(D11+0.4)/H11 -> 11.057143 | N11: =MAX(L11:L14) -> 11.045455 | O11: =MIN(M11:M14) -> 11.05 | P11: =IF((N11+(O11-N11)/2)<N11,N11,N11+(O11-N11)/2) -> 11.047727 | Q11: =ROUND(P11/P7,4) -> 1.0522 | R11: =ROUND(H11*P11,0) -> 77 | S11: =(R11-D11)/D11 -> 0
C12: 10 | D12: 77 | E12: =D12+E11 -> 659 | F12: =E12/$E$66 -> 0.032685249 | H12: 7 | I12: 1 | J12: =H12*10 -> 70 | L12: =(D12-0.5)/H12 -> 10.928571 | M12: =(D12+0.4)/H12 -> 11.057143 | R12: =ROUND(H12*P11,0) -> 77 | S12: =(R12-D12)/D12 -> 0
C13: 11 | D13: 88 | E13: =D13+E12 -> 747 | F13: =E13/$E$66 -> 0.037049896 | H13: 8 | I13: 1 | J13: =H13*10 -> 80 | L13: =(D13-0.5)/H13 -> 10.9375 | M13: =(D13+0.4)/H13 -> 11.05 | R13: =ROUND(H13*P11,0) -> 88 | S13: =(R13-D13)/D13 -> 0
C14: 12 | D14: 122 | E14: =D14+E13 -> 869 | F14: =E14/$E$66 -> 0.043100883 | H14: 11 | I14: 2 | J14: =H14*10 -> 110 | L14: =(D14-0.5)/H14 -> 11.045455 | M14: =(D14+0.4)/H14 -> 11.127273 | R14: =ROUND(H14*P11,0) -> 122 | S14: =(R14-D14)/D14 -> 0
B15: =B11+1 -> 4 | C15: 13 | D15: 96 | E15: =D15+E14 -> 965 | F15: =E15/$E$66 -> 0.047862315 | H15: 8 | I15: 1 | J15: =H15*10 -> 80 | L15: =(D15-0.5)/H15 -> 11.9375 | M15: =(D15+0.4)/H15 -> 12.05 | N15: =MAX(L15:L18) -> 11.958333 | O15: =MIN(M15:M18) -> 12.033333 | P15: 12 | Q15: =ROUND(P15/P11,4) -> 1.0862 | R15: =ROUND(H15*P15,0) -> 96 | S15: =(R15-D15)/D15 -> 0
C16: 14 | D16: 96 | E16: =D16+E15 -> 1061 | F16: =E16/$E$66 -> 0.052623748 | H16: 8 | I16: 1 | J16: =H16*10 -> 80 | L16: =(D16-0.5)/H16 -> 11.9375 | M16: =(D16+0.4)/H16 -> 12.05 | R16: =ROUND(H16*P15,0) -> 96 | S16: =(R16-D16)/D16 -> 0
C17: 15 | D17: 96 | E17: =D17+E16 -> 1157 | F17: =E17/$E$66 -> 0.05738518 | H17: 8 | I17: 1 | J17: =H17*10 -> 80 | L17: =(D17-0.5)/H17 -> 11.9375 | M17: =(D17+0.4)/H17 -> 12.05 | R17: =ROUND(H17*P15,0) -> 96 | S17: =(R17-D17)/D17 -> 0
C18: 16 | D18: 144 | E18: =D18+E17 -> 1301 | F18: =E18/$E$66 -> 0.064527329 | H18: 12 | I18: 2 | J18: =H18*10 -> 120 | L18: =(D18-0.5)/H18 -> 11.958333 | M18: =(D18+0.4)/H18 -> 12.033333 | R18: =ROUND(H18*P15,0) -> 144 | S18: =(R18-D18)/D18 -> 0
A19: =A3+1 -> 2 | B19: =B15+1 -> 5 | C19: 17 | D19: 104 | E19: =D19+E18 -> 1405 | F19: =E19/$E$66 -> 0.069685547 | H19: 8 | I19: 1 | J19: =H19*10 -> 80 | L19: =(D19-0.5)/H19 -> 12.9375 | M19: =(D19+0.4)/H19 -> 13.05 | N19: =MAX(L19:L22) -> 12.961538 | O19: =MIN(M19:M22) -> 13.030769 | P19: 13 | Q19: =ROUND(P19/P15,4) -> 1.0833 | R19: =ROUND(H19*P19,0) -> 104 | S19: =(R19-D19)/D19 -> 0
C20: 18 | D20: 104 | E20: =D20+E19 -> 1509 | F20: =E20/$E$66 -> 0.074843765 | H20: 8 | I20: 1 | J20: =H20*10 -> 80 | L20: =(D20-0.5)/H20 -> 12.9375 | M20: =(D20+0.4)/H20 -> 13.05 | R20: =ROUND(H20*P19,0) -> 104 | S20: =(R20-D20)/D20 -> 0
C21: 19 | D21: 104 | E21: =D21+E20 -> 1613 | F21: =E21/$E$66 -> 0.080001984 | H21: 8 | I21: 1 | J21: =H21*10 -> 80 | L21: =(D21-0.5)/H21 -> 12.9375 | M21: =(D21+0.4)/H21 -> 13.05 | R21: =ROUND(H21*P19,0) -> 104 | S21: =(R21-D21)/D21 -> 0
C22: 20 | D22: 169 | E22: =D22+E21 -> 1782 | F22: =E22/$E$66 -> 0.088384089 | H22: 13 | I22: 2 | J22: =H22*10 -> 130 | L22: =(D22-0.5)/H22 -> 12.961538 | M22: =(D22+0.4)/H22 -> 13.030769 | R22: =ROUND(H22*P19,0) -> 169 | S22: =(R22-D22)/D22 -> 0
B23: =B19+1 -> 6 | C23: 21 | D23: 116 | E23: =D23+E22 -> 1898 | F23: =E23/$E$66 -> 0.094137486 | G23: 0 | H23: 8 | I23: 1 | J23: =H23*10 -> 80 | L23: =(D23-0.5)/H23 -> 14.4375 | M23: =(D23+0.4)/H23 -> 14.55 | N23: =MAX(L23:L26) -> 14.464286 | O23: =MIN(M23:M26) -> 14.528571 | P23: 14.5 | Q23: =ROUND(P23/P19,4) -> 1.1154 | R23: =ROUND(H23*P23,0) -> 116 | S23: =(R23-D23)/D23 -> 0
C24: 22 | D24: 116 | E24: =D24+E23 -> 2014 | F24: =E24/$E$66 -> 0.099890884 | H24: 8 | I24: 1 | J24: =H24*10 -> 80 | L24: =(D24-0.5)/H24 -> 14.4375 | M24: =(D24+0.4)/H24 -> 14.55 | R24: =ROUND(H24*P23,0) -> 116 | S24: =(R24-D24)/D24 -> 0
C25: 23 | D25: 116 | E25: =D25+E24 -> 2130 | F25: =E25/$E$66 -> 0.10564428 | H25: 8 | I25: 1 | J25: =H25*10 -> 80 | L25: =(D25-0.5)/H25 -> 14.4375 | M25: =(D25+0.4)/H25 -> 14.55 | R25: =ROUND(H25*P23,0) -> 116 | S25: =(R25-D25)/D25 -> 0
C26: 24 | D26: 203 | E26: =D26+E25 -> 2333 | F26: =E26/$E$66 -> 0.11571273 | H26: 14 | I26: 2 | J26: =H26*10 -> 140 | L26: =(D26-0.5)/H26 -> 14.464286 | M26: =(D26+0.4)/H26 -> 14.528571 | R26: =ROUND(H26*P23,0) -> 203 | S26: =(R26-D26)/D26 -> 0
B27: =B23+1 -> 7 | C27: 25 | D27: 128 | E27: =D27+E26 -> 2461 | F27: =E27/$E$66 -> 0.1220613 | H27: 8 | I27: 1 | J27: =H27*10 -> 80 | L27: =(D27-0.5)/H27 -> 15.9375 | M27: =(D27+0.4)/H27 -> 16.05 | N27: =MAX(L27:L30) -> 15.966667 | O27: =MIN(M27:M30) -> 16.026667 | P27: 16 | Q27: =ROUND(P27/P23,4) -> 1.1034 | R27: =ROUND(H27*P27,0) -> 128 | S27: =(R27-D27)/D27 -> 0
C28: 26 | D28: 128 | E28: =D28+E27 -> 2589 | F28: =E28/$E$66 -> 0.12840988 | H28: 8 | I28: 1 | J28: =H28*10 -> 80 | L28: =(D28-0.5)/H28 -> 15.9375 | M28: =(D28+0.4)/H28 -> 16.05 | R28: =ROUND(H28*P27,0) -> 128 | S28: =(R28-D28)/D28 -> 0
C29: 27 | D29: 128 | E29: =D29+E28 -> 2717 | F29: =E29/$E$66 -> 0.13475846 | H29: 8 | I29: 1 | J29: =H29*10 -> 80 | L29: =(D29-0.5)/H29 -> 15.9375 | M29: =(D29+0.4)/H29 -> 16.05 | R29: =ROUND(H29*P27,0) -> 128 | S29: =(R29-D29)/D29 -> 0
C30: 28 | D30: 240 | E30: =D30+E29 -> 2957 | F30: =E30/$E$66 -> 0.14666204 | H30: 15 | I30: 2 | J30: =H30*10 -> 150 | L30: =(D30-0.5)/H30 -> 15.966667 | M30: =(D30+0.4)/H30 -> 16.026667 | R30: =ROUND(H30*P27,0) -> 240 | S30: =(R30-D30)/D30 -> 0
B31: =B27+1 -> 8 | C31: 29 | D31: 180 | E31: =D31+E30 -> 3137 | F31: =E31/$E$66 -> 0.15558972 | H31: 10 | I31: 2 | J31: =H31*10 -> 100 | L31: =(D31-0.5)/H31 -> 17.95 | M31: =(D31+0.4)/H31 -> 18.04 | N31: =MAX(L31:L34) -> 17.96875 | O31: =MIN(M31:M34) -> 18.025 | P31: 18 | Q31: =ROUND(P31/P27,4) -> 1.125 | R31: =ROUND(H31*P31,0) -> 180 | S31: =(R31-D31)/D31 -> 0
C32: 30 | D32: 198 | E32: =D32+E31 -> 3335 | F32: =E32/$E$66 -> 0.16541018 | H32: 11 | I32: 2 | J32: =H32*10 -> 110 | L32: =(D32-0.5)/H32 -> 17.954545 | M32: =(D32+0.4)/H32 -> 18.036364 | R32: =ROUND(H32*P31,0) -> 198 | S32: =(R32-D32)/D32 -> 0
C33: 31 | D33: 198 | E33: =D33+E32 -> 3533 | F33: =E33/$E$66 -> 0.17523063 | H33: 11 | I33: 2 | J33: =H33*10 -> 110 | L33: =(D33-0.5)/H33 -> 17.954545 | M33: =(D33+0.4)/H33 -> 18.036364 | R33: =ROUND(H33*P31,0) -> 198 | S33: =(R33-D33)/D33 -> 0
C34: 32 | D34: 288 | E34: =D34+E33 -> 3821 | F34: =E34/$E$66 -> 0.18951493 | H34: 16 | I34: 2 | J34: =H34*10 -> 160 | L34: =(D34-0.5)/H34 -> 17.96875 | M34: =(D34+0.4)/H34 -> 18.025 | R34: =ROUND(H34*P31,0) -> 288 | S34: =(R34-D34)/D34 -> 0
A35: =A19+1 -> 3 | B35: =B31+1 -> 9 | C35: 33 | D35: 220 | E35: =D35+E34 -> 4041 | F35: =E35/$E$66 -> 0.20042654 | H35: 11 | I35: 2 | J35: =H35*10 -> 110 | L35: =(D35-0.5)/H35 -> 19.954545 | M35: =(D35+0.4)/H35 -> 20.036364 | N35: =MAX(L35:L38) -> 19.96875 | O35: =MIN(M35:M38) -> 20.025 | P35: 20 | Q35: =ROUND(P35/P31,4) -> 1.1111 | R35: =ROUND(H35*P35,0) -> 220 | S35: =(R35-D35)/D35 -> 0
C36: 34 | D36: 240 | E36: =D36+E35 -> 4281 | F36: =E36/$E$66 -> 0.21233013 | H36: 12 | I36: 2 | J36: =H36*10 -> 120 | L36: =(D36-0.5)/H36 -> 19.958333 | M36: =(D36+0.4)/H36 -> 20.033333 | R36: =ROUND(H36*P35,0) -> 240 | S36: =(R36-D36)/D36 -> 0
C37: 35 | D37: 240 | E37: =D37+E36 -> 4521 | F37: =E37/$E$66 -> 0.22423371 | H37: 12 | I37: 2 | J37: =H37*10 -> 120 | L37: =(D37-0.5)/H37 -> 19.958333 | M37: =(D37+0.4)/H37 -> 20.033333 | R37: =ROUND(H37*P35,0) -> 240 | S37: =(R37-D37)/D37 -> 0
C38: 36 | D38: 320 | E38: =D38+E37 -> 4841 | F38: =E38/$E$66 -> 0.24010515 | H38: 16 | I38: 2 | J38: =H38*10 -> 160 | L38: =(D38-0.5)/H38 -> 19.96875 | M38: =(D38+0.4)/H38 -> 20.025 | R38: =ROUND(H38*P35,0) -> 320 | S38: =(R38-D38)/D38 -> 0
B39: =B35+1 -> 10 | C39: 37 | D39: 299 | E39: =D39+E38 -> 5140 | F39: =E39/$E$66 -> 0.25493503 | H39: 13 | I39: 2 | J39: =H39*10 -> 130 | L39: =(D39-0.5)/H39 -> 22.961538 | M39: =(D39+0.4)/H39 -> 23.030769 | N39: =MAX(L39:L42) -> 22.96875 | O39: =MIN(M39:M42) -> 23.025 | P39: 23 | Q39: =ROUND(P39/P35,4) -> 1.15 | R39: =ROUND(H39*P39,0) -> 299 | S39: =(R39-D39)/D39 -> 0
C40: 38 | D40: 299 | E40: =D40+E39 -> 5439 | F40: =E40/$E$66 -> 0.2697649 | H40: 13 | I40: 2 | J40: =H40*10 -> 130 | L40: =(D40-0.5)/H40 -> 22.961538 | M40: =(D40+0.4)/H40 -> 23.030769 | R40: =ROUND(H40*P39,0) -> 299 | S40: =(R40-D40)/D40 -> 0
C41: 39 | D41: 299 | E41: =D41+E40 -> 5738 | F41: =E41/$E$66 -> 0.28459478 | H41: 13 | I41: 2 | J41: =H41*10 -> 130 | L41: =(D41-0.5)/H41 -> 22.961538 | M41: =(D41+0.4)/H41 -> 23.030769 | R41: =ROUND(H41*P39,0) -> 299 | S41: =(R41-D41)/D41 -> 0
C42: 40 | D42: 368 | E42: =D42+E41 -> 6106 | F42: =E42/$E$66 -> 0.30284694 | H42: 16 | I42: 2 | J42: =H42*10 -> 160 | L42: =(D42-0.5)/H42 -> 22.96875 | M42: =(D42+0.4)/H42 -> 23.025 | R42: =ROUND(H42*P39,0) -> 368 | S42: =(R42-D42)/D42 -> 0
B43: =B39+1 -> 11 | C43: 41 | D43: 364 | E43: =D43+E42 -> 6470 | F43: =E43/$E$66 -> 0.3209007 | H43: 14 | I43: 2 | J43: =H43*10 -> 140 | L43: =(D43-0.5)/H43 -> 25.964286 | M43: =(D43+0.4)/H43 -> 26.028571 | N43: =MAX(L43:L46) -> 25.96875 | O43: =MIN(M43:M46) -> 26.025 | P43: 26 | Q43: =ROUND(P43/P39,4) -> 1.1304 | R43: =ROUND(H43*P43,0) -> 364 | S43: =(R43-D43)/D43 -> 0
C44: 42 | D44: 364 | E44: =D44+E43 -> 6834 | F44: =E44/$E$66 -> 0.33895447 | H44: 14 | I44: 2 | J44: =H44*10 -> 140 | L44: =(D44-0.5)/H44 -> 25.964286 | M44: =(D44+0.4)/H44 -> 26.028571 | R44: =ROUND(H44*P43,0) -> 364 | S44: =(R44-D44)/D44 -> 0
C45: 43 | D45: 364 | E45: =D45+E44 -> 7198 | F45: =E45/$E$66 -> 0.35700823 | H45: 14 | I45: 2 | J45: =H45*10 -> 140 | L45: =(D45-0.5)/H45 -> 25.964286 | M45: =(D45+0.4)/H45 -> 26.028571 | R45: =ROUND(H45*P43,0) -> 364 | S45: =(R45-D45)/D45 -> 0
C46: 44 | D46: 416 | E46: =D46+E45 -> 7614 | F46: =E46/$E$66 -> 0.37764111 | H46: 16 | I46: 2 | J46: =H46*10 -> 160 | L46: =(D46-0.5)/H46 -> 25.96875 | M46: =(D46+0.4)/H46 -> 26.025 | R46: =ROUND(H46*P43,0) -> 416 | S46: =(R46-D46)/D46 -> 0
B47: =B43+1 -> 12 | C47: 45 | D47: 450 | E47: =D47+E46 -> 8064 | F47: =E47/$E$66 -> 0.39996032 | H47: 15 | I47: 2 | J47: =H47*10 -> 150 | L47: =(D47-0.5)/H47 -> 29.966667 | M47: =(D47+0.4)/H47 -> 30.026667 | N47: =MAX(L47:L50) -> 29.96875 | O47: =MIN(M47:M50) -> 30.025 | P47: 30 | Q47: =ROUND(P47/P43,4) -> 1.1538 | R47: =ROUND(H47*P47,0) -> 450 | S47: =(R47-D47)/D47 -> 0
C48: 46 | D48: 450 | E48: =D48+E47 -> 8514 | F48: =E48/$E$66 -> 0.42227954 | H48: 15 | I48: 2 | J48: =H48*10 -> 150 | L48: =(D48-0.5)/H48 -> 29.966667 | M48: =(D48+0.4)/H48 -> 30.026667 | R48: =ROUND(H48*P47,0) -> 450 | S48: =(R48-D48)/D48 -> 0
C49: 47 | D49: 480 | E49: =D49+E48 -> 8994 | F49: =E49/$E$66 -> 0.4460867 | H49: 16 | I49: 2 | J49: =H49*10 -> 160 | L49: =(D49-0.5)/H49 -> 29.96875 | M49: =(D49+0.4)/H49 -> 30.025 | R49: =ROUND(H49*P47,0) -> 480 | S49: =(R49-D49)/D49 -> 0
C50: 48 | D50: 480 | E50: =D50+E49 -> 9474 | F50: =E50/$E$66 -> 0.46989386 | H50: 16 | I50: 2 | J50: =H50*10 -> 160 | L50: =(D50-0.5)/H50 -> 29.96875 | M50: =(D50+0.4)/H50 -> 30.025 | R50: =ROUND(H50*P47,0) -> 480 | S50: =(R50-D50)/D50 -> 0
A51: =A35+1 -> 4 | B51: =B47+1 -> 13 | C51: 49 | D51: 544 | E51: =D51+E50 -> 10018 | F51: =E51/$E$66 -> 0.49687531 | H51: 16 | I51: 2 | J51: =H51*10 -> 160 | L51: =(D51-0.5)/H51 -> 33.96875 | M51: =(D51+0.4)/H51 -> 34.025 | N51: =MAX(L51:L54) -> 33.96875 | O51: =MIN(M51:M54) -> 34.025 | P51: 34 | Q51: =ROUND(P51/P47,4) -> 1.1333 | R51: =ROUND(H51*P51,0) -> 544 | S51: =(R51-D51)/D51 -> 0
C52: 50 | D52: 544 | E52: =D52+E51 -> 10562 | F52: =E52/$E$66 -> 0.52385676 | H52: 16 | I52: 2 | J52: =H52*10 -> 160 | L52: =(D52-0.5)/H52 -> 33.96875 | M52: =(D52+0.4)/H52 -> 34.025 | R52: =ROUND(H52*P51,0) -> 544 | S52: =(R52-D52)/D52 -> 0
C53: 51 | D53: 544 | E53: =D53+E52 -> 11106 | F53: =E53/$E$66 -> 0.55083821 | H53: 16 | I53: 2 | J53: =H53*10 -> 160 | L53: =(D53-0.5)/H53 -> 33.96875 | M53: =(D53+0.4)/H53 -> 34.025 | R53: =ROUND(H53*P51,0) -> 544 | S53: =(R53-D53)/D53 -> 0
C54: 52 | D54: 544 | E54: =D54+E53 -> 11650 | F54: =E54/$E$66 -> 0.57781966 | H54: 16 | I54: 2 | J54: =H54*10 -> 160 | L54: =(D54-0.5)/H54 -> 33.96875 | M54: =(D54+0.4)/H54 -> 34.025 | R54: =ROUND(H54*P51,0) -> 544 | S54: =(R54-D54)/D54 -> 0
B55: =B51+1 -> 14 | C55: 53 | D55: 624 | E55: =D55+E54 -> 12274 | F55: =E55/$E$66 -> 0.60876897 | H55: 16 | I55: 2 | J55: =H55*10 -> 160 | L55: =(D55-0.5)/H55 -> 38.96875 | M55: =(D55+0.4)/H55 -> 39.025 | N55: =MAX(L55:L58) -> 38.96875 | O55: =MIN(M55:M58) -> 39.025 | P55: 39 | Q55: =ROUND(P55/P51,4) -> 1.1471 | R55: =ROUND(H55*P55,0) -> 624 | S55: =(R55-D55)/D55 -> 0
C56: 54 | D56: 624 | E56: =D56+E55 -> 12898 | F56: =E56/$E$66 -> 0.63971828 | H56: 16 | I56: 2 | J56: =H56*10 -> 160 | L56: =(D56-0.5)/H56 -> 38.96875 | M56: =(D56+0.4)/H56 -> 39.025 | R56: =ROUND(H56*P55,0) -> 624 | S56: =(R56-D56)/D56 -> 0
C57: 55 | D57: 624 | E57: =D57+E56 -> 13522 | F57: =E57/$E$66 -> 0.67066759 | H57: 16 | I57: 2 | J57: =H57*10 -> 160 | L57: =(D57-0.5)/H57 -> 38.96875 | M57: =(D57+0.4)/H57 -> 39.025 | R57: =ROUND(H57*P55,0) -> 624 | S57: =(R57-D57)/D57 -> 0
C58: 56 | D58: 624 | E58: =D58+E57 -> 14146 | F58: =E58/$E$66 -> 0.7016169 | H58: 16 | I58: 2 | J58: =H58*10 -> 160 | L58: =(D58-0.5)/H58 -> 38.96875 | M58: =(D58+0.4)/H58 -> 39.025 | R58: =ROUND(H58*P55,0) -> 624 | S58: =(R58-D58)/D58 -> 0
B59: =B55+1 -> 15 | C59: 57 | D59: 704 | E59: =D59+E58 -> 14850 | F59: =E59/$E$66 -> 0.73653407 | H59: 16 | I59: 2 | J59: =H59*10 -> 160 | L59: =(D59-0.5)/H59 -> 43.96875 | M59: =(D59+0.4)/H59 -> 44.025 | N59: =MAX(L59:L62) -> 43.96875 | O59: =MIN(M59:M62) -> 44.025 | P59: 44 | Q59: =ROUND(P59/P55,4) -> 1.1282 | R59: =ROUND(H59*P59,0) -> 704 | S59: =(R59-D59)/D59 -> 0
C60: 58 | D60: 704 | E60: =D60+E59 -> 15554 | F60: =E60/$E$66 -> 0.77145124 | H60: 16 | I60: 2 | J60: =H60*10 -> 160 | L60: =(D60-0.5)/H60 -> 43.96875 | M60: =(D60+0.4)/H60 -> 44.025 | R60: =ROUND(H60*P59,0) -> 704 | S60: =(R60-D60)/D60 -> 0
C61: 59 | D61: 704 | E61: =D61+E60 -> 16258 | F61: =E61/$E$66 -> 0.80636842 | H61: 16 | I61: 2 | J61: =H61*10 -> 160 | L61: =(D61-0.5)/H61 -> 43.96875 | M61: =(D61+0.4)/H61 -> 44.025 | R61: =ROUND(H61*P59,0) -> 704 | S61: =(R61-D61)/D61 -> 0
C62: 60 | D62: 704 | E62: =D62+E61 -> 16962 | F62: =E62/$E$66 -> 0.84128559 | H62: 16 | I62: 2 | J62: =H62*10 -> 160 | L62: =(D62-0.5)/H62 -> 43.96875 | M62: =(D62+0.4)/H62 -> 44.025 | R62: =ROUND(H62*P59,0) -> 704 | S62: =(R62-D62)/D62 -> 0
B63: =B59+1 -> 16 | C63: 61 | D63: 800 | E63: =D63+E62 -> 17762 | F63: =E63/$E$66 -> 0.88096419 | H63: 16 | I63: 2 | J63: =H63*10 -> 160 | L63: =(D63-0.5)/H63 -> 49.96875 | M63: =(D63+0.4)/H63 -> 50.025 | N63: =MAX(L63:L66) -> 49.96875 | O63: =MIN(M63:M66) -> 50.025 | P63: 50 | Q63: =ROUND(P63/P59,4) -> 1.1364 | R63: =ROUND(H63*P63,0) -> 800 | S63: =(R63-D63)/D63 -> 0
C64: 62 | D64: 800 | E64: =D64+E63 -> 18562 | F64: =E64/$E$66 -> 0.92064279 | H64: 16 | I64: 2 | J64: =H64*10 -> 160 | L64: =(D64-0.5)/H64 -> 49.96875 | M64: =(D64+0.4)/H64 -> 50.025 | R64: =ROUND(H64*P63,0) -> 800 | S64: =(R64-D64)/D64 -> 0
C65: 63 | D65: 800 | E65: =D65+E64 -> 19362 | F65: =E65/$E$66 -> 0.9603214 | H65: 16 | I65: 2 | J65: =H65*10 -> 160 | L65: =(D65-0.5)/H65 -> 49.96875 | M65: =(D65+0.4)/H65 -> 50.025 | R65: =ROUND(H65*P63,0) -> 800 | S65: =(R65-D65)/D65 -> 0
C66: 64 | D66: 800 | E66: =D66+E65 -> 20162 | F66: =E66/$E$66 -> 1 | H66: 16 | I66: 2 | J66: =H66*10 -> 160 | L66: =(D66-0.5)/H66 -> 49.96875 | M66: =(D66+0.4)/H66 -> 50.025 | R66: =ROUND(H66*P63,0) -> 800 | S66: =(R66-D66)/D66 -> 0
C68: Points | D68: % of Total
B69: Level 1 | C69: =SUM(D3:D18) -> 1301 | D69: =C69/$C$73 -> 0.064527329
B70: Level 2 | C70: =SUM(D19:D34) -> 2520 | D70: =C70/$C$73 -> 0.1249876
B71: Level 3 | C71: =SUM(D35:D50) -> 5653 | D71: =C71/$C$73 -> 0.28037893
B72: Level 4 | C72: =SUM(D51:D66) -> 10688 | D72: =C72/$C$73 -> 0.53010614
B73: Total | C73: =SUM(C69:C72) -> 20162 | D73: =C73/$C$73 -> 1
D77: Loss
D78: Enemies
D79: 16
D80: 16
D81: 16
D82: 16

Sheet PE Fight
H1: My Units | O1: Enemy Units | W1: Expedition Points / Unit | AC1: Prediction using Avg.
A2: GE Level | B2: Segment | C2: Encounter | D2: Expedition Points | E2: Cumulative EP | F2: Cumulative % of Total | G2: Combat Points | H2: Total | I2: PE | J2: ME | K2: PME | L2: Special | M2: Damage Taken | N2: Lost | O2: Attacker Bonus | P2: Total | Q2: InA | R2: PE | S2: Special | T2: Waves | U2: Damage Taken | W2: Lower Bound | X2: Upper Bound | Y2: Min bound | Z2: Max bound | AA2: Avg. | AB2: Apparent Increase | AC2: Expedition Points | AD2: % Error
A3: 1 | B3: 1 | C3: 1 | D3: 251 | E3: =D3 -> 251 | F3: =E3/$E$66 -> 0.0014908441 | G3: 4968 | H3: 8 | I3: 8 | J3: 0 | K3: 0 | L3: 0 | M3: 0 | N3: 0 | O3: 0.1 | P3: 3 | Q3: 3 | R3: 0 | S3: 0 | T3: 1 | U3: =P3*10 -> 30 | W3: =(D3-0.5)/P3 -> 83.5 | X3: =(D3+0.4)/P3 -> 83.8 | Y3: =MAX(W3:W6) -> 83.5 | Z3: =MIN(X3:X6) -> 83.6 | AA3: =IF((Y3+(Z3-Y3)/2)<Y3,Y3,Y3+(Z3-Y3)/2) -> 83.55 | AC3: =ROUND(P3*AA3,0) -> 251 | AD3: =(AC3-D3)/D3 -> 0
C4: 2 | D4: 334 | E4: =D4+E3 -> 585 | F4: =E4/$E$66 -> 0.0034746764 | G4: 5790 | H4: 8 | I4: 8 | J4: 0 | K4: 0 | L4: 0 | M4: 4 | N4: 0 | O4: 0.1 | P4: 4 | Q4: 4 | R4: 0 | S4: 0 | T4: 1 | U4: =P4*10 -> 40 | W4: =(D4-0.5)/P4 -> 83.375 | X4: =(D4+0.4)/P4 -> 83.6 | AC4: =ROUND(P4*AA3,0) -> 334 | AD4: =(AC4-D4)/D4 -> 0
C5: 3 | D5: 418 | E5: =D5+E4 -> 1003 | F5: =E5/$E$66 -> 0.0059574367 | G5: 6966 | H5: 8 | I5: 8 | J5: 0 | K5: 0 | L5: 0 | M5: 12 | N5: 0 | O5: 0.1 | P5: 5 | Q5: 5 | R5: 0 | S5: 0 | T5: 1 | U5: =P5*10 -> 50 | W5: =(D5-0.5)/P5 -> 83.5 | X5: =(D5+0.4)/P5 -> 83.68 | AC5: =ROUND(P5*AA3,0) -> 418 | AD5: =(AC5-D5)/D5 -> 0
C6: 4 | D6: 752 | E6: =D6+E5 -> 1755 | F6: =E6/$E$66 -> 0.010424029 | G6: 7488 | H6: 8 | I6: 0 | J6: 1 | K6: 0 | L6: 7 R | M6: 0 | N6: 0 | O6: 0.1 | P6: 9 | Q6: 9 | R6: 0 | S6: 0 | T6: 1 | U6: =P6*10 -> 90 | W6: =(D6-0.5)/P6 -> 83.5 | X6: =(D6+0.4)/P6 -> 83.6 | AC6: =ROUND(P6*AA3,0) -> 752 | AD6: =(AC6-D6)/D6 -> 0
B7: =B3+1 -> 2 | C7: 5 | D7: 439 | E7: =D7+E6 -> 2194 | F7: =E7/$E$66 -> 0.013031522 | G7: 7176 | H7: 8 | I7: 0 | J7: 1 | K7: 0 | L7: 7 R | M7: 0 | N7: 0 | O7: 0.15 | P7: 5 | Q7: 5 | R7: 0 | S7: 0 | T7: 1 | U7: =P7*10 -> 50 | W7: =(D7-0.5)/P7 -> 87.7 | X7: =(D7+0.4)/P7 -> 87.88 | Y7: =MAX(W7:W10) -> 87.75 | Z7: =MIN(X7:X10) -> 87.74 | AA7: =IF((Y7+(Z7-Y7)/2)<Y7,Y7,Y7+(Z7-Y7)/2) -> 87.75 | AB7: =ROUND(AA7/AA3,4) -> 1.0503 | AC7: =ROUND(P7*AA7,0) -> 439 | AD7: =(AC7-D7)/D7 -> 0
C8: 6 | D8: 527 | E8: =D8+E7 -> 2721 | F8: =E8/$E$66 -> 0.0161617 | G8: 8438 | H8: 8 | I8: 0 | J8: 1 | K8: 0 | L8: 7 R | M8: 1 | N8: 0 | O8: 0.15 | P8: 6 | Q8: 6 | R8: 0 | S8: 0 | T8: 1 | U8: =P8*10 -> 60 | W8: =(D8-0.5)/P8 -> 87.75 | X8: =(D8+0.4)/P8 -> 87.9 | AC8: =ROUND(P8*AA7,0) -> 527 | AD8: =(AC8-D8)/D8 -> 0
C9: 7 | D9: 614 | E9: =D9+E8 -> 3335 | F9: =E9/$E$66 -> 0.019808626 | G9: 9732 | H9: 8 | I9: 0 | J9: 1 | K9: 0 | L9: 7 R | M9: 6 | N9: 0 | O9: 0.15 | P9: 7 | Q9: 7 | R9: 0 | S9: 0 | T9: 1 | U9: =P9*10 -> 70 | W9: =(D9-0.5)/P9 -> 87.642857 | X9: =(D9+0.4)/P9 -> 87.771429 | AC9: =ROUND(P9*AA7,0) -> 614 | AD9: =(AC9-D9)/D9 -> 0
C10: 8 | D10: 877 | E10: =D10+E9 -> 4212 | F10: =E10/$E$66 -> 0.02501767 | G10: 6624 | H10: 8 | I10: 0 | J10: 1 | K10: 0 | L10: 7 R | M10: 5 | N10: 0 | O10: 0.15 | P10: 10 | Q10: 10 | R10: 0 | S10: 0 | T10: 1 | U10: =P10*10 -> 100 | W10: =(D10-0.5)/P10 -> 87.65 | X10: =(D10+0.4)/P10 -> 87.74 | AC10: =ROUND(P10*AA7,0) -> 878 | AD10: =(AC10-D10)/D10 -> 0.0011402509
B11: =B7+1 -> 3 | C11: 9 | D11: 643 | E11: =D11+E10 -> 4855 | F11: =E11/$E$66 -> 0.028836845 | G11: 10500 | H11: 8 | I11: 0 | J11: 1 | K11: 0 | L11: 7 R | M11: 0 | N11: 0 | O11: 0.2 | P11: 7 | Q11: 7 | R11: 0 | S11: 0 | T11: 1 | U11: =P11*10 -> 70 | W11: =(D11-0.5)/P11 -> 91.785714 | X11: =(D11+0.4)/P11 -> 91.914286 | Y11: =MAX(W11:W14) -> 91.863636 | Z11: =MIN(X11:X14) -> 91.914286 | AA11: =IF((Y11+(Z11-Y11)/2)<Y11,Y11,Y11+(Z11-Y11)/2) -> 91.888961 | AB11: =ROUND(AA11/AA7,4) -> 1.0472 | AC11: =ROUND(P11*AA11,0) -> 643 | AD11: =(AC11-D11)/D11 -> 0
C12: 10 | D12: 643 | E12: =D12+E11 -> 5498 | F12: =E12/$E$66 -> 0.032656019 | G12: 9960 | H12: 8 | I12: 0 | J12: 1 | K12: 0 | L12: 7 R | M12: 0 | N12: 0 | O12: 0.2 | P12: 7 | Q12: 7 | R12: 0 | S12: 0 | T12: 1 | U12: =P12*10 -> 70 | W12: =(D12-0.5)/P12 -> 91.785714 | X12: =(D12+0.4)/P12 -> 91.914286 | AC12: =ROUND(P12*AA11,0) -> 643 | AD12: =(AC12-D12)/D12 -> 0
C13: 11 | D13: 735 | E13: =D13+E12 -> 6233 | F13: =E13/$E$66 -> 0.037021638 | G13: 9072 | H13: 8 | I13: 0 | J13: 0 | K13: 1 | L13: 7 R | M13: 8 | N13: 0 | O13: 0.2 | P13: 8 | Q13: 8 | R13: 0 | S13: 0 | T13: 1 | U13: =P13*10 -> 80 | W13: =(D13-0.5)/P13 -> 91.8125 | X13: =(D13+0.4)/P13 -> 91.925 | AC13: =ROUND(P13*AA11,0) -> 735 | AD13: =(AC13-D13)/D13 -> 0
C14: 12 | D14: 1011 | E14: =D14+E13 -> 7244 | F14: =E14/$E$66 -> 0.043026592 | G14: 9936 | H14: 8 | I14: 0 | J14: 1 | K14: 0 | L14: 7 R | M14: 3 | N14: 0 | O14: 0.2 | P14: 11 | Q14: 11 | R14: 0 | S14: 0 | T14: 2 | U14: =P14*10 -> 110 | W14: =(D14-0.5)/P14 -> 91.863636 | X14: =(D14+0.4)/P14 -> 91.945455 | AC14: =ROUND(P14*AA11,0) -> 1011 | AD14: =(AC14-D14)/D14 -> 0
B15: =B11+1 -> 4 | C15: 13 | D15: 802 | E15: =D15+E14 -> 8046 | F15: =E15/$E$66 -> 0.047790165 | G15: 11390 | H15: 8 | I15: 0 | J15: 1 | K15: 0 | L15: 7 R | M15: 7 | N15: 0 | O15: 0.25 | P15: 8 | Q15: 8 | R15: 0 | S15: 0 | T15: 1 | U15: =P15*10 -> 80 | W15: =(D15-0.5)/P15 -> 100.1875 | X15: =(D15+0.4)/P15 -> 100.3 | Y15: =MAX(W15:W18) -> 100.20833 | Z15: =MIN(X15:X18) -> 100.28333 | AA15: =IF((Y15+(Z15-Y15)/2)<Y15,Y15,Y15+(Z15-Y15)/2) -> 100.24583 | AB15: =ROUND(AA15/AA11,4) -> 1.0909 | AC15: =ROUND(P15*AA15,0) -> 802 | AD15: =(AC15-D15)/D15 -> 0
C16: 14 | D16: 802 | E16: =D16+E15 -> 8848 | F16: =E16/$E$66 -> 0.052553739 | G16: 10512 | H16: 8 | I16: 0 | J16: 1 | K16: 0 | L16: 7 R | M16: 0 | N16: 0 | O16: 0.25 | P16: 8 | Q16: 8 | R16: 0 | S16: 0 | T16: 1 | U16: =P16*10 -> 80 | W16: =(D16-0.5)/P16 -> 100.1875 | X16: =(D16+0.4)/P16 -> 100.3 | AC16: =ROUND(P16*AA15,0) -> 802 | AD16: =(AC16-D16)/D16 -> 0
C17: 15 | D17: 802 | E17: =D17+E16 -> 9650 | F17: =E17/$E$66 -> 0.057317312 | G17: 10806 | H17: 8 | I17: 0 | J17: 1 | K17: 0 | L17: 7 R | M17: 3 | N17: 0 | O17: 0.25 | P17: 8 | Q17: 8 | R17: 0 | S17: 0 | T17: 1 | U17: =P17*10 -> 80 | W17: =(D17-0.5)/P17 -> 100.1875 | X17: =(D17+0.4)/P17 -> 100.3 | AC17: =ROUND(P17*AA15,0) -> 802 | AD17: =(AC17-D17)/D17 -> 0
C18: 16 | D18: 1203 | E18: =D18+E17 -> 10853 | F18: =E18/$E$66 -> 0.064462672 | G18: 9212 | H18: 8 | I18: 0 | J18: 1 | K18: 0 | L18: 7 R | M18: 8 | N18: 0 | O18: 0.25 | P18: 12 | Q18: 11 | R18: 0 | S18: 1 SB | T18: 2 | U18: =P18*10 -> 120 | W18: =(D18-0.5)/P18 -> 100.20833 | X18: =(D18+0.4)/P18 -> 100.28333 | AC18: =ROUND(P18*AA15,0) -> 1203 | AD18: =(AC18-D18)/D18 -> 0
A19: =A3+1 -> 2 | B19: =B15+1 -> 5 | C19: 17 | D19: 869 | E19: =D19+E18 -> 11722 | F19: =E19/$E$66 -> 0.0696242 | G19: 10308 | H19: 8 | I19: 0 | J19: 0 | K19: 1 | L19: 7 R | M19: 10 | N19: 0 | O19: 0.25 | P19: 8 | Q19: 7 | R19: 1 | S19: 0 | T19: 1 | U19: =P19*10 -> 80 | W19: =(D19-0.5)/P19 -> 108.5625 | X19: =(D19+0.4)/P19 -> 108.675 | Y19: =MAX(W19:W22) -> 108.57692 | Z19: =MIN(X19:X22) -> 108.64615 | AA19: =IF((Y19+(Z19-Y19)/2)<Y19,Y19,Y19+(Z19-Y19)/2) -> 108.61154 | AB19: =ROUND(AA19/AA15,4) -> 1.0835 | AC19: =ROUND(P19*AA19,0) -> 869 | AD19: =(AC19-D19)/D19 -> 0
C20: 18 | D20: 869 | E20: =D20+E19 -> 12591 | F20: =E20/$E$66 -> 0.074785728 | G20: 10476 | H20: 8 | I20: 0 | J20: 1 | K20: 0 | L20: 7 R | M20: 7 | N20: 0 | O20: 0.25 | P20: 8 | Q20: 6 | R20: 2 | S20: 0 | T20: 1 | U20: =P20*10 -> 80 | W20: =(D20-0.5)/P20 -> 108.5625 | X20: =(D20+0.4)/P20 -> 108.675 | AC20: =ROUND(P20*AA19,0) -> 869 | AD20: =(AC20-D20)/D20 -> 0
C21: 19 | D21: 869 | E21: =D21+E20 -> 13460 | F21: =E21/$E$66 -> 0.079947256 | G21: 12076 | H21: 8 | I21: 0 | J21: 1 | K21: 0 | L21: 7 R | M21: 14 | N21: 1 | O21: 0.25 | P21: 8 | Q21: 6 | R21: 2 | S21: 0 | T21: 1 | U21: =P21*10 -> 80 | W21: =(D21-0.5)/P21 -> 108.5625 | X21: =(D21+0.4)/P21 -> 108.675 | AC21: =ROUND(P21*AA19,0) -> 869 | AD21: =(AC21-D21)/D21 -> 0
C22: 20 | D22: 1412 | E22: =D22+E21 -> 14872 | F22: =E22/$E$66 -> 0.088333997 | G22: 13812 | H22: 8 | I22: 0 | J22: 1 | K22: 0 | L22: 7 R | M22: 9 | N22: 0 | O22: 0.25 | P22: 13 | Q22: 9 | R22: 3 | S22: 1 SB | T22: 2 | U22: =P22*10 -> 130 | W22: =(D22-0.5)/P22 -> 108.57692 | X22: =(D22+0.4)/P22 -> 108.64615 | AC22: =ROUND(P22*AA19,0) -> 1412 | AD22: =(AC22-D22)/D22 -> 0
B23: =B19+1 -> 6 | C23: 21 | D23: 969 | E23: =D23+E22 -> 15841 | F23: =E23/$E$66 -> 0.094089486 | G23: 12108 | H23: 8 | I23: 0 | J23: 1 | K23: 0 | L23: 7 R | M23: 6 | N23: 0 | O23: 0.25 | P23: 8 | Q23: 5 | R23: 3 | S23: 0 | T23: 1 | U23: =P23*10 -> 80 | W23: =(D23-0.5)/P23 -> 121.0625 | X23: =(D23+0.4)/P23 -> 121.175 | Y23: =MAX(W23:W26) -> 121.10714 | Z23: =MIN(X23:X26) -> 121.17143 | AA23: =IF((Y23+(Z23-Y23)/2)<Y23,Y23,Y23+(Z23-Y23)/2) -> 121.13929 | AB23: =ROUND(AA23/AA19,4) -> 1.1153 | AC23: =ROUND(P23*AA23,0) -> 969 | AD23: =(AC23-D23)/D23 -> 0
C24: 22 | D24: 969 | E24: =D24+E23 -> 16810 | F24: =E24/$E$66 -> 0.099844976 | G24: 11130 | H24: 8 | I24: 0 | J24: 1 | K24: 0 | L24: 7 R | M24: 3 | N24: 0 | O24: 0.25 | P24: 8 | Q24: 4 | R24: 4 | S24: 0 | T24: 1 | U24: =P24*10 -> 80 | W24: =(D24-0.5)/P24 -> 121.0625 | X24: =(D24+0.4)/P24 -> 121.175 | AC24: =ROUND(P24*AA23,0) -> 969 | AD24: =(AC24-D24)/D24 -> 0
C25: 23 | D25: 969 | E25: =D25+E24 -> 17779 | F25: =E25/$E$66 -> 0.10560047 | G25: 13140 | H25: 8 | I25: 0 | J25: 1 | K25: 0 | L25: 7 R | M25: 0 | N25: 0 | O25: 0.25 | P25: 8 | Q25: 4 | R25: 4 | S25: 0 | T25: 1 | U25: =P25*10 -> 80 | W25: =(D25-0.5)/P25 -> 121.0625 | X25: =(D25+0.4)/P25 -> 121.175 | AC25: =ROUND(P25*AA23,0) -> 969 | AD25: =(AC25-D25)/D25 -> 0
C26: 24 | D26: 1696 | E26: =D26+E25 -> 19475 | F26: =E26/$E$66 -> 0.11567406 | G26: 19548 | H26: 8 | I26: 0 | J26: 1 | K26: 0 | L26: 7 R | M26: 3 | N26: 0 | O26: 0.25 | P26: 14 | Q26: 8 | R26: 5 | S26: 1 SB | T26: 2 | U26: =P26*10 -> 140 | W26: =(D26-0.5)/P26 -> 121.10714 | X26: =(D26+0.4)/P26 -> 121.17143 | AC26: =ROUND(P26*AA23,0) -> 1696 | AD26: =(AC26-D26)/D26 -> 0
B27: =B23+1 -> 7 | C27: 25 | D27: 1069 | E27: =D27+E26 -> 20544 | F27: =E27/$E$66 -> 0.12202351 | G27: 11952 | H27: 8 | I27: 0 | J27: 0 | K27: 1 | L27: 7 R | M27: 11 | N27: 0 | O27: 0.3 | P27: 8 | Q27: 3 | R27: 5 | S27: 0 | T27: 1 | U27: =P27*10 -> 80 | W27: =(D27-0.5)/P27 -> 133.5625 | X27: =(D27+0.4)/P27 -> 133.675 | Y27: =MAX(W27:W30) -> 133.56667 | Z27: =MIN(X27:X30) -> 133.62667 | AA27: =IF((Y27+(Z27-Y27)/2)<Y27,Y27,Y27+(Z27-Y27)/2) -> 133.59667 | AB27: =ROUND(AA27/AA23,4) -> 1.1028 | AC27: =ROUND(P27*AA27,0) -> 1069 | AD27: =(AC27-D27)/D27 -> 0
C28: 26 | D28: 1069 | E28: =D28+E27 -> 21613 | F28: =E28/$E$66 -> 0.12837296 | G28: 13284 | H28: 8 | I28: 0 | J28: 0 | K28: 1 | L28: 7 R | M28: 16 | N28: 0 | O28: 0.3 | P28: 8 | Q28: 2 | R28: 6 | S28: 0 | T28: 1 | U28: =P28*10 -> 80 | W28: =(D28-0.5)/P28 -> 133.5625 | X28: =(D28+0.4)/P28 -> 133.675 | AC28: =ROUND(P28*AA27,0) -> 1069 | AD28: =(AC28-D28)/D28 -> 0
C29: 27 | D29: 1069 | E29: =D29+E28 -> 22682 | F29: =E29/$E$66 -> 0.13472241 | G29: 13158 | H29: 8 | I29: 0 | J29: 1 | K29: 0 | L29: 7 R | M29: 9 | N29: 0 | O29: 0.3 | P29: 8 | Q29: 2 | R29: 6 | S29: 0 | T29: 1 | U29: =P29*10 -> 80 | W29: =(D29-0.5)/P29 -> 133.5625 | X29: =(D29+0.4)/P29 -> 133.675 | AC29: =ROUND(P29*AA27,0) -> 1069 | AD29: =(AC29-D29)/D29 -> 0
C30: 28 | D30: 2004 | E30: =D30+E29 -> 24686 | F30: =E30/$E$66 -> 0.14662541 | G30: 20376 | H30: 8 | I30: 0 | J30: 0 | K30: 1 | L30: 7 R | M30: 16 | N30: 0 | O30: 0.3 | P30: 15 | Q30: 8 | R30: 6 | S30: 1 R | T30: 2 | U30: =P30*10 -> 150 | W30: =(D30-0.5)/P30 -> 133.56667 | X30: =(D30+0.4)/P30 -> 133.62667 | AC30: =ROUND(P30*AA27,0) -> 2004 | AD30: =(AC30-D30)/D30 -> 0
B31: =B27+1 -> 8 | C31: 29 | D31: 1503 | E31: =D31+E30 -> 26189 | F31: =E31/$E$66 -> 0.15555265 | G31: 12288 | H31: 8 | I31: 0 | J31: 1 | K31: 0 | L31: 7 R | M31: 2 | N31: 0 | O31: 0.4 | P31: 10 | Q31: 3 | R31: 7 | S31: 0 | T31: 2 | U31: =P31*10 -> 100 | W31: =(D31-0.5)/P31 -> 150.25 | X31: =(D31+0.4)/P31 -> 150.34 | Y31: =MAX(W31:W34) -> 150.31818 | Z31: =MIN(X31:X34) -> 150.3375 | AA31: =IF((Y31+(Z31-Y31)/2)<Y31,Y31,Y31+(Z31-Y31)/2) -> 150.32784 | AB31: =ROUND(AA31/AA27,4) -> 1.1252 | AC31: =ROUND(P31*AA31,0) -> 1503 | AD31: =(AC31-D31)/D31 -> 0
C32: 30 | D32: 1654 | E32: =D32+E31 -> 27843 | F32: =E32/$E$66 -> 0.16537678 | G32: 12000 | H32: 8 | I32: 0 | J32: 1 | K32: 0 | L32: 7 R | M32: 6 | N32: 0 | O32: 0.4 | P32: 11 | Q32: 3 | R32: 8 | S32: 0 | T32: 2 | U32: =P32*10 -> 110 | W32: =(D32-0.5)/P32 -> 150.31818 | X32: =(D32+0.4)/P32 -> 150.4 | AC32: =ROUND(P32*AA31,0) -> 1654 | AD32: =(AC32-D32)/D32 -> 0
C33: 31 | D33: 1654 | E33: =D33+E32 -> 29497 | F33: =E33/$E$66 -> 0.17520091 | G33: 11880 | H33: 8 | I33: 0 | J33: 0 | K33: 1 | L33: 7 R | M33: 9 | N33: 0 | O33: 0.4 | P33: 11 | Q33: 3 | R33: 8 | S33: 0 | T33: 2 | U33: =P33*10 -> 110 | W33: =(D33-0.5)/P33 -> 150.31818 | X33: =(D33+0.4)/P33 -> 150.4 | AC33: =ROUND(P33*AA31,0) -> 1654 | AD33: =(AC33-D33)/D33 -> 0
C34: 32 | D34: 2405 | E34: =D34+E33 -> 31902 | F34: =E34/$E$66 -> 0.18948569 | G34: 25056 | H34: 8 | I34: 0 | J34: 0 | K34: 1 | L34: 7 R | M34: 5 | N34: 0 | O34: 0.4 | P34: 16 | Q34: 6 | R34: 9 | S34: 1 C | T34: 2 | U34: =P34*10 -> 160 | W34: =(D34-0.5)/P34 -> 150.28125 | X34: =(D34+0.4)/P34 -> 150.3375 | AC34: =ROUND(P34*AA31,0) -> 2405 | AD34: =(AC34-D34)/D34 -> 0
A35: =A19+1 -> 3 | B35: =B31+1 -> 9 | C35: 33 | D35: 1837 | E35: =D35+E34 -> 33739 | F35: =E35/$E$66 -> 0.20039677 | G35: 12216 | H35: 8 | I35: 0 | J35: 0 | K35: 1 | L35: 7 R | M35: 17 | N35: 0 | O35: 0.5 | P35: 11 | Q35: 2 | R35: 9 | S35: 0 | T35: 2 | U35: =P35*10 -> 110 | W35: =(D35-0.5)/P35 -> 166.95455 | X35: =(D35+0.4)/P35 -> 167.03636 | Y35: =MAX(W35:W38) -> 166.96875 | Z35: =MIN(X35:X38) -> 167.025 | AA35: =IF((Y35+(Z35-Y35)/2)<Y35,Y35,Y35+(Z35-Y35)/2) -> 166.99687 | AB35: =ROUND(AA35/AA31,4) -> 1.1109 | AC35: =ROUND(P35*AA35,0) -> 1837 | AD35: =(AC35-D35)/D35 -> 0
C36: 34 | D36: 2004 | E36: =D36+E35 -> 35743 | F36: =E36/$E$66 -> 0.21229976 | G36: 15312 | H36: 8 | I36: 0 | J36: 0 | K36: 1 | L36: 7 R | M36: 1 | N36: 0 | O36: 0.5 | P36: 12 | Q36: 2 | R36: 10 | S36: 0 | T36: 2 | U36: =P36*10 -> 120 | W36: =(D36-0.5)/P36 -> 166.95833 | X36: =(D36+0.4)/P36 -> 167.03333 | AC36: =ROUND(P36*AA35,0) -> 2004 | AD36: =(AC36-D36)/D36 -> 0
C37: 35 | D37: 2004 | E37: =D37+E36 -> 37747 | F37: =E37/$E$66 -> 0.22420275 | G37: 13968 | H37: 8 | I37: 0 | J37: 1 | K37: 0 | L37: 7 R | M37: 11 | N37: 0 | O37: 0.5 | P37: 12 | Q37: 2 | R37: 10 | S37: 0 | T37: 2 | U37: =P37*10 -> 120 | W37: =(D37-0.5)/P37 -> 166.95833 | X37: =(D37+0.4)/P37 -> 167.03333 | AC37: =ROUND(P37*AA35,0) -> 2004 | AD37: =(AC37-D37)/D37 -> 0
C38: 36 | D38: 2672 | E38: =D38+E37 -> 40419 | F38: =E38/$E$66 -> 0.24007341 | G38: 25256 | H38: 8 | I38: 0 | J38: 1 | K38: 0 | L38: 7 R | M38: 8 | N38: 0 | O38: 0.5 | P38: 16 | Q38: 7 | R38: 10 | S38: 1 R | T38: 2 | U38: =P38*10 -> 160 | W38: =(D38-0.5)/P38 -> 166.96875 | X38: =(D38+0.4)/P38 -> 167.025 | AC38: =ROUND(P38*AA35,0) -> 2672 | AD38: =(AC38-D38)/D38 -> 0
B39: =B35+1 -> 10 | C39: 37 | D39: 2497 | E39: =D39+E38 -> 42916 | F39: =E39/$E$66 -> 0.25490464 | G39: 20496 | H39: 8 | I39: 0 | J39: 1 | K39: 0 | L39: 7 R | M39: 5 | N39: 0 | O39: 0.55 | P39: 13 | Q39: 2 | R39: 11 | S39: 0 | T39: 2 | U39: =P39*10 -> 130 | W39: =(D39-0.5)/P39 -> 192.03846 | X39: =(D39+0.4)/P39 -> 192.10769 | Y39: =MAX(W39:W42) -> 192.03846 | Z39: =MIN(X39:X42) -> 192.0875 | AA39: =IF((Y39+(Z39-Y39)/2)<Y39,Y39,Y39+(Z39-Y39)/2) -> 192.06298 | AB39: =ROUND(AA39/AA35,4) -> 1.1501 | AC39: =ROUND(P39*AA39,0) -> 2497 | AD39: =(AC39-D39)/D39 -> 0
C40: 38 | D40: 2497 | E40: =D40+E39 -> 45413 | F40: =E40/$E$66 -> 0.26973587 | G40: 21408 | H40: 8 | I40: 0 | J40: 1 | K40: 0 | L40: 7 R | M40: 15 | N40: 1 | O40: 0.55 | P40: 13 | Q40: 1 | R40: 12 | S40: 0 | T40: 2 | U40: =P40*10 -> 130 | W40: =(D40-0.5)/P40 -> 192.03846 | X40: =(D40+0.4)/P40 -> 192.10769 | AC40: =ROUND(P40*AA39,0) -> 2497 | AD40: =(AC40-D40)/D40 -> 0
C41: 39 | D41: 2497 | E41: =D41+E40 -> 47910 | F41: =E41/$E$66 -> 0.28456709 | G41: 17184 | H41: 8 | I41: 0 | J41: 1 | K41: 0 | L41: 7 R | M41: 7 | N41: 0 | O41: 0.55 | P41: 13 | Q41: 1 | R41: 12 | S41: 0 | T41: 2 | U41: =P41*10 -> 130 | W41: =(D41-0.5)/P41 -> 192.03846 | X41: =(D41+0.4)/P41 -> 192.10769 | AC41: =ROUND(P41*AA39,0) -> 2497 | AD41: =(AC41-D41)/D41 -> 0
C42: 40 | D42: 3073 | E42: =D42+E41 -> 50983 | F42: =E42/$E$66 -> 0.30281954 | G42: 23616 | H42: 8 | I42: 0 | J42: 0 | K42: 1 | L42: 7 R | M42: 17 | N42: 0 | O42: 0.55 | P42: 16 | Q42: 3 | R42: 12 | S42: 1 R | T42: 2 | U42: =P42*10 -> 160 | W42: =(D42-0.5)/P42 -> 192.03125 | X42: =(D42+0.4)/P42 -> 192.0875 | AC42: =ROUND(P42*AA39,0) -> 3073 | AD42: =(AC42-D42)/D42 -> 0
B43: =B39+1 -> 11 | C43: 41 | D43: 3040 | E43: =D43+E42 -> 54023 | F43: =E43/$E$66 -> 0.32087597 | G43: 24360 | H43: 8 | I43: 0 | J43: 0 | K43: 1 | L43: 7 R | M43: 12 | N43: 1 | O43: 0.6 | P43: 14 | Q43: 1 | R43: 13 | S43: 0 | T43: 2 | U43: =P43*10 -> 140 | W43: =(D43-0.5)/P43 -> 217.10714 | X43: =(D43+0.4)/P43 -> 217.17143 | Y43: =MAX(W43:W46) -> 217.10714 | Z43: =MIN(X43:X46) -> 217.15 | AA43: =IF((Y43+(Z43-Y43)/2)<Y43,Y43,Y43+(Z43-Y43)/2) -> 217.12857 | AB43: =ROUND(AA43/AA39,4) -> 1.1305 | AC43: =ROUND(P43*AA43,0) -> 3040 | AD43: =(AC43-D43)/D43 -> 0
C44: 42 | D44: 3040 | E44: =D44+E43 -> 57063 | F44: =E44/$E$66 -> 0.33893241 | G44: 24936 | H44: 8 | I44: 0 | J44: 0 | K44: 1 | L44: 7 R | M44: 14 | N44: 0 | O44: 0.6 | P44: 14 | Q44: 0 | R44: 14 | S44: 0 | T44: 2 | U44: =P44*10 -> 140 | W44: =(D44-0.5)/P44 -> 217.10714 | X44: =(D44+0.4)/P44 -> 217.17143 | AC44: =ROUND(P44*AA43,0) -> 3040 | AD44: =(AC44-D44)/D44 -> 0
C45: 43 | D45: 3040 | E45: =D45+E44 -> 60103 | F45: =E45/$E$66 -> 0.35698885 | G45: 23256 | H45: 8 | I45: 0 | J45: 1 | K45: 0 | L45: 7 R | M45: 12 | N45: 0 | O45: 0.6 | P45: 14 | Q45: 0 | R45: 14 | S45: 0 | T45: 2 | U45: =P45*10 -> 140 | W45: =(D45-0.5)/P45 -> 217.10714 | X45: =(D45+0.4)/P45 -> 217.17143 | AC45: =ROUND(P45*AA43,0) -> 3040 | AD45: =(AC45-D45)/D45 -> 0
C46: 44 | D46: 3474 | E46: =D46+E45 -> 63577 | F46: =E46/$E$66 -> 0.37762308 | G46: 27944 | H46: 8 | I46: 0 | J46: 1 | K46: 0 | L46: 7 R | M46: 20 | N46: 1 | O46: 0.6 | P46: 16 | Q46: 0 | R46: 15 | S46: 1 R | T46: 2 | U46: =P46*10 -> 160 | W46: =(D46-0.5)/P46 -> 217.09375 | X46: =(D46+0.4)/P46 -> 217.15 | AC46: =ROUND(P46*AA43,0) -> 3474 | AD46: =(AC46-D46)/D46 -> 0
B47: =B43+1 -> 12 | C47: 45 | D47: 3758 | E47: =D47+E46 -> 67335 | F47: =E47/$E$66 -> 0.39994417 | G47: 32080 | H47: 8 | I47: 0 | J47: 1 | K47: 0 | L47: 7 R | M47: 16 | N47: 0 | O47: 0.65 | P47: 15 | R47: 15 | S47: 0 | T47: 2 | U47: =P47*10 -> 150 | W47: =(D47-0.5)/P47 -> 250.5 | X47: =(D47+0.4)/P47 -> 250.56 | Y47: =MAX(W47:W50) -> 250.5 | Z47: =MIN(X47:X50) -> 250.525 | AA47: =IF((Y47+(Z47-Y47)/2)<Y47,Y47,Y47+(Z47-Y47)/2) -> 250.5125 | AB47: =ROUND(AA47/AA43,4) -> 1.1538 | AC47: =ROUND(P47*AA47,0) -> 3758 | AD47: =(AC47-D47)/D47 -> 0
C48: 46 | D48: 3758 | E48: =D48+E47 -> 71093 | F48: =E48/$E$66 -> 0.42226525 | G48: 27624 | H48: 8 | I48: 0 | J48: 0 | K48: 1 | L48: 7 R | M48: 25 | N48: 1 | O48: 0.65 | P48: 15 | R48: 15 | S48: 0 | T48: 2 | U48: =P48*10 -> 150 | W48: =(D48-0.5)/P48 -> 250.5 | X48: =(D48+0.4)/P48 -> 250.56 | AC48: =ROUND(P48*AA47,0) -> 3758 | AD48: =(AC48-D48)/D48 -> 0
C49: 47 | D49: 4008 | E49: =D49+E48 -> 75101 | F49: =E49/$E$66 -> 0.44607124 | G49: 26784 | H49: 8 | I49: 0 | J49: 0 | K49: 1 | L49: 7 R | M49: 21 | N49: 1 | O49: 0.65 | P49: 16 | R49: 16 | S49: 0 | T49: 2 | U49: =P49*10 -> 160 | W49: =(D49-0.5)/P49 -> 250.46875 | X49: =(D49+0.4)/P49 -> 250.525 | AC49: =ROUND(P49*AA47,0) -> 4008 | AD49: =(AC49-D49)/D49 -> 0
C50: 48 | D50: 4008 | E50: =D50+E49 -> 79109 | F50: =E50/$E$66 -> 0.46987723 | G50: 31032 | H50: 8 | I50: 0 | J50: 0 | K50: 1 | L50: 7 R | M50: 11 | N50: 1 | O50: 0.65 | P50: 16 | R50: 15 | S50: 1 C | T50: 2 | U50: =P50*10 -> 160 | W50: =(D50-0.5)/P50 -> 250.46875 | X50: =(D50+0.4)/P50 -> 250.525 | AC50: =ROUND(P50*AA47,0) -> 4008 | AD50: =(AC50-D50)/D50 -> 0
A51: =A35+1 -> 4 | B51: =B47+1 -> 13 | C51: 49 | D51: 4543 | E51: =D51+E50 -> 83652 | F51: =E51/$E$66 -> 0.49686091 | G51: 22992 | H51: 8 | I51: 0 | J51: 1 | K51: 0 | L51: 7 R | M51: 4 | N51: 0 | O51: 0.7 | P51: 16 | R51: 12 | S51: 4 R | T51: 2 | U51: =P51*10 -> 160 | W51: =(D51-0.5)/P51 -> 283.90625 | X51: =(D51+0.4)/P51 -> 283.9625 | Y51: =MAX(W51:W54) -> 283.90625 | Z51: =MIN(X51:X54) -> 283.9625 | AA51: =IF((Y51+(Z51-Y51)/2)<Y51,Y51,Y51+(Z51-Y51)/2) -> 283.93437 | AB51: =ROUND(AA51/AA47,4) -> 1.1334 | AC51: =ROUND(P51*AA51,0) -> 4543 | AD51: =(AC51-D51)/D51 -> 0
C52: 50 | D52: 4543 | E52: =D52+E51 -> 88195 | F52: =E52/$E$66 -> 0.5238446 | G52: 34344 | H52: 8 | I52: 0 | J52: 1 | K52: 0 | L52: 7 R | M52: 8 | N52: 0 | O52: 0.7 | P52: 16 | R52: 14 | S52: 2 R | T52: 2 | U52: =P52*10 -> 160 | W52: =(D52-0.5)/P52 -> 283.90625 | X52: =(D52+0.4)/P52 -> 283.9625 | AC52: =ROUND(P52*AA51,0) -> 4543 | AD52: =(AC52-D52)/D52 -> 0
C53: 51 | D53: 4543 | E53: =D53+E52 -> 92738 | F53: =E53/$E$66 -> 0.55082828 | G53: 27888 | H53: 8 | I53: 0 | J53: 1 | K53: 0 | L53: 7 R | M53: 23 | N53: 1 | O53: 0.75 | P53: 16 | R53: 16 | S53: 0 | T53: 2 | U53: =P53*10 -> 160 | W53: =(D53-0.5)/P53 -> 283.90625 | X53: =(D53+0.4)/P53 -> 283.9625 | AC53: =ROUND(P53*AA51,0) -> 4543 | AD53: =(AC53-D53)/D53 -> 0
C54: 52 | D54: 4543 | E54: =D54+E53 -> 97281 | F54: =E54/$E$66 -> 0.57781196 | G54: 30372 | H54: 8 | I54: 0 | J54: 1 | K54: 0 | L54: 7 R | M54: 17 | N54: 1 | O54: 0.8 | P54: 16 | R54: 14 | S54: 1R, 1C | T54: 2 | U54: =P54*10 -> 160 | W54: =(D54-0.5)/P54 -> 283.90625 | X54: =(D54+0.4)/P54 -> 283.9625 | AC54: =ROUND(P54*AA51,0) -> 4543 | AD54: =(AC54-D54)/D54 -> 0
B55: =B51+1 -> 14 | C55: 53 | D55: 5211 | E55: =D55+E54 -> 102492 | F55: =E55/$E$66 -> 0.60876331 | G55: 32376 | H55: 8 | I55: 0 | J55: 1 | K55: 0 | L55: 7 R | M55: 16 | N55: 1 | O55: 0.75 | P55: 16 | R55: 14 | S55: 2 R | T55: 2 | U55: =P55*10 -> 160 | W55: =(D55-0.5)/P55 -> 325.65625 | X55: =(D55+0.4)/P55 -> 325.7125 | Y55: =MAX(W55:W58) -> 325.65625 | Z55: =MIN(X55:X58) -> 325.7125 | AA55: =IF((Y55+(Z55-Y55)/2)<Y55,Y55,Y55+(Z55-Y55)/2) -> 325.68437 | AB55: =ROUND(AA55/AA51,4) -> 1.147 | AC55: =ROUND(P55*AA55,0) -> 5211 | AD55: =(AC55-D55)/D55 -> 0
C56: 54 | D56: 5211 | E56: =D56+E55 -> 107703 | F56: =E56/$E$66 -> 0.63971466 | G56: 32260 | H56: 8 | I56: 0 | J56: 1 | K56: 0 | L56: 7 R | M56: 35 | N56: 1 | O56: 0.75 | P56: 16 | R56: 14 | S56: 2 R | T56: 2 | U56: =P56*10 -> 160 | W56: =(D56-0.5)/P56 -> 325.65625 | X56: =(D56+0.4)/P56 -> 325.7125 | AC56: =ROUND(P56*AA55,0) -> 5211 | AD56: =(AC56-D56)/D56 -> 0
C57: 55 | D57: 5211 | E57: =D57+E56 -> 112914 | F57: =E57/$E$66 -> 0.67066601 | G57: 27024 | H57: 8 | I57: 0 | J57: 0 | K57: 1 | L57: 7 R | M57: 27 | N57: 1 | O57: 0.8 | P57: 16 | R57: 16 | S57: 0 | T57: 2 | U57: =P57*10 -> 160 | W57: =(D57-0.5)/P57 -> 325.65625 | X57: =(D57+0.4)/P57 -> 325.7125 | AC57: =ROUND(P57*AA55,0) -> 5211 | AD57: =(AC57-D57)/D57 -> 0
C58: 56 | D58: 5211 | E58: =D58+E57 -> 118125 | F58: =E58/$E$66 -> 0.70161736 | G58: 22896 | H58: 8 | I58: 0 | J58: 0 | K58: 1 | L58: 7 R | M58: 25 | N58: 0 | O58: 0.85 | P58: 16 | T58: 2 | U58: =P58*10 -> 160 | W58: =(D58-0.5)/P58 -> 325.65625 | X58: =(D58+0.4)/P58 -> 325.7125 | AC58: =ROUND(P58*AA55,0) -> 5211 | AD58: =(AC58-D58)/D58 -> 0
B59: =B55+1 -> 15 | C59: 57 | D59: 5879 | E59: =D59+E58 -> 124004 | F59: =E59/$E$66 -> 0.73653637 | G59: 14952 | H59: 8 | I59: 0 | J59: 0 | K59: 1 | L59: 7 R | M59: 42 | N59: 3 | O59: 0.8 | P59: 16 | R59: 16 | S59: 0 | T59: 2 | U59: =P59*10 -> 160 | W59: =(D59-0.5)/P59 -> 367.40625 | X59: =(D59+0.4)/P59 -> 367.4625 | Y59: =MAX(W59:W62) -> 367.40625 | Z59: =MIN(X59:X62) -> 367.4625 | AA59: =IF((Y59+(Z59-Y59)/2)<Y59,Y59,Y59+(Z59-Y59)/2) -> 367.43437 | AB59: =ROUND(AA59/AA55,4) -> 1.1282 | AC59: =ROUND(P59*AA59,0) -> 5879 | AD59: =(AC59-D59)/D59 -> 0
C60: 58 | D60: 5879 | E60: =D60+E59 -> 129883 | F60: =E60/$E$66 -> 0.77145538 | G60: 25504 | H60: 8 | I60: 0 | J60: 1 | K60: 0 | L60: 7 R | M60: 60 | N60: 5 | O60: 0.85 | P60: 16 | R60: 16 | S60: 0 | T60: 2 | U60: =P60*10 -> 160 | W60: =(D60-0.5)/P60 -> 367.40625 | X60: =(D60+0.4)/P60 -> 367.4625 | AC60: =ROUND(P60*AA59,0) -> 5879 | AD60: =(AC60-D60)/D60 -> 0
C61: 59 | D61: 5879 | E61: =D61+E60 -> 135762 | F61: =E61/$E$66 -> 0.8063744 | H61: 8 | I61: 0 | J61: 1 | K61: 0 | L61: 7R | M61: 28 | N61: 1 | O61: 0.85 | P61: 16 | R61: 16 | S61: 0 | T61: 2 | U61: =P61*10 -> 160 | W61: =(D61-0.5)/P61 -> 367.40625 | X61: =(D61+0.4)/P61 -> 367.4625 | AC61: =ROUND(P61*AA59,0) -> 5879 | AD61: =(AC61-D61)/D61 -> 0
C62: 60 | D62: 5879 | E62: =D62+E61 -> 141641 | F62: =E62/$E$66 -> 0.84129341 | G62: 36384 | H62: 8 | I62: 0 | J62: 0 | K62: 1 | L62: 7 R | M62: 25 | N62: 2 | O62: 1 | P62: 16 | R62: 15 | S62: 1C | T62: 2 | U62: =P62*10 -> 160 | W62: =(D62-0.5)/P62 -> 367.40625 | X62: =(D62+0.4)/P62 -> 367.4625 | AC62: =ROUND(P62*AA59,0) -> 5879 | AD62: =(AC62-D62)/D62 -> 0
B63: =B59+1 -> 16 | C63: 61 | D63: 6680 | E63: =D63+E62 -> 148321 | F63: =E63/$E$66 -> 0.88097006 | G63: 32004 | H63: 8 | I63: 0 | J63: 1 | K63: 0 | L63: 7 R | M63: 28 | N63: 2 | O63: 0.85 | P63: 16 | R63: 16 | S63: 0 | T63: 2 | U63: =P63*10 -> 160 | W63: =(D63-0.5)/P63 -> 417.46875 | X63: =(D63+0.4)/P63 -> 417.525 | Y63: =MAX(W63:W66) -> 417.46875 | Z63: =MIN(X63:X66) -> 417.525 | AA63: =IF((Y63+(Z63-Y63)/2)<Y63,Y63,Y63+(Z63-Y63)/2) -> 417.49687 | AB63: =ROUND(AA63/AA59,4) -> 1.1362 | AC63: =ROUND(P63*AA63,0) -> 6680 | AD63: =(AC63-D63)/D63 -> 0
C64: 62 | D64: 6680 | E64: =D64+E63 -> 155001 | F64: =E64/$E$66 -> 0.92064671 | G64: 32112 | H64: 8 | I64: 0 | J64: 0 | K64: 1 | L64: 7 R | M64: 19 | N64: 0 | O64: 0.95 | P64: 16 | R64: 16 | S64: 0 | T64: 2 | U64: =P64*10 -> 160 | W64: =(D64-0.5)/P64 -> 417.46875 | X64: =(D64+0.4)/P64 -> 417.525 | AC64: =ROUND(P64*AA63,0) -> 6680 | AD64: =(AC64-D64)/D64 -> 0
C65: 63 | D65: 6680 | E65: =D65+E64 -> 161681 | F65: =E65/$E$66 -> 0.96032335 | G65: 37032 | H65: 8 | I65: 0 | J65: 0 | K65: 1 | L65: 7 R | M65: 28 | N65: 1 | O65: 0.95 | P65: 16 | T65: 2 | U65: =P65*10 -> 160 | W65: =(D65-0.5)/P65 -> 417.46875 | X65: =(D65+0.4)/P65 -> 417.525 | AC65: =ROUND(P65*AA63,0) -> 6680 | AD65: =(AC65-D65)/D65 -> 0
C66: 64 | D66: 6680 | E66: =D66+E65 -> 168361 | F66: =E66/$E$66 -> 1 | G66: 28152 | H66: 8 | I66: 0 | J66: 0 | K66: 1 | L66: 7 R | M66: 27 | N66: 1 | O66: 1 | P66: 16 | T66: 2 | U66: =P66*10 -> 160 | W66: =(D66-0.5)/P66 -> 417.46875 | X66: =(D66+0.4)/P66 -> 417.525 | AC66: =ROUND(P66*AA63,0) -> 6680 | AD66: =(AC66-D66)/D66 -> 0
C68: Points | D68: % of Total
B69: Level 1 | C69: =SUM(D3:D18) -> 10853 | D69: =C69/$C$73 -> 0.064462672
B70: Level 2 | C70: =SUM(D19:D34) -> 21049 | D70: =C70/$C$73 -> 0.12502302
B71: Level 3 | C71: =SUM(D35:D50) -> 47207 | D71: =C71/$C$73 -> 0.28039154
B72: Level 4 | C72: =SUM(D51:D66) -> 89252 | D72: =C72/$C$73 -> 0.53012277
B73: Total | C73: =SUM(C69:C72) -> 168361 | D73: =C73/$C$73 -> 1
D77: Loss | H77: Damage to Enemy | M77: GE Points per Point of Damage
D78: Enemies | G78: Points | H78: Killed | I78: Partial | J78: Total | L78: DMG Received | M78: Min | N78: Max
D79: 16 | G79: 259 | H79: 15 | I79: 5 | J79: =H79*10+I79 -> 155 | K79: ME | L79: 10 | M79: =(G79-0.5)/J79 -> 1.6677419 | N79: =(G79+0.4)/J79 -> 1.6735484
D80: 16 | G80: 17 | H80: 1 | I80: 0 | J80: =H80*10+I80 -> 10 | K80: ME/PME | L80: 0 | M80: =(G80-0.5)/J80 -> 1.65 | N80: =(G80+0.4)/J80 -> 1.74
D81: 16 | G81: 34 | H81: 2 | I81: 0 | J81: =H81*10+I81 -> 20 | K81: ME/PME | L81: 0 | M81: =(G81-0.5)/J81 -> 1.675 | N81: =(G81+0.4)/J81 -> 1.72
D82: 16 | G82: 17 | H82: 1 | I82: 0 | J82: =H82*10+I82 -> 10 | K82: ME/PME | L82: 2 | M82: =(G82-0.5)/J82 -> 1.65 | N82: =(G82+0.4)/J82 -> 1.74

Sheet PE Fight Plots and Analysis
B6: Progressive Era Point Summary
B7: GE Level | C7: Segment | D7: Approximate Points/Enemy Unit | E7: Point Increase over Previous Segment
B8: 1 | C8: 1 | D8: =OFFSET('PE Fight'!$AA$3,(ROW()-ROW($C$8))*4,0) -> 83.55 | E8: -
C9: 2 | D9: =OFFSET('PE Fight'!$AA$3,(ROW()-ROW($C$8))*4,0) -> 87.75 | E9: =OFFSET('PE Fight'!$AA$3,(ROW()-ROW($C$8))*4,1) -> 1.0503
C10: 3 | D10: =OFFSET('PE Fight'!$AA$3,(ROW()-ROW($C$8))*4,0) -> 91.888961 | E10: =OFFSET('PE Fight'!$AA$3,(ROW()-ROW($C$8))*4,1) -> 1.0472
C11: 4 | D11: =OFFSET('PE Fight'!$AA$3,(ROW()-ROW($C$8))*4,0) -> 100.24583 | E11: =OFFSET('PE Fight'!$AA$3,(ROW()-ROW($C$8))*4,1) -> 1.0909
B12: =B8+1 -> 2 | C12: 5 | D12: =OFFSET('PE Fight'!$AA$3,(ROW()-ROW($C$8))*4,0) -> 108.61154 | E12: =OFFSET('PE Fight'!$AA$3,(ROW()-ROW($C$8))*4,1) -> 1.0835
C13: 6 | D13: =OFFSET('PE Fight'!$AA$3,(ROW()-ROW($C$8))*4,0) -> 121.13929 | E13: =OFFSET('PE Fight'!$AA$3,(ROW()-ROW($C$8))*4,1) -> 1.1153
C14: 7 | D14: =OFFSET('PE Fight'!$AA$3,(ROW()-ROW($C$8))*4,0) -> 133.59667 | E14: =OFFSET('PE Fight'!$AA$3,(ROW()-ROW($C$8))*4,1) -> 1.1028
C15: 8 | D15: =OFFSET('PE Fight'!$AA$3,(ROW()-ROW($C$8))*4,0) -> 150.32784 | E15: =OFFSET('PE Fight'!$AA$3,(ROW()-ROW($C$8))*4,1) -> 1.1252
B16: =B12+1 -> 3 | C16: 9 | D16: =OFFSET('PE Fight'!$AA$3,(ROW()-ROW($C$8))*4,0) -> 166.99687 | E16: =OFFSET('PE Fight'!$AA$3,(ROW()-ROW($C$8))*4,1) -> 1.1109
C17: 10 | D17: =OFFSET('PE Fight'!$AA$3,(ROW()-ROW($C$8))*4,0) -> 192.06298 | E17: =OFFSET('PE Fight'!$AA$3,(ROW()-ROW($C$8))*4,1) -> 1.1501
C18: 11 | D18: =OFFSET('PE Fight'!$AA$3,(ROW()-ROW($C$8))*4,0) -> 217.12857 | E18: =OFFSET('PE Fight'!$AA$3,(ROW()-ROW($C$8))*4,1) -> 1.1305
C19: 12 | D19: =OFFSET('PE Fight'!$AA$3,(ROW()-ROW($C$8))*4,0) -> 250.5125 | E19: =OFFSET('PE Fight'!$AA$3,(ROW()-ROW($C$8))*4,1) -> 1.1538
B20: =B16+1 -> 4 | C20: 13 | D20: =OFFSET('PE Fight'!$AA$3,(ROW()-ROW($C$8))*4,0) -> 283.93437 | E20: =OFFSET('PE Fight'!$AA$3,(ROW()-ROW($C$8))*4,1) -> 1.1334
C21: 14 | D21: =OFFSET('PE Fight'!$AA$3,(ROW()-ROW($C$8))*4,0) -> 325.68437 | E21: =OFFSET('PE Fight'!$AA$3,(ROW()-ROW($C$8))*4,1) -> 1.147
C22: 15 | D22: =OFFSET('PE Fight'!$AA$3,(ROW()-ROW($C$8))*4,0) -> 367.43437 | E22: =OFFSET('PE Fight'!$AA$3,(ROW()-ROW($C$8))*4,1) -> 1.1282
C23: 16 | D23: =OFFSET('PE Fight'!$AA$3,(ROW()-ROW($C$8))*4,0) -> 417.49687 | E23: =OFFSET('PE Fight'!$AA$3,(ROW()-ROW($C$8))*4,1) -> 1.1362

Sheet ME Fight
G1: Enemy Units | L1: Expedition Points / Unit | R1: Prediction using Avg.
A2: GE Level | B2: Segment | C2: Encounter | D2: Expedition Points | E2: Cumulative EP | F2: Cumulative % of Total | G2: Attacker Bonus | H2: Total | I2: Waves | J2: Damage Taken | L2: Lower Bound | M2: Upper Bound | N2: Min bound | O2: Max bound | P2: Avg. | Q2: Apparent Increase | R2: Expedition Points | S2: % Error
A3: 1 | B3: 1 | C3: 1 | D3: 324 | E3: =D3 -> 324 | F3: =E3/$E$66 -> 0.0014879039 | H3: 3 | I3: 1 | J3: =H3*10 -> 30 | L3: =(D3-0.5)/H3 -> 107.83333 | M3: =(D3+0.4)/H3 -> 108.13333 | N3: =MAX(L3:L6) -> 108.05556 | O3: =MIN(M3:M6) -> 108.08 | P3: =IF((N3+(O3-N3)/2)<N3,N3,N3+(O3-N3)/2) -> 108.06778 | R3: =ROUND(H3*P3,0) -> 324 | S3: =(R3-D3)/D3 -> 0 | U3: =D3/'PE Fight'!D3 -> 1.2908367
C4: 2 | D4: 432 | E4: =D4+E3 -> 756 | F4: =E4/$E$66 -> 0.0034717757 | H4: 4 | I4: 1 | J4: =H4*10 -> 40 | L4: =(D4-0.5)/H4 -> 107.875 | M4: =(D4+0.4)/H4 -> 108.1 | R4: =ROUND(H4*P3,0) -> 432 | S4: =(R4-D4)/D4 -> 0
C5: 3 | D5: 540 | E5: =D5+E4 -> 1296 | F5: =E5/$E$66 -> 0.0059516156 | H5: 5 | I5: 1 | J5: =H5*10 -> 50 | L5: =(D5-0.5)/H5 -> 107.9 | M5: =(D5+0.4)/H5 -> 108.08 | R5: =ROUND(H5*P3,0) -> 540 | S5: =(R5-D5)/D5 -> 0
C6: 4 | D6: 973 | E6: =D6+E5 -> 2269 | F6: =E6/$E$66 -> 0.01041992 | H6: 9 | I6: 2 | J6: =H6*10 -> 90 | L6: =(D6-0.5)/H6 -> 108.05556 | M6: =(D6+0.4)/H6 -> 108.15556 | R6: =ROUND(H6*P3,0) -> 973 | S6: =(R6-D6)/D6 -> 0
B7: =B3+1 -> 2 | C7: 5 | D7: 567 | E7: =D7+E6 -> 2836 | F7: =E7/$E$66 -> 0.013023751 | H7: 5 | I7: 1 | J7: =H7*10 -> 50 | L7: =(D7-0.5)/H7 -> 113.3 | M7: =(D7+0.4)/H7 -> 113.48 | N7: =MAX(L7:L10) -> 113.41667 | O7: =MIN(M7:M10) -> 113.44 | P7: =IF((N7+(O7-N7)/2)<N7,N7,N7+(O7-N7)/2) -> 113.42833 | Q7: =ROUND(P7/P3,4) -> 1.0496 | R7: =ROUND(H7*P7,0) -> 567 | S7: =(R7-D7)/D7 -> 0
C8: 6 | D8: 681 | E8: =D8+E7 -> 3517 | F8: =E8/$E$66 -> 0.016151105 | H8: 6 | I8: 1 | J8: =H8*10 -> 60 | L8: =(D8-0.5)/H8 -> 113.41667 | M8: =(D8+0.4)/H8 -> 113.56667 | R8: =ROUND(H8*P7,0) -> 681 | S8: =(R8-D8)/D8 -> 0
C9: 7 | D9: 794 | E9: =D9+E8 -> 4311 | F9: =E9/$E$66 -> 0.019797388 | H9: 7 | I9: 1 | J9: =H9*10 -> 70 | L9: =(D9-0.5)/H9 -> 113.35714 | M9: =(D9+0.4)/H9 -> 113.48571 | R9: =ROUND(H9*P7,0) -> 794 | S9: =(R9-D9)/D9 -> 0 | U9: ='PE Fight'!AA7*$U$3 -> 113.27092
C10: 8 | D10: 1134 | E10: =D10+E9 -> 5445 | F10: =E10/$E$66 -> 0.025005052 | H10: 10 | I10: 1 | J10: =H10*10 -> 100 | L10: =(D10-0.5)/H10 -> 113.35 | M10: =(D10+0.4)/H10 -> 113.44 | R10: =ROUND(H10*P7,0) -> 1134 | S10: =(R10-D10)/D10 -> 0
B11: =B7+1 -> 3 | C11: 9 | D11: 832 | E11: =D11+E10 -> 6277 | F11: =E11/$E$66 -> 0.028825842 | H11: 7 | I11: 1 | J11: =H11*10 -> 70 | L11: =(D11-0.5)/H11 -> 118.78571 | M11: =(D11+0.4)/H11 -> 118.91429 | N11: =MAX(L11:L14) -> 118.8125 | O11: =MIN(M11:M14) -> 118.85455 | P11: =IF((N11+(O11-N11)/2)<N11,N11,N11+(O11-N11)/2) -> 118.83352 | Q11: =ROUND(P11/P7,4) -> 1.0477 | R11: =ROUND(H11*P11,0) -> 832 | S11: =(R11-D11)/D11 -> 0
C12: 10 | D12: 832 | E12: =D12+E11 -> 7109 | F12: =E12/$E$66 -> 0.032646632 | H12: 7 | I12: 1 | J12: =H12*10 -> 70 | L12: =(D12-0.5)/H12 -> 118.78571 | M12: =(D12+0.4)/H12 -> 118.91429 | R12: =ROUND(H12*P11,0) -> 832 | S12: =(R12-D12)/D12 -> 0
C13: 11 | D13: 951 | E13: =D13+E12 -> 8060 | F13: =E13/$E$66 -> 0.037013905 | H13: 8 | I13: 1 | J13: =H13*10 -> 80 | L13: =(D13-0.5)/H13 -> 118.8125 | M13: =(D13+0.4)/H13 -> 118.925 | R13: =ROUND(H13*P11,0) -> 951 | S13: =(R13-D13)/D13 -> 0 | U13: ='PE Fight'!AA11*$U$3 -> 118.61364
C14: 12 | D14: 1307 | E14: =D14+E13 -> 9367 | F14: =E14/$E$66 -> 0.043016036 | H14: 11 | I14: 2 | J14: =H14*10 -> 110 | L14: =(D14-0.5)/H14 -> 118.77273 | M14: =(D14+0.4)/H14 -> 118.85455 | R14: =ROUND(H14*P11,0) -> 1307 | S14: =(R14-D14)/D14 -> 0
B15: =B11+1 -> 4 | C15: 13 | D15: 1037 | E15: =D15+E14 -> 10404 | F15: =E15/$E$66 -> 0.047778247 | H15: 8 | I15: 1 | J15: =H15*10 -> 80 | L15: =(D15-0.5)/H15 -> 129.5625 | M15: =(D15+0.4)/H15 -> 129.675 | N15: =MAX(L15:L18) -> 129.625 | O15: =MIN(M15:M18) -> 129.675 | P15: =IF((N15+(O15-N15)/2)<N15,N15,N15+(O15-N15)/2) -> 129.65 | Q15: =ROUND(P15/P11,4) -> 1.091 | R15: =ROUND(H15*P15,0) -> 1037 | S15: =(R15-D15)/D15 -> 0
C16: 14 | D16: 1037 | E16: =D16+E15 -> 11441 | F16: =E16/$E$66 -> 0.052540458 | H16: 8 | I16: 1 | J16: =H16*10 -> 80 | L16: =(D16-0.5)/H16 -> 129.5625 | M16: =(D16+0.4)/H16 -> 129.675 | R16: =ROUND(H16*P15,0) -> 1037 | S16: =(R16-D16)/D16 -> 0
C17: 15 | D17: 1037 | E17: =D17+E16 -> 12478 | F17: =E17/$E$66 -> 0.057302669 | G17: 0.3 | H17: 8 | I17: 1 | J17: =H17*10 -> 80 | L17: =(D17-0.5)/H17 -> 129.5625 | M17: =(D17+0.4)/H17 -> 129.675 | R17: =ROUND(H17*P15,0) -> 1037 | S17: =(R17-D17)/D17 -> 0 | U17: ='PE Fight'!AA15*$U$3 -> 129.401
C18: 16 | D18: 1556 | E18: =D18+E17 -> 14034 | F18: =E18/$E$66 -> 0.064448282 | G18: 0.3 | H18: 12 | I18: 2 | J18: =H18*10 -> 120 | L18: =(D18-0.5)/H18 -> 129.625 | M18: =(D18+0.4)/H18 -> 129.7 | R18: =ROUND(H18*P15,0) -> 1556 | S18: =(R18-D18)/D18 -> 0
A19: =A3+1 -> 2 | B19: =B15+1 -> 5 | C19: 17 | D19: 1124 | E19: =D19+E18 -> 15158 | F19: =E19/$E$66 -> 0.069610022 | H19: 8 | I19: 1 | J19: =H19*10 -> 80 | L19: =(D19-0.5)/H19 -> 140.4375 | M19: =(D19+0.4)/H19 -> 140.55 | N19: =MAX(L19:L22) -> 140.4375 | O19: =MIN(M19:M22) -> 140.49231 | P19: =IF((N19+(O19-N19)/2)<N19,N19,N19+(O19-N19)/2) -> 140.4649 | Q19: =ROUND(P19/P15,4) -> 1.0834 | R19: =ROUND(H19*P19,0) -> 1124 | S19: =(R19-D19)/D19 -> 0
C20: 18 | D20: 1124 | E20: =D20+E19 -> 16282 | F20: =E20/$E$66 -> 0.074771763 | H20: 8 | I20: 1 | J20: =H20*10 -> 80 | L20: =(D20-0.5)/H20 -> 140.4375 | M20: =(D20+0.4)/H20 -> 140.55 | R20: =ROUND(H20*P19,0) -> 1124 | S20: =(R20-D20)/D20 -> 0
C21: 19 | D21: 1124 | E21: =D21+E20 -> 17406 | F21: =E21/$E$66 -> 0.079933504 | H21: 8 | I21: 1 | J21: =H21*10 -> 80 | L21: =(D21-0.5)/H21 -> 140.4375 | M21: =(D21+0.4)/H21 -> 140.55 | R21: =ROUND(H21*P19,0) -> 1124 | S21: =(R21-D21)/D21 -> 0 | U21: ='PE Fight'!AA19*$U$3 -> 140.19975
C22: 20 | D22: 1826 | E22: =D22+E21 -> 19232 | F22: =E22/$E$66 -> 0.088319036 | H22: 13 | I22: 2 | J22: =H22*10 -> 130 | L22: =(D22-0.5)/H22 -> 140.42308 | M22: =(D22+0.4)/H22 -> 140.49231 | R22: =ROUND(H22*P19,0) -> 1826 | S22: =(R22-D22)/D22 -> 0
B23: =B19+1 -> 6 | C23: 21 | D23: 1253 | E23: =D23+E22 -> 20485 | F23: =E23/$E$66 -> 0.094073183 | H23: 8 | I23: 1 | J23: =H23*10 -> 80 | L23: =(D23-0.5)/H23 -> 156.5625 | M23: =(D23+0.4)/H23 -> 156.675 | N23: =MAX(L23:L26) -> 156.60714 | O23: =MIN(M23:M26) -> 156.67143 | P23: =IF((N23+(O23-N23)/2)<N23,N23,N23+(O23-N23)/2) -> 156.63929 | Q23: =ROUND(P23/P19,4) -> 1.1151 | R23: =ROUND(H23*P23,0) -> 1253 | S23: =(R23-D23)/D23 -> 0
C24: 22 | D24: 1253 | E24: =D24+E23 -> 21738 | F24: =E24/$E$66 -> 0.09982733 | H24: 8 | I24: 1 | J24: =H24*10 -> 80 | L24: =(D24-0.5)/H24 -> 156.5625 | M24: =(D24+0.4)/H24 -> 156.675 | R24: =ROUND(H24*P23,0) -> 1253 | S24: =(R24-D24)/D24 -> 0
C25: 23 | D25: 1253 | E25: =D25+E24 -> 22991 | F25: =E25/$E$66 -> 0.10558148 | H25: 8 | I25: 1 | J25: =H25*10 -> 80 | L25: =(D25-0.5)/H25 -> 156.5625 | M25: =(D25+0.4)/H25 -> 156.675 | R25: =ROUND(H25*P23,0) -> 1253 | S25: =(R25-D25)/D25 -> 0 | U25: ='PE Fight'!AA23*$U$3 -> 156.37103
C26: 24 | D26: 2193 | E26: =D26+E25 -> 25184 | F26: =E26/$E$66 -> 0.11565238 | H26: 14 | I26: 2 | J26: =H26*10 -> 140 | L26: =(D26-0.5)/H26 -> 156.60714 | M26: =(D26+0.4)/H26 -> 156.67143 | R26: =ROUND(H26*P23,0) -> 2193 | S26: =(R26-D26)/D26 -> 0
B27: =B23+1 -> 7 | C27: 25 | D27: 1383 | E27: =D27+E26 -> 26567 | F27: =E27/$E$66 -> 0.12200353 | H27: 8 | I27: 1 | J27: =H27*10 -> 80 | L27: =(D27-0.5)/H27 -> 172.8125 | M27: =(D27+0.4)/H27 -> 172.925 | N27: =MAX(L27:L30) -> 172.8125 | O27: =MIN(M27:M30) -> 172.82667 | P27: =IF((N27+(O27-N27)/2)<N27,N27,N27+(O27-N27)/2) -> 172.81958 | Q27: =ROUND(P27/P23,4) -> 1.1033 | R27: =ROUND(H27*P27,0) -> 1383 | S27: =(R27-D27)/D27 -> 0
C28: 26 | D28: 1383 | E28: =D28+E27 -> 27950 | F28: =E28/$E$66 -> 0.12835467 | H28: 8 | I28: 1 | J28: =H28*10 -> 80 | L28: =(D28-0.5)/H28 -> 172.8125 | M28: =(D28+0.4)/H28 -> 172.925 | R28: =ROUND(H28*P27,0) -> 1383 | S28: =(R28-D28)/D28 -> 0
C29: 27 | D29: 1383 | E29: =D29+E28 -> 29333 | F29: =E29/$E$66 -> 0.13470582 | H29: 8 | I29: 1 | J29: =H29*10 -> 80 | L29: =(D29-0.5)/H29 -> 172.8125 | M29: =(D29+0.4)/H29 -> 172.925 | R29: =ROUND(H29*P27,0) -> 1383 | S29: =(R29-D29)/D29 -> 0 | U29: ='PE Fight'!AA27*$U$3 -> 172.45147
C30: 28 | D30: 2592 | E30: =D30+E29 -> 31925 | F30: =E30/$E$66 -> 0.14660905 | H30: 15 | I30: 2 | J30: =H30*10 -> 150 | L30: =(D30-0.5)/H30 -> 172.76667 | M30: =(D30+0.4)/H30 -> 172.82667 | R30: =ROUND(H30*P27,0) -> 2592 | S30: =(R30-D30)/D30 -> 0
B31: =B27+1 -> 8 | C31: 29 | D31: 1944 | E31: =D31+E30 -> 33869 | F31: =E31/$E$66 -> 0.15553647 | H31: 10 | I31: 2 | J31: =H31*10 -> 100 | L31: =(D31-0.5)/H31 -> 194.35 | M31: =(D31+0.4)/H31 -> 194.44 | N31: =MAX(L31:L34) -> 194.40909 | O31: =MIN(M31:M34) -> 194.44 | P31: =IF((N31+(O31-N31)/2)<N31,N31,N31+(O31-N31)/2) -> 194.42455 | Q31: =ROUND(P31/P27,4) -> 1.125 | R31: =ROUND(H31*P31,0) -> 1944 | S31: =(R31-D31)/D31 -> 0
C32: 30 | D32: 2139 | E32: =D32+E31 -> 36008 | F32: =E32/$E$66 -> 0.16535939 | H32: 11 | I32: 2 | J32: =H32*10 -> 110 | L32: =(D32-0.5)/H32 -> 194.40909 | M32: =(D32+0.4)/H32 -> 194.49091 | R32: =ROUND(H32*P31,0) -> 2139 | S32: =(R32-D32)/D32 -> 0
C33: 31 | D33: 2139 | E33: =D33+E32 -> 38147 | F33: =E33/$E$66 -> 0.17518231 | H33: 11 | I33: 2 | J33: =H33*10 -> 110 | L33: =(D33-0.5)/H33 -> 194.40909 | M33: =(D33+0.4)/H33 -> 194.49091 | R33: =ROUND(H33*P31,0) -> 2139 | S33: =(R33-D33)/D33 -> 0 | U33: ='PE Fight'!AA31*$U$3 -> 194.04869
C34: 32 | D34: 3111 | E34: =D34+E33 -> 41258 | F34: =E34/$E$66 -> 0.18946895 | H34: 16 | I34: 2 | J34: =H34*10 -> 160 | L34: =(D34-0.5)/H34 -> 194.40625 | M34: =(D34+0.4)/H34 -> 194.4625 | R34: =ROUND(H34*P31,0) -> 3111 | S34: =(R34-D34)/D34 -> 0
A35: =A19+1 -> 3 | B35: =B31+1 -> 9 | C35: 33 | D35: 2376 | E35: =D35+E34 -> 43634 | F35: =E35/$E$66 -> 0.20038024 | H35: 11 | I35: 2 | J35: =H35*10 -> 110 | L35: =(D35-0.5)/H35 -> 215.95455 | M35: =(D35+0.4)/H35 -> 216.03636 | N35: =MAX(L35:L38) -> 215.96875 | O35: =MIN(M35:M38) -> 216.025 | P35: =IF((N35+(O35-N35)/2)<N35,N35,N35+(O35-N35)/2) -> 215.99687 | Q35: =ROUND(P35/P31,4) -> 1.111 | R35: =ROUND(H35*P35,0) -> 2376 | S35: =(R35-D35)/D35 -> 0
C36: 34 | D36: 2592 | E36: =D36+E35 -> 46226 | F36: =E36/$E$66 -> 0.21228347 | H36: 12 | I36: 2 | J36: =H36*10 -> 120 | L36: =(D36-0.5)/H36 -> 215.95833 | M36: =(D36+0.4)/H36 -> 216.03333 | R36: =ROUND(H36*P35,0) -> 2592 | S36: =(R36-D36)/D36 -> 0
C37: 35 | D37: 2592 | E37: =D37+E36 -> 48818 | F37: =E37/$E$66 -> 0.2241867 | H37: 12 | I37: 2 | J37: =H37*10 -> 120 | L37: =(D37-0.5)/H37 -> 215.95833 | M37: =(D37+0.4)/H37 -> 216.03333 | R37: =ROUND(H37*P35,0) -> 2592 | S37: =(R37-D37)/D37 -> 0 | U37: ='PE Fight'!AA35*$U$3 -> 215.56569
C38: 36 | D38: 3456 | E38: =D38+E37 -> 52274 | F38: =E38/$E$66 -> 0.24005768 | H38: 16 | I38: 2 | J38: =H38*10 -> 160 | L38: =(D38-0.5)/H38 -> 215.96875 | M38: =(D38+0.4)/H38 -> 216.025 | R38: =ROUND(H38*P35,0) -> 3456 | S38: =(R38-D38)/D38 -> 0
B39: =B35+1 -> 10 | C39: 37 | D39: 3230 | E39: =D39+E38 -> 55504 | F39: =E39/$E$66 -> 0.2548908 | H39: 13 | I39: 2 | J39: =H39*10 -> 130 | L39: =(D39-0.5)/H39 -> 248.42308 | M39: =(D39+0.4)/H39 -> 248.49231 | N39: =MAX(L39:L42) -> 248.42308 | O39: =MIN(M39:M42) -> 248.4625 | P39: =IF((N39+(O39-N39)/2)<N39,N39,N39+(O39-N39)/2) -> 248.44279 | Q39: =ROUND(P39/P35,4) -> 1.1502 | R39: =ROUND(H39*P39,0) -> 3230 | S39: =(R39-D39)/D39 -> 0
C40: 38 | D40: 3230 | E40: =D40+E39 -> 58734 | F40: =E40/$E$66 -> 0.26972391 | H40: 13 | I40: 2 | J40: =H40*10 -> 130 | L40: =(D40-0.5)/H40 -> 248.42308 | M40: =(D40+0.4)/H40 -> 248.49231 | R40: =ROUND(H40*P39,0) -> 3230 | S40: =(R40-D40)/D40 -> 0
C41: 39 | D41: 3230 | E41: =D41+E40 -> 61964 | F41: =E41/$E$66 -> 0.28455703 | H41: 13 | I41: 2 | J41: =H41*10 -> 130 | L41: =(D41-0.5)/H41 -> 248.42308 | M41: =(D41+0.4)/H41 -> 248.49231 | R41: =ROUND(H41*P39,0) -> 3230 | S41: =(R41-D41)/D41 -> 0 | U41: ='PE Fight'!AA39*$U$3 -> 247.92194
C42: 40 | D42: 3975 | E42: =D42+E41 -> 65939 | F42: =E42/$E$66 -> 0.3028114 | H42: 16 | I42: 2 | J42: =H42*10 -> 160 | L42: =(D42-0.5)/H42 -> 248.40625 | M42: =(D42+0.4)/H42 -> 248.4625 | R42: =ROUND(H42*P39,0) -> 3975 | S42: =(R42-D42)/D42 -> 0
B43: =B39+1 -> 11 | C43: 41 | D43: 3932 | E43: =D43+E42 -> 69871 | F43: =E43/$E$66 -> 0.32086831 | H43: 14 | I43: 2 | J43: =H43*10 -> 140 | L43: =(D43-0.5)/H43 -> 280.82143 | M43: =(D43+0.4)/H43 -> 280.88571 | N43: =MAX(L43:L46) -> 280.82143 | O43: =MIN(M43:M46) -> 280.8375 | P43: =IF((N43+(O43-N43)/2)<N43,N43,N43+(O43-N43)/2) -> 280.82946 | Q43: =ROUND(P43/P39,4) -> 1.1304 | R43: =ROUND(H43*P43,0) -> 3932 | S43: =(R43-D43)/D43 -> 0
C44: 42 | D44: 3932 | E44: =D44+E43 -> 73803 | F44: =E44/$E$66 -> 0.33892522 | H44: 14 | I44: 2 | J44: =H44*10 -> 140 | L44: =(D44-0.5)/H44 -> 280.82143 | M44: =(D44+0.4)/H44 -> 280.88571 | R44: =ROUND(H44*P43,0) -> 3932 | S44: =(R44-D44)/D44 -> 0
C45: 43 | D45: 3932 | E45: =D45+E44 -> 77735 | F45: =E45/$E$66 -> 0.35698213 | H45: 14 | I45: 2 | J45: =H45*10 -> 140 | L45: =(D45-0.5)/H45 -> 280.82143 | M45: =(D45+0.4)/H45 -> 280.88571 | R45: =ROUND(H45*P43,0) -> 3932 | S45: =(R45-D45)/D45 -> 0 | U45: ='PE Fight'!AA43*$U$3 -> 280.27752
C46: 44 | D46: 4493 | E46: =D46+E45 -> 82228 | F46: =E46/$E$66 -> 0.37761531 | H46: 16 | I46: 2 | J46: =H46*10 -> 160 | L46: =(D46-0.5)/H46 -> 280.78125 | M46: =(D46+0.4)/H46 -> 280.8375 | R46: =ROUND(H46*P43,0) -> 4493 | S46: =(R46-D46)/D46 -> 0
B47: =B43+1 -> 12 | C47: 45 | D47: 4860 | E47: =D47+E46 -> 87088 | F47: =E47/$E$66 -> 0.39993387 | H47: 15 | I47: 2 | J47: =H47*10 -> 150 | L47: =(D47-0.5)/H47 -> 323.96667 | M47: =(D47+0.4)/H47 -> 324.02667 | N47: =MAX(L47:L50) -> 323.96875 | O47: =MIN(M47:M50) -> 324.025 | P47: =IF((N47+(O47-N47)/2)<N47,N47,N47+(O47-N47)/2) -> 323.99687 | Q47: =ROUND(P47/P43,4) -> 1.1537 | R47: =ROUND(H47*P47,0) -> 4860 | S47: =(R47-D47)/D47 -> 0
C48: 46 | D48: 4860 | E48: =D48+E47 -> 91948 | F48: =E48/$E$66 -> 0.42225243 | H48: 15 | I48: 2 | J48: =H48*10 -> 150 | L48: =(D48-0.5)/H48 -> 323.96667 | M48: =(D48+0.4)/H48 -> 324.02667 | R48: =ROUND(H48*P47,0) -> 4860 | S48: =(R48-D48)/D48 -> 0
C49: 47 | D49: 5184 | E49: =D49+E48 -> 97132 | F49: =E49/$E$66 -> 0.44605889 | H49: 16 | I49: 2 | J49: =H49*10 -> 160 | L49: =(D49-0.5)/H49 -> 323.96875 | M49: =(D49+0.4)/H49 -> 324.025 | R49: =ROUND(H49*P47,0) -> 5184 | S49: =(R49-D49)/D49 -> 0 | U49: ='PE Fight'!AA47*$U$3 -> 323.37072
C50: 48 | D50: 5184 | E50: =D50+E49 -> 102316 | F50: =E50/$E$66 -> 0.46986535 | H50: 16 | I50: 2 | J50: =H50*10 -> 160 | L50: =(D50-0.5)/H50 -> 323.96875 | M50: =(D50+0.4)/H50 -> 324.025 | R50: =ROUND(H50*P47,0) -> 5184 | S50: =(R50-D50)/D50 -> 0
A51: =A35+1 -> 4 | B51: =B47+1 -> 13 | C51: 49 | D51: 5876 | E51: =D51+E50 -> 108192 | F51: =E51/$E$66 -> 0.49684968 | H51: 16 | I51: 2 | J51: =H51*10 -> 160 | L51: =(D51-0.5)/H51 -> 367.21875 | M51: =(D51+0.4)/H51 -> 367.275 | N51: =MAX(L51:L54) -> 367.21875 | O51: =MIN(M51:M54) -> 367.275 | P51: =IF((N51+(O51-N51)/2)<N51,N51,N51+(O51-N51)/2) -> 367.24687 | Q51: =ROUND(P51/P47,4) -> 1.1335 | R51: =ROUND(H51*P51,0) -> 5876 | S51: =(R51-D51)/D51 -> 0
C52: 50 | D52: 5876 | E52: =D52+E51 -> 114068 | F52: =E52/$E$66 -> 0.52383402 | H52: 16 | I52: 2 | J52: =H52*10 -> 160 | L52: =(D52-0.5)/H52 -> 367.21875 | M52: =(D52+0.4)/H52 -> 367.275 | R52: =ROUND(H52*P51,0) -> 5876 | S52: =(R52-D52)/D52 -> 0
C53: 51 | D53: 5876 | E53: =D53+E52 -> 119944 | F53: =E53/$E$66 -> 0.55081835 | H53: 16 | I53: 2 | J53: =H53*10 -> 160 | L53: =(D53-0.5)/H53 -> 367.21875 | M53: =(D53+0.4)/H53 -> 367.275 | R53: =ROUND(H53*P51,0) -> 5876 | S53: =(R53-D53)/D53 -> 0 | U53: ='PE Fight'!AA51*$U$3 -> 366.5129
C54: 52 | D54: 5876 | E54: =D54+E53 -> 125820 | F54: =E54/$E$66 -> 0.57780268 | H54: 16 | I54: 2 | J54: =H54*10 -> 160 | L54: =(D54-0.5)/H54 -> 367.21875 | M54: =(D54+0.4)/H54 -> 367.275 | R54: =ROUND(H54*P51,0) -> 5876 | S54: =(R54-D54)/D54 -> 0
B55: =B51+1 -> 14 | C55: 53 | D55: 6740 | E55: =D55+E54 -> 132560 | F55: =E55/$E$66 -> 0.60875475 | H55: 16 | I55: 2 | J55: =H55*10 -> 160 | L55: =(D55-0.5)/H55 -> 421.21875 | M55: =(D55+0.4)/H55 -> 421.275 | N55: =MAX(L55:L58) -> 421.21875 | O55: =MIN(M55:M58) -> 421.275 | P55: =IF((N55+(O55-N55)/2)<N55,N55,N55+(O55-N55)/2) -> 421.24687 | Q55: =ROUND(P55/P51,4) -> 1.147 | R55: =ROUND(H55*P55,0) -> 6740 | S55: =(R55-D55)/D55 -> 0
C56: 54 | D56: 6740 | E56: =D56+E55 -> 139300 | F56: =E56/$E$66 -> 0.63970683 | H56: 16 | I56: 2 | J56: =H56*10 -> 160 | L56: =(D56-0.5)/H56 -> 421.21875 | M56: =(D56+0.4)/H56 -> 421.275 | R56: =ROUND(H56*P55,0) -> 6740 | S56: =(R56-D56)/D56 -> 0
C57: 55 | D57: 6740 | E57: =D57+E56 -> 146040 | F57: =E57/$E$66 -> 0.6706589 | H57: 16 | I57: 2 | J57: =H57*10 -> 160 | L57: =(D57-0.5)/H57 -> 421.21875 | M57: =(D57+0.4)/H57 -> 421.275 | R57: =ROUND(H57*P55,0) -> 6740 | S57: =(R57-D57)/D57 -> 0 | U57: ='PE Fight'!AA55*$U$3 -> 420.40533
C58: 56 | D58: 6740 | E58: =D58+E57 -> 152780 | F58: =E58/$E$66 -> 0.70161098 | H58: 16 | I58: 2 | J58: =H58*10 -> 160 | L58: =(D58-0.5)/H58 -> 421.21875 | M58: =(D58+0.4)/H58 -> 421.275 | R58: =ROUND(H58*P55,0) -> 6740 | S58: =(R58-D58)/D58 -> 0
B59: =B55+1 -> 15 | C59: 57 | D59: 7604 | E59: =D59+E58 -> 160384 | F59: =E59/$E$66 -> 0.7365308 | H59: 16 | I59: 2 | J59: =H59*10 -> 160 | L59: =(D59-0.5)/H59 -> 475.21875 | M59: =(D59+0.4)/H59 -> 475.275 | N59: =MAX(L59:L62) -> 475.21875 | O59: =MIN(M59:M62) -> 475.275 | P59: =IF((N59+(O59-N59)/2)<N59,N59,N59+(O59-N59)/2) -> 475.24687 | Q59: =ROUND(P59/P55,4) -> 1.1282 | R59: =ROUND(H59*P59,0) -> 7604 | S59: =(R59-D59)/D59 -> 0
C60: 58 | D60: 7604 | E60: =D60+E59 -> 167988 | F60: =E60/$E$66 -> 0.77145061 | H60: 16 | I60: 2 | J60: =H60*10 -> 160 | L60: =(D60-0.5)/H60 -> 475.21875 | M60: =(D60+0.4)/H60 -> 475.275 | R60: =ROUND(H60*P59,0) -> 7604 | S60: =(R60-D60)/D60 -> 0
C61: 59 | D61: 7604 | E61: =D61+E60 -> 175592 | F61: =E61/$E$66 -> 0.80637043 | H61: 16 | I61: 2 | J61: =H61*10 -> 160 | L61: =(D61-0.5)/H61 -> 475.21875 | M61: =(D61+0.4)/H61 -> 475.275 | R61: =ROUND(H61*P59,0) -> 7604 | S61: =(R61-D61)/D61 -> 0 | U61: ='PE Fight'!AA59*$U$3 -> 474.29776
C62: 60 | D62: 7604 | E62: =D62+E61 -> 183196 | F62: =E62/$E$66 -> 0.84129025 | G62: 1.05 | H62: 16 | I62: 2 | J62: =H62*10 -> 160 | L62: =(D62-0.5)/H62 -> 475.21875 | M62: =(D62+0.4)/H62 -> 475.275 | R62: =ROUND(H62*P59,0) -> 7604 | S62: =(R62-D62)/D62 -> 0
B63: =B59+1 -> 16 | C63: 61 | D63: 8640 | E63: =D63+E62 -> 191836 | F63: =E63/$E$66 -> 0.88096769 | G63: 0.95 | H63: 16 | I63: 2 | J63: =H63*10 -> 160 | L63: =(D63-0.5)/H63 -> 539.96875 | M63: =(D63+0.4)/H63 -> 540.025 | N63: =MAX(L63:L66) -> 539.96875 | O63: =MIN(M63:M66) -> 540.025 | P63: =IF((N63+(O63-N63)/2)<N63,N63,N63+(O63-N63)/2) -> 539.99688 | Q63: =ROUND(P63/P59,4) -> 1.1362 | R63: =ROUND(H63*P63,0) -> 8640 | S63: =(R63-D63)/D63 -> 0
C64: 62 | D64: 8640 | E64: =D64+E63 -> 200476 | F64: =E64/$E$66 -> 0.92064513 | H64: 16 | I64: 2 | J64: =H64*10 -> 160 | L64: =(D64-0.5)/H64 -> 539.96875 | M64: =(D64+0.4)/H64 -> 540.025 | R64: =ROUND(H64*P63,0) -> 8640 | S64: =(R64-D64)/D64 -> 0
C65: 63 | D65: 8640 | E65: =D65+E64 -> 209116 | F65: =E65/$E$66 -> 0.96032256 | H65: 16 | I65: 2 | J65: =H65*10 -> 160 | L65: =(D65-0.5)/H65 -> 539.96875 | M65: =(D65+0.4)/H65 -> 540.025 | R65: =ROUND(H65*P63,0) -> 8640 | S65: =(R65-D65)/D65 -> 0 | U65: ='PE Fight'!AA63*$U$3 -> 538.92027
C66: 64 | D66: 8640 | E66: =D66+E65 -> 217756 | F66: =E66/$E$66 -> 1 | H66: 16 | I66: 2 | J66: =H66*10 -> 160 | L66: =(D66-0.5)/H66 -> 539.96875 | M66: =(D66+0.4)/H66 -> 540.025 | R66: =ROUND(H66*P63,0) -> 8640 | S66: =(R66-D66)/D66 -> 0
C68: Points | D68: % of Total
B69: Level 1 | C69: =SUM(D3:D18) -> 14034 | D69: =C69/$C$73 -> 0.064448282
B70: Level 2 | C70: =SUM(D19:D34) -> 27224 | D70: =C70/$C$73 -> 0.12502067
B71: Level 3 | C71: =SUM(D35:D50) -> 61058 | D71: =C71/$C$73 -> 0.28039641
B72: Level 4 | C72: =SUM(D51:D66) -> 115440 | D72: =C72/$C$73 -> 0.53013465
B73: Total | C73: =SUM(C69:C72) -> 217756 | D73: =C73/$C$73 -> 1
D77: Loss
D78: Enemies
D79: 16
D80: 16
D81: 16
D82: 16

Sheet PME Fight
G1: Enemy Units | L1: Expedition Points / Unit | R1: Prediction using Avg.
A2: GE Level | B2: Segment | C2: Encounter | D2: Expedition Points | E2: Cumulative EP | F2: Cumulative % of Total | G2: Attacker Bonus | H2: Total | I2: Waves | J2: Damage Taken | L2: Lower Bound | M2: Upper Bound | N2: Min bound | O2: Max bound | P2: Avg. | Q2: Apparent Increase | R2: Expedition Points | S2: % Error
A3: 1 | B3: 1 | C3: 1 | D3: 408 | E3: =D3 -> 408 | F3: =E3/$E$66 -> 0.0014879813 | H3: 3 | I3: 1 | J3: =H3*10 -> 30 | L3: =(D3-0.5)/H3 -> 135.83333 | M3: =(D3+0.4)/H3 -> 136.13333 | N3: =MAX(L3:L6) -> 135.94444 | O3: =MIN(M3:M6) -> 136.04444 | P3: =IF((N3+(O3-N3)/2)<N3,N3,N3+(O3-N3)/2) -> 135.99444 | R3: =ROUND(H3*P3,0) -> 408 | S3: =(R3-D3)/D3 -> 0 | U3: =E6/'PE Fight'!E6 -> 1.6273504
C4: 2 | D4: 544 | E4: =D4+E3 -> 952 | F4: =E4/$E$66 -> 0.0034719563 | H4: 4 | I4: 1 | J4: =H4*10 -> 40 | L4: =(D4-0.5)/H4 -> 135.875 | M4: =(D4+0.4)/H4 -> 136.1 | R4: =ROUND(H4*P3,0) -> 544 | S4: =(R4-D4)/D4 -> 0
C5: 3 | D5: 680 | E5: =D5+E4 -> 1632 | F5: =E5/$E$66 -> 0.0059519251 | H5: 5 | I5: 1 | J5: =H5*10 -> 50 | L5: =(D5-0.5)/H5 -> 135.9 | M5: =(D5+0.4)/H5 -> 136.08 | R5: =ROUND(H5*P3,0) -> 680 | S5: =(R5-D5)/D5 -> 0
C6: 4 | D6: 1224 | E6: =D6+E5 -> 2856 | F6: =E6/$E$66 -> 0.010415869 | H6: 9 | I6: 2 | J6: =H6*10 -> 90 | L6: =(D6-0.5)/H6 -> 135.94444 | M6: =(D6+0.4)/H6 -> 136.04444 | R6: =ROUND(H6*P3,0) -> 1224 | S6: =(R6-D6)/D6 -> 0
B7: =B3+1 -> 2 | C7: 5 | D7: 714 | E7: =D7+E6 -> 3570 | F7: =E7/$E$66 -> 0.013019836 | H7: 5 | I7: 1 | J7: =H7*10 -> 50 | L7: =(D7-0.5)/H7 -> 142.7 | M7: =(D7+0.4)/H7 -> 142.88 | N7: =MAX(L7:L10) -> 142.78571 | O7: =MIN(M7:M10) -> 142.84 | P7: =IF((N7+(O7-N7)/2)<N7,N7,N7+(O7-N7)/2) -> 142.81286 | Q7: =ROUND(P7/P3,4) -> 1.0501 | R7: =ROUND(H7*P7,0) -> 714 | S7: =(R7-D7)/D7 -> 0
C8: 6 | D8: 857 | E8: =D8+E7 -> 4427 | F8: =E8/$E$66 -> 0.016145326 | H8: 6 | I8: 1 | J8: =H8*10 -> 60 | L8: =(D8-0.5)/H8 -> 142.75 | M8: =(D8+0.4)/H8 -> 142.9 | R8: =ROUND(H8*P7,0) -> 857 | S8: =(R8-D8)/D8 -> 0
C9: 7 | D9: 1000 | E9: =D9+E8 -> 5427 | F9: =E9/$E$66 -> 0.019792339 | H9: 7 | I9: 1 | J9: =H9*10 -> 70 | L9: =(D9-0.5)/H9 -> 142.78571 | M9: =(D9+0.4)/H9 -> 142.91429 | R9: =ROUND(H9*P7,0) -> 1000 | S9: =(R9-D9)/D9 -> 0 | U9: ='PE Fight'!AA7*$U$3 -> 142.8
C10: 8 | D10: 1428 | E10: =D10+E9 -> 6855 | F10: =E10/$E$66 -> 0.025000274 | H10: 10 | I10: 1 | J10: =H10*10 -> 100 | L10: =(D10-0.5)/H10 -> 142.75 | M10: =(D10+0.4)/H10 -> 142.84 | R10: =ROUND(H10*P7,0) -> 1428 | S10: =(R10-D10)/D10 -> 0
B11: =B7+1 -> 3 | C11: 9 | D11: 1048 | E11: =D11+E10 -> 7903 | F11: =E11/$E$66 -> 0.028822343 | H11: 7 | I11: 1 | J11: =H11*10 -> 70 | L11: =(D11-0.5)/H11 -> 149.64286 | M11: =(D11+0.4)/H11 -> 149.77143 | N11: =MAX(L11:L14) -> 149.64286 | O11: =MIN(M11:M14) -> 149.67273 | P11: =IF((N11+(O11-N11)/2)<N11,N11,N11+(O11-N11)/2) -> 149.65779 | Q11: =ROUND(P11/P7,4) -> 1.0479 | R11: =ROUND(H11*P11,0) -> 1048 | S11: =(R11-D11)/D11 -> 0
C12: 10 | D12: 1048 | E12: =D12+E11 -> 8951 | F12: =E12/$E$66 -> 0.032644413 | H12: 7 | I12: 1 | J12: =H12*10 -> 70 | L12: =(D12-0.5)/H12 -> 149.64286 | M12: =(D12+0.4)/H12 -> 149.77143 | R12: =ROUND(H12*P11,0) -> 1048 | S12: =(R12-D12)/D12 -> 0
C13: 11 | D13: 1197 | E13: =D13+E12 -> 10148 | F13: =E13/$E$66 -> 0.037009887 | H13: 8 | I13: 1 | J13: =H13*10 -> 80 | L13: =(D13-0.5)/H13 -> 149.5625 | M13: =(D13+0.4)/H13 -> 149.675 | R13: =ROUND(H13*P11,0) -> 1197 | S13: =(R13-D13)/D13 -> 0 | U13: ='PE Fight'!AA11*$U$3 -> 149.53554
C14: 12 | D14: 1646 | E14: =D14+E13 -> 11794 | F14: =E14/$E$66 -> 0.04301287 | H14: 11 | I14: 2 | J14: =H14*10 -> 110 | L14: =(D14-0.5)/H14 -> 149.59091 | M14: =(D14+0.4)/H14 -> 149.67273 | R14: =ROUND(H14*P11,0) -> 1646 | S14: =(R14-D14)/D14 -> 0
B15: =B11+1 -> 4 | C15: 13 | D15: 1306 | E15: =D15+E14 -> 13100 | F15: =E15/$E$66 -> 0.047775869 | H15: 8 | I15: 1 | J15: =H15*10 -> 80 | L15: =(D15-0.5)/H15 -> 163.1875 | M15: =(D15+0.4)/H15 -> 163.3 | N15: =MAX(L15:L18) -> 163.20833 | O15: =MIN(M15:M18) -> 163.28333 | P15: =IF((N15+(O15-N15)/2)<N15,N15,N15+(O15-N15)/2) -> 163.24583 | Q15: =ROUND(P15/P11,4) -> 1.0908 | R15: =ROUND(H15*P15,0) -> 1306 | S15: =(R15-D15)/D15 -> 0
C16: 14 | D16: 1306 | E16: =D16+E15 -> 14406 | F16: =E16/$E$66 -> 0.052538868 | H16: 8 | I16: 1 | J16: =H16*10 -> 80 | L16: =(D16-0.5)/H16 -> 163.1875 | M16: =(D16+0.4)/H16 -> 163.3 | R16: =ROUND(H16*P15,0) -> 1306 | S16: =(R16-D16)/D16 -> 0
C17: 15 | D17: 1306 | E17: =D17+E16 -> 15712 | F17: =E17/$E$66 -> 0.057301867 | G17: 0.3 | H17: 8 | I17: 1 | J17: =H17*10 -> 80 | L17: =(D17-0.5)/H17 -> 163.1875 | M17: =(D17+0.4)/H17 -> 163.3 | R17: =ROUND(H17*P15,0) -> 1306 | S17: =(R17-D17)/D17 -> 0 | U17: ='PE Fight'!AA15*$U$3 -> 163.1351
C18: 16 | D18: 1959 | E18: =D18+E17 -> 17671 | F18: =E18/$E$66 -> 0.064446365 | G18: 0.3 | H18: 12 | I18: 2 | J18: =H18*10 -> 120 | L18: =(D18-0.5)/H18 -> 163.20833 | M18: =(D18+0.4)/H18 -> 163.28333 | R18: =ROUND(H18*P15,0) -> 1959 | S18: =(R18-D18)/D18 -> 0
A19: =A3+1 -> 2 | B19: =B15+1 -> 5 | C19: 17 | D19: 1415 | E19: =D19+E18 -> 19086 | F19: =E19/$E$66 -> 0.069606888 | H19: 8 | I19: 1 | J19: =H19*10 -> 80 | L19: =(D19-0.5)/H19 -> 176.8125 | M19: =(D19+0.4)/H19 -> 176.925 | N19: =MAX(L19:L22) -> 176.8125 | O19: =MIN(M19:M22) -> 176.87692 | P19: =IF((N19+(O19-N19)/2)<N19,N19,N19+(O19-N19)/2) -> 176.84471 | Q19: =ROUND(P19/P15,4) -> 1.0833 | R19: =ROUND(H19*P19,0) -> 1415 | S19: =(R19-D19)/D19 -> 0
C20: 18 | D20: 1415 | E20: =D20+E19 -> 20501 | F20: =E20/$E$66 -> 0.074767412 | H20: 8 | I20: 1 | J20: =H20*10 -> 80 | L20: =(D20-0.5)/H20 -> 176.8125 | M20: =(D20+0.4)/H20 -> 176.925 | R20: =ROUND(H20*P19,0) -> 1415 | S20: =(R20-D20)/D20 -> 0
C21: 19 | D21: 1415 | E21: =D21+E20 -> 21916 | F21: =E21/$E$66 -> 0.079927935 | H21: 8 | I21: 1 | J21: =H21*10 -> 80 | L21: =(D21-0.5)/H21 -> 176.8125 | M21: =(D21+0.4)/H21 -> 176.925 | R21: =ROUND(H21*P19,0) -> 1415 | S21: =(R21-D21)/D21 -> 0 | U21: ='PE Fight'!AA19*$U$3 -> 176.74903
C22: 20 | D22: 2299 | E22: =D22+E21 -> 24215 | F22: =E22/$E$66 -> 0.088312418 | H22: 13 | I22: 2 | J22: =H22*10 -> 130 | L22: =(D22-0.5)/H22 -> 176.80769 | M22: =(D22+0.4)/H22 -> 176.87692 | R22: =ROUND(H22*P19,0) -> 2299 | S22: =(R22-D22)/D22 -> 0
B23: =B19+1 -> 6 | C23: 21 | D23: 1578 | E23: =D23+E22 -> 25793 | F23: =E23/$E$66 -> 0.094067404 | H23: 8 | I23: 1 | J23: =H23*10 -> 80 | L23: =(D23-0.5)/H23 -> 197.1875 | M23: =(D23+0.4)/H23 -> 197.3 | N23: =MAX(L23:L26) -> 197.1875 | O23: =MIN(M23:M26) -> 197.24286 | P23: =IF((N23+(O23-N23)/2)<N23,N23,N23+(O23-N23)/2) -> 197.21518 | Q23: =ROUND(P23/P19,4) -> 1.1152 | R23: =ROUND(H23*P23,0) -> 1578 | S23: =(R23-D23)/D23 -> 0
C24: 22 | D24: 1578 | E24: =D24+E23 -> 27371 | F24: =E24/$E$66 -> 0.09982239 | H24: 8 | I24: 1 | J24: =H24*10 -> 80 | L24: =(D24-0.5)/H24 -> 197.1875 | M24: =(D24+0.4)/H24 -> 197.3 | R24: =ROUND(H24*P23,0) -> 1578 | S24: =(R24-D24)/D24 -> 0
C25: 23 | D25: 1578 | E25: =D25+E24 -> 28949 | F25: =E25/$E$66 -> 0.10557738 | H25: 8 | I25: 1 | J25: =H25*10 -> 80 | L25: =(D25-0.5)/H25 -> 197.1875 | M25: =(D25+0.4)/H25 -> 197.3 | R25: =ROUND(H25*P23,0) -> 1578 | S25: =(R25-D25)/D25 -> 0 | U25: ='PE Fight'!AA23*$U$3 -> 197.13607
C26: 24 | D26: 2761 | E26: =D26+E25 -> 31710 | F26: =E26/$E$66 -> 0.11564678 | H26: 14 | I26: 2 | J26: =H26*10 -> 140 | L26: =(D26-0.5)/H26 -> 197.17857 | M26: =(D26+0.4)/H26 -> 197.24286 | R26: =ROUND(H26*P23,0) -> 2761 | S26: =(R26-D26)/D26 -> 0
B27: =B23+1 -> 7 | C27: 25 | D27: 1741 | E27: =D27+E26 -> 33451 | F27: =E27/$E$66 -> 0.12199623 | H27: 8 | I27: 1 | J27: =H27*10 -> 80 | L27: =(D27-0.5)/H27 -> 217.5625 | M27: =(D27+0.4)/H27 -> 217.675 | N27: =MAX(L27:L30) -> 217.56667 | O27: =MIN(M27:M30) -> 217.62667 | P27: =IF((N27+(O27-N27)/2)<N27,N27,N27+(O27-N27)/2) -> 217.59667 | Q27: =ROUND(P27/P23,4) -> 1.1033 | R27: =ROUND(H27*P27,0) -> 1741 | S27: =(R27-D27)/D27 -> 0
C28: 26 | D28: 1741 | E28: =D28+E27 -> 35192 | F28: =E28/$E$66 -> 0.12834568 | H28: 8 | I28: 1 | J28: =H28*10 -> 80 | L28: =(D28-0.5)/H28 -> 217.5625 | M28: =(D28+0.4)/H28 -> 217.675 | R28: =ROUND(H28*P27,0) -> 1741 | S28: =(R28-D28)/D28 -> 0
C29: 27 | D29: 1741 | E29: =D29+E28 -> 36933 | F29: =E29/$E$66 -> 0.13469513 | H29: 8 | I29: 1 | J29: =H29*10 -> 80 | L29: =(D29-0.5)/H29 -> 217.5625 | M29: =(D29+0.4)/H29 -> 217.675 | R29: =ROUND(H29*P27,0) -> 1741 | S29: =(R29-D29)/D29 -> 0 | U29: ='PE Fight'!AA27*$U$3 -> 217.40859
C30: 28 | D30: 3264 | E30: =D30+E29 -> 40197 | F30: =E30/$E$66 -> 0.14659898 | H30: 15 | I30: 2 | J30: =H30*10 -> 150 | L30: =(D30-0.5)/H30 -> 217.56667 | M30: =(D30+0.4)/H30 -> 217.62667 | R30: =ROUND(H30*P27,0) -> 3264 | S30: =(R30-D30)/D30 -> 0
B31: =B27+1 -> 8 | C31: 29 | D31: 2448 | E31: =D31+E30 -> 42645 | F31: =E31/$E$66 -> 0.15552687 | H31: 10 | I31: 2 | J31: =H31*10 -> 100 | L31: =(D31-0.5)/H31 -> 244.75 | M31: =(D31+0.4)/H31 -> 244.84 | N31: =MAX(L31:L34) -> 244.78125 | O31: =MIN(M31:M34) -> 244.8375 | P31: =IF((N31+(O31-N31)/2)<N31,N31,N31+(O31-N31)/2) -> 244.80937 | Q31: =ROUND(P31/P27,4) -> 1.1251 | R31: =ROUND(H31*P31,0) -> 2448 | S31: =(R31-D31)/D31 -> 0
C32: 30 | D32: 2693 | E32: =D32+E31 -> 45338 | F32: =E32/$E$66 -> 0.16534827 | H32: 11 | I32: 2 | J32: =H32*10 -> 110 | L32: =(D32-0.5)/H32 -> 244.77273 | M32: =(D32+0.4)/H32 -> 244.85455 | R32: =ROUND(H32*P31,0) -> 2693 | S32: =(R32-D32)/D32 -> 0
C33: 31 | D33: 2693 | E33: =D33+E32 -> 48031 | F33: =E33/$E$66 -> 0.17516968 | H33: 11 | I33: 2 | J33: =H33*10 -> 110 | L33: =(D33-0.5)/H33 -> 244.77273 | M33: =(D33+0.4)/H33 -> 244.85455 | R33: =ROUND(H33*P31,0) -> 2693 | S33: =(R33-D33)/D33 -> 0 | U33: ='PE Fight'!AA31*$U$3 -> 244.63608
C34: 32 | D34: 3917 | E34: =D34+E33 -> 51948 | F34: =E34/$E$66 -> 0.18945503 | H34: 16 | I34: 2 | J34: =H34*10 -> 160 | L34: =(D34-0.5)/H34 -> 244.78125 | M34: =(D34+0.4)/H34 -> 244.8375 | R34: =ROUND(H34*P31,0) -> 3917 | S34: =(R34-D34)/D34 -> 0
A35: =A19+1 -> 3 | B35: =B31+1 -> 9 | C35: 33 | D35: 2992 | E35: =D35+E34 -> 54940 | F35: =E35/$E$66 -> 0.20036689 | H35: 11 | I35: 2 | J35: =H35*10 -> 110 | L35: =(D35-0.5)/H35 -> 271.95455 | M35: =(D35+0.4)/H35 -> 272.03636 | N35: =MAX(L35:L38) -> 271.96875 | O35: =MIN(M35:M38) -> 272.025 | P35: =IF((N35+(O35-N35)/2)<N35,N35,N35+(O35-N35)/2) -> 271.99687 | Q35: =ROUND(P35/P31,4) -> 1.1111 | R35: =ROUND(H35*P35,0) -> 2992 | S35: =(R35-D35)/D35 -> 0
C36: 34 | D36: 3264 | E36: =D36+E35 -> 58204 | F36: =E36/$E$66 -> 0.21227074 | H36: 12 | I36: 2 | J36: =H36*10 -> 120 | L36: =(D36-0.5)/H36 -> 271.95833 | M36: =(D36+0.4)/H36 -> 272.03333 | R36: =ROUND(H36*P35,0) -> 3264 | S36: =(R36-D36)/D36 -> 0
C37: 35 | D37: 3264 | E37: =D37+E36 -> 61468 | F37: =E37/$E$66 -> 0.22417459 | H37: 12 | I37: 2 | J37: =H37*10 -> 120 | L37: =(D37-0.5)/H37 -> 271.95833 | M37: =(D37+0.4)/H37 -> 272.03333 | R37: =ROUND(H37*P35,0) -> 3264 | S37: =(R37-D37)/D37 -> 0 | U37: ='PE Fight'!AA35*$U$3 -> 271.76244
C38: 36 | D38: 4352 | E38: =D38+E37 -> 65820 | F38: =E38/$E$66 -> 0.24004639 | H38: 16 | I38: 2 | J38: =H38*10 -> 160 | L38: =(D38-0.5)/H38 -> 271.96875 | M38: =(D38+0.4)/H38 -> 272.025 | R38: =ROUND(H38*P35,0) -> 4352 | S38: =(R38-D38)/D38 -> 0
B39: =B35+1 -> 10 | C39: 37 | D39: 4067 | E39: =D39+E38 -> 69887 | F39: =E39/$E$66 -> 0.25487879 | H39: 13 | I39: 2 | J39: =H39*10 -> 130 | L39: =(D39-0.5)/H39 -> 312.80769 | M39: =(D39+0.4)/H39 -> 312.87692 | N39: =MAX(L39:L42) -> 312.80769 | O39: =MIN(M39:M42) -> 312.8375 | P39: =IF((N39+(O39-N39)/2)<N39,N39,N39+(O39-N39)/2) -> 312.8226 | Q39: =ROUND(P39/P35,4) -> 1.1501 | R39: =ROUND(H39*P39,0) -> 4067 | S39: =(R39-D39)/D39 -> 0
C40: 38 | D40: 4067 | E40: =D40+E39 -> 73954 | F40: =E40/$E$66 -> 0.26971119 | H40: 13 | I40: 2 | J40: =H40*10 -> 130 | L40: =(D40-0.5)/H40 -> 312.80769 | M40: =(D40+0.4)/H40 -> 312.87692 | R40: =ROUND(H40*P39,0) -> 4067 | S40: =(R40-D40)/D40 -> 0
C41: 39 | D41: 4067 | E41: =D41+E40 -> 78021 | F41: =E41/$E$66 -> 0.28454359 | H41: 13 | I41: 2 | J41: =H41*10 -> 130 | L41: =(D41-0.5)/H41 -> 312.80769 | M41: =(D41+0.4)/H41 -> 312.87692 | R41: =ROUND(H41*P39,0) -> 4067 | S41: =(R41-D41)/D41 -> 0 | U41: ='PE Fight'!AA39*$U$3 -> 312.55377
C42: 40 | D42: 5005 | E42: =D42+E41 -> 83026 | F42: =E42/$E$66 -> 0.30279689 | H42: 16 | I42: 2 | J42: =H42*10 -> 160 | L42: =(D42-0.5)/H42 -> 312.78125 | M42: =(D42+0.4)/H42 -> 312.8375 | R42: =ROUND(H42*P39,0) -> 5005 | S42: =(R42-D42)/D42 -> 0
B43: =B39+1 -> 11 | C43: 41 | D43: 4951 | E43: =D43+E42 -> 87977 | F43: =E43/$E$66 -> 0.32085326 | H43: 14 | I43: 2 | J43: =H43*10 -> 140 | L43: =(D43-0.5)/H43 -> 353.60714 | M43: =(D43+0.4)/H43 -> 353.67143 | N43: =MAX(L43:L46) -> 353.60714 | O43: =MIN(M43:M46) -> 353.65 | P43: =IF((N43+(O43-N43)/2)<N43,N43,N43+(O43-N43)/2) -> 353.62857 | Q43: =ROUND(P43/P39,4) -> 1.1304 | R43: =ROUND(H43*P43,0) -> 4951 | S43: =(R43-D43)/D43 -> 0
C44: 42 | D44: 4951 | E44: =D44+E43 -> 92928 | F44: =E44/$E$66 -> 0.33890962 | H44: 14 | I44: 2 | J44: =H44*10 -> 140 | L44: =(D44-0.5)/H44 -> 353.60714 | M44: =(D44+0.4)/H44 -> 353.67143 | R44: =ROUND(H44*P43,0) -> 4951 | S44: =(R44-D44)/D44 -> 0
C45: 43 | D45: 4951 | E45: =D45+E44 -> 97879 | F45: =E45/$E$66 -> 0.35696598 | H45: 14 | I45: 2 | J45: =H45*10 -> 140 | L45: =(D45-0.5)/H45 -> 353.60714 | M45: =(D45+0.4)/H45 -> 353.67143 | R45: =ROUND(H45*P43,0) -> 4951 | S45: =(R45-D45)/D45 -> 0 | U45: ='PE Fight'!AA43*$U$3 -> 353.34427
C46: 44 | D46: 5658 | E46: =D46+E45 -> 103537 | F46: =E46/$E$66 -> 0.37760078 | H46: 16 | I46: 2 | J46: =H46*10 -> 160 | L46: =(D46-0.5)/H46 -> 353.59375 | M46: =(D46+0.4)/H46 -> 353.65 | R46: =ROUND(H46*P43,0) -> 5658 | S46: =(R46-D46)/D46 -> 0
B47: =B43+1 -> 12 | C47: 45 | D47: 6120 | E47: =D47+E46 -> 109657 | F47: =E47/$E$66 -> 0.3999205 | H47: 15 | I47: 2 | J47: =H47*10 -> 150 | L47: =(D47-0.5)/H47 -> 407.96667 | M47: =(D47+0.4)/H47 -> 408.02667 | N47: =MAX(L47:L50) -> 407.96875 | O47: =MIN(M47:M50) -> 408.025 | P47: =IF((N47+(O47-N47)/2)<N47,N47,N47+(O47-N47)/2) -> 407.99687 | Q47: =ROUND(P47/P43,4) -> 1.1537 | R47: =ROUND(H47*P47,0) -> 6120 | S47: =(R47-D47)/D47 -> 0
C48: 46 | D48: 6120 | E48: =D48+E47 -> 115777 | F48: =E48/$E$66 -> 0.42224021 | H48: 15 | I48: 2 | J48: =H48*10 -> 150 | L48: =(D48-0.5)/H48 -> 407.96667 | M48: =(D48+0.4)/H48 -> 408.02667 | R48: =ROUND(H48*P47,0) -> 6120 | S48: =(R48-D48)/D48 -> 0
C49: 47 | D49: 6528 | E49: =D49+E48 -> 122305 | F49: =E49/$E$66 -> 0.44604791 | H49: 16 | I49: 2 | J49: =H49*10 -> 160 | L49: =(D49-0.5)/H49 -> 407.96875 | M49: =(D49+0.4)/H49 -> 408.025 | R49: =ROUND(H49*P47,0) -> 6528 | S49: =(R49-D49)/D49 -> 0 | U49: ='PE Fight'!AA47*$U$3 -> 407.67162
C50: 48 | D50: 6528 | E50: =D50+E49 -> 128833 | F50: =E50/$E$66 -> 0.46985561 | H50: 16 | I50: 2 | J50: =H50*10 -> 160 | L50: =(D50-0.5)/H50 -> 407.96875 | M50: =(D50+0.4)/H50 -> 408.025 | R50: =ROUND(H50*P47,0) -> 6528 | S50: =(R50-D50)/D50 -> 0
A51: =A35+1 -> 4 | B51: =B47+1 -> 13 | C51: 49 | D51: 7399 | E51: =D51+E50 -> 136232 | F51: =E51/$E$66 -> 0.49683986 | H51: 16 | I51: 2 | J51: =H51*10 -> 160 | L51: =(D51-0.5)/H51 -> 462.40625 | M51: =(D51+0.4)/H51 -> 462.4625 | N51: =MAX(L51:L54) -> 462.40625 | O51: =MIN(M51:M54) -> 462.4625 | P51: =IF((N51+(O51-N51)/2)<N51,N51,N51+(O51-N51)/2) -> 462.43437 | Q51: =ROUND(P51/P47,4) -> 1.1334 | R51: =ROUND(H51*P51,0) -> 7399 | S51: =(R51-D51)/D51 -> 0
C52: 50 | D52: 7399 | E52: =D52+E51 -> 143631 | F52: =E52/$E$66 -> 0.52382411 | H52: 16 | I52: 2 | J52: =H52*10 -> 160 | L52: =(D52-0.5)/H52 -> 462.40625 | M52: =(D52+0.4)/H52 -> 462.4625 | R52: =ROUND(H52*P51,0) -> 7399 | S52: =(R52-D52)/D52 -> 0
C53: 51 | D53: 7399 | E53: =D53+E52 -> 151030 | F53: =E53/$E$66 -> 0.55080836 | H53: 16 | I53: 2 | J53: =H53*10 -> 160 | L53: =(D53-0.5)/H53 -> 462.40625 | M53: =(D53+0.4)/H53 -> 462.4625 | R53: =ROUND(H53*P51,0) -> 7399 | S53: =(R53-D53)/D53 -> 0 | U53: ='PE Fight'!AA51*$U$3 -> 462.06073
C54: 52 | D54: 7399 | E54: =D54+E53 -> 158429 | F54: =E54/$E$66 -> 0.57779261 | H54: 16 | I54: 2 | J54: =H54*10 -> 160 | L54: =(D54-0.5)/H54 -> 462.40625 | M54: =(D54+0.4)/H54 -> 462.4625 | R54: =ROUND(H54*P51,0) -> 7399 | S54: =(R54-D54)/D54 -> 0
B55: =B51+1 -> 14 | C55: 53 | D55: 8487 | E55: =D55+E54 -> 166916 | F55: =E55/$E$66 -> 0.60874481 | H55: 16 | I55: 2 | J55: =H55*10 -> 160 | L55: =(D55-0.5)/H55 -> 530.40625 | M55: =(D55+0.4)/H55 -> 530.4625 | N55: =MAX(L55:L58) -> 530.40625 | O55: =MIN(M55:M58) -> 530.4625 | P55: =IF((N55+(O55-N55)/2)<N55,N55,N55+(O55-N55)/2) -> 530.43438 | Q55: =ROUND(P55/P51,4) -> 1.147 | R55: =ROUND(H55*P55,0) -> 8487 | S55: =(R55-D55)/D55 -> 0
C56: 54 | D56: 8487 | E56: =D56+E55 -> 175403 | F56: =E56/$E$66 -> 0.63969701 | H56: 16 | I56: 2 | J56: =H56*10 -> 160 | L56: =(D56-0.5)/H56 -> 530.40625 | M56: =(D56+0.4)/H56 -> 530.4625 | R56: =ROUND(H56*P55,0) -> 8487 | S56: =(R56-D56)/D56 -> 0
C57: 55 | D57: 8487 | E57: =D57+E56 -> 183890 | F57: =E57/$E$66 -> 0.6706492 | H57: 16 | I57: 2 | J57: =H57*10 -> 160 | L57: =(D57-0.5)/H57 -> 530.40625 | M57: =(D57+0.4)/H57 -> 530.4625 | R57: =ROUND(H57*P55,0) -> 8487 | S57: =(R57-D57)/D57 -> 0 | U57: ='PE Fight'!AA55*$U$3 -> 530.00261
C58: 56 | D58: 8487 | E58: =D58+E57 -> 192377 | F58: =E58/$E$66 -> 0.7016014 | H58: 16 | I58: 2 | J58: =H58*10 -> 160 | L58: =(D58-0.5)/H58 -> 530.40625 | M58: =(D58+0.4)/H58 -> 530.4625 | R58: =ROUND(H58*P55,0) -> 8487 | S58: =(R58-D58)/D58 -> 0
B59: =B55+1 -> 15 | C59: 57 | D59: 9575 | E59: =D59+E58 -> 201952 | F59: =E59/$E$66 -> 0.73652155 | H59: 16 | I59: 2 | J59: =H59*10 -> 160 | L59: =(D59-0.5)/H59 -> 598.40625 | M59: =(D59+0.4)/H59 -> 598.4625 | N59: =MAX(L59:L62) -> 598.40625 | O59: =MIN(M59:M62) -> 598.4625 | P59: =IF((N59+(O59-N59)/2)<N59,N59,N59+(O59-N59)/2) -> 598.43438 | Q59: =ROUND(P59/P55,4) -> 1.1282 | R59: =ROUND(H59*P59,0) -> 9575 | S59: =(R59-D59)/D59 -> 0
C60: 58 | D60: 9575 | E60: =D60+E59 -> 211527 | F60: =E60/$E$66 -> 0.7714417 | H60: 16 | I60: 2 | J60: =H60*10 -> 160 | L60: =(D60-0.5)/H60 -> 598.40625 | M60: =(D60+0.4)/H60 -> 598.4625 | R60: =ROUND(H60*P59,0) -> 9575 | S60: =(R60-D60)/D60 -> 0
C61: 59 | D61: 9575 | E61: =D61+E60 -> 221102 | F61: =E61/$E$66 -> 0.80636185 | H61: 16 | I61: 2 | J61: =H61*10 -> 160 | L61: =(D61-0.5)/H61 -> 598.40625 | M61: =(D61+0.4)/H61 -> 598.4625 | R61: =ROUND(H61*P59,0) -> 9575 | S61: =(R61-D61)/D61 -> 0 | U61: ='PE Fight'!AA59*$U$3 -> 597.94449
C62: 60 | D62: 9575 | E62: =D62+E61 -> 230677 | F62: =E62/$E$66 -> 0.841282 | G62: 1.05 | H62: 16 | I62: 2 | J62: =H62*10 -> 160 | L62: =(D62-0.5)/H62 -> 598.40625 | M62: =(D62+0.4)/H62 -> 598.4625 | R62: =ROUND(H62*P59,0) -> 9575 | S62: =(R62-D62)/D62 -> 0
B63: =B59+1 -> 16 | C63: 61 | D63: 10880 | E63: =D63+E62 -> 241557 | F63: =E63/$E$66 -> 0.8809615 | G63: 0.95 | H63: 16 | I63: 2 | J63: =H63*10 -> 160 | L63: =(D63-0.5)/H63 -> 679.96875 | M63: =(D63+0.4)/H63 -> 680.025 | N63: =MAX(L63:L66) -> 679.96875 | O63: =MIN(M63:M66) -> 680.025 | P63: =IF((N63+(O63-N63)/2)<N63,N63,N63+(O63-N63)/2) -> 679.99688 | Q63: =ROUND(P63/P59,4) -> 1.1363 | R63: =ROUND(H63*P63,0) -> 10880 | S63: =(R63-D63)/D63 -> 0
C64: 62 | D64: 10880 | E64: =D64+E63 -> 252437 | F64: =E64/$E$66 -> 0.920641 | H64: 16 | I64: 2 | J64: =H64*10 -> 160 | L64: =(D64-0.5)/H64 -> 679.96875 | M64: =(D64+0.4)/H64 -> 680.025 | R64: =ROUND(H64*P63,0) -> 10880 | S64: =(R64-D64)/D64 -> 0
C65: 63 | D65: 10880 | E65: =D65+E64 -> 263317 | F65: =E65/$E$66 -> 0.9603205 | H65: 16 | I65: 2 | J65: =H65*10 -> 160 | L65: =(D65-0.5)/H65 -> 679.96875 | M65: =(D65+0.4)/H65 -> 680.025 | R65: =ROUND(H65*P63,0) -> 10880 | S65: =(R65-D65)/D65 -> 0 | U65: ='PE Fight'!AA63*$U$3 -> 679.41372
C66: 64 | D66: 10880 | E66: =D66+E65 -> 274197 | F66: =E66/$E$66 -> 1 | H66: 16 | I66: 2 | J66: =H66*10 -> 160 | L66: =(D66-0.5)/H66 -> 679.96875 | M66: =(D66+0.4)/H66 -> 680.025 | R66: =ROUND(H66*P63,0) -> 10880 | S66: =(R66-D66)/D66 -> 0
C68: Points | D68: % of Total
B69: Level 1 | C69: =SUM(D3:D18) -> 17671 | D69: =C69/$C$73 -> 0.064446365
B70: Level 2 | C70: =SUM(D19:D34) -> 34277 | D70: =C70/$C$73 -> 0.12500866
B71: Level 3 | C71: =SUM(D35:D50) -> 76885 | D71: =C71/$C$73 -> 0.28040059
B72: Level 4 | C72: =SUM(D51:D66) -> 145364 | D72: =C72/$C$73 -> 0.53014439
B73: Total | C73: =SUM(C69:C72) -> 274197 | D73: =C73/$C$73 -> 1 | F73: =U3*'PE Fight'!C73 -> 273982.35
D77: Loss
D78: Enemies
D79: 16
D80: 16
D81: 16
D82: 16

Sheet CE Fight
G1: Enemy Units | M1: Expedition Points / Unit | S1: Prediction using Avg.
A2: GE Level | B2: Segment | C2: Encounter | D2: Expedition Points | E2: Cumulative EP | F2: Cumulative % of Total | G2: Attacker Bonus | H2: Total | I2: Waves | J2: Damage Taken | K2: Number of MIRVs | L2: Number of MIRVs Left | M2: Lower Bound | N2: Upper Bound | O2: Min bound | P2: Max bound | Q2: Avg. | R2: Apparent Increase | S2: Expedition Points | T2: % Error
A3: 1 | B3: 1 | C3: 1 | D3: 503 | E3: =D3 -> 503 | F3: =E3/$E$91 -> 0.0018206827 | H3: 3 | I3: 1 | J3: =H3*10 -> 30 | M3: =(D3-0.5)/(H3-L3) -> 167.5 | N3: =(D3+0.4)/(H3-L3) -> 167.8 | O3: =MAX(M3:M6) -> 167.5 | P3: =MIN(N3:N6) -> 167.6 | Q3: =IF((O3+(P3-O3)/2)<O3,O3,O3+(P3-O3)/2) -> 167.55 | S3: =ROUND(H3*Q3,0) -> 503 | T3: =(S3-D3)/D3 -> 0 | V3: =E6/'PE Fight'!E6 -> 2.0051282
C4: 2 | D4: 670 | E4: =IF(ISNUMBER(C4),D4+MAX($E$3:E3),"") -> 1173 | F4: =IF(ISNUMBER(C4),E4/$E$91,"") -> 0.0042458465 | H4: 4 | I4: 1 | J4: =H4*10 -> 40 | M4: =(D4-0.5)/(H4-L4) -> 167.375 | N4: =(D4+0.4)/(H4-L4) -> 167.6 | S4: =ROUND(H4*Q3,0) -> 670 | T4: =(S4-D4)/D4 -> 0
C5: 3 | D5: 838 | E5: =IF(ISNUMBER(C5),D5+MAX($E$3:E4),"") -> 2011 | F5: =IF(ISNUMBER(C5),E5/$E$91,"") -> 0.007279111 | H5: 5 | I5: 1 | J5: =H5*10 -> 50 | M5: =(D5-0.5)/(H5-L5) -> 167.5 | N5: =(D5+0.4)/(H5-L5) -> 167.68 | S5: =ROUND(H5*Q3,0) -> 838 | T5: =(S5-D5)/D5 -> 0
C6: 4 | D6: 1508 | E6: =IF(ISNUMBER(C6),D6+MAX($E$3:E5),"") -> 3519 | F6: =IF(ISNUMBER(C6),E6/$E$91,"") -> 0.012737539 | H6: 9 | I6: 2 | J6: =H6*10 -> 90 | M6: =(D6-0.5)/(H6-L6) -> 167.5 | N6: =(D6+0.4)/(H6-L6) -> 167.6 | S6: =ROUND(H6*Q3,0) -> 1508 | T6: =(S6-D6)/D6 -> 0
B7: =B3+1 -> 2 | C7: 5 | D7: 880 | E7: =IF(ISNUMBER(C7),D7+MAX($E$3:E6),"") -> 4399 | F7: =IF(ISNUMBER(C7),E7/$E$91,"") -> 0.015922829 | H7: 5 | I7: 1 | J7: =H7*10 -> 50 | M7: =(D7-0.5)/(H7-L7) -> 175.9 | N7: =(D7+0.4)/(H7-L7) -> 176.08 | O7: =MAX(M7:M10) -> 175.92857 | P7: =MIN(N7:N10) -> 175.94 | Q7: =IF((O7+(P7-O7)/2)<O7,O7,O7+(P7-O7)/2) -> 175.93429 | R7: =ROUND(Q7/Q3,4) -> 1.05 | S7: =ROUND(H7*Q7,0) -> 880 | T7: =(S7-D7)/D7 -> 0
C8: 6 | D8: 1056 | E8: =IF(ISNUMBER(C8),D8+MAX($E$3:E7),"") -> 5455 | F8: =IF(ISNUMBER(C8),E8/$E$91,"") -> 0.019745177 | H8: 6 | I8: 1 | J8: =H8*10 -> 60 | M8: =(D8-0.5)/(H8-L8) -> 175.91667 | N8: =(D8+0.4)/(H8-L8) -> 176.06667 | S8: =ROUND(H8*Q7,0) -> 1056 | T8: =(S8-D8)/D8 -> 0
C9: 7 | D9: 1232 | E9: =IF(ISNUMBER(C9),D9+MAX($E$3:E8),"") -> 6687 | F9: =IF(ISNUMBER(C9),E9/$E$91,"") -> 0.024204582 | H9: 7 | I9: 1 | J9: =H9*10 -> 70 | M9: =(D9-0.5)/(H9-L9) -> 175.92857 | N9: =(D9+0.4)/(H9-L9) -> 176.05714 | S9: =ROUND(H9*Q7,0) -> 1232 | T9: =(S9-D9)/D9 -> 0 | V9: ='PE Fight'!AA7*$V$3 -> 175.95
C10: 8 | D10: 1759 | E10: =IF(ISNUMBER(C10),D10+MAX($E$3:E9),"") -> 8446 | F10: =IF(ISNUMBER(C10),E10/$E$91,"") -> 0.030571542 | H10: 10 | I10: 1 | J10: =H10*10 -> 100 | M10: =(D10-0.5)/(H10-L10) -> 175.85 | N10: =(D10+0.4)/(H10-L10) -> 175.94 | S10: =ROUND(H10*Q7,0) -> 1759 | T10: =(S10-D10)/D10 -> 0
B11: =B7+1 -> 3 | C11: 9 | D11: 1290 | E11: =IF(ISNUMBER(C11),D11+MAX($E$3:E10),"") -> 9736 | F11: =IF(ISNUMBER(C11),E11/$E$91,"") -> 0.035240888 | H11: 7 | I11: 1 | J11: =H11*10 -> 70 | M11: =(D11-0.5)/(H11-L11) -> 184.21429 | N11: =(D11+0.4)/(H11-L11) -> 184.34286 | O11: =MAX(M11:M14) -> 184.3125 | P11: =MIN(N11:N14) -> 184.30909 | Q11: =IF((O11+(P11-O11)/2)<O11,O11,O11+(P11-O11)/2) -> 184.3125 | R11: =ROUND(Q11/Q7,4) -> 1.0476 | S11: =ROUND(H11*Q11,0) -> 1290 | T11: =(S11-D11)/D11 -> 0
C12: 10 | D12: 1290 | E12: =IF(ISNUMBER(C12),D12+MAX($E$3:E11),"") -> 11026 | F12: =IF(ISNUMBER(C12),E12/$E$91,"") -> 0.039910233 | H12: 7 | I12: 1 | J12: =H12*10 -> 70 | M12: =(D12-0.5)/(H12-L12) -> 184.21429 | N12: =(D12+0.4)/(H12-L12) -> 184.34286 | S12: =ROUND(H12*Q11,0) -> 1290 | T12: =(S12-D12)/D12 -> 0
C13: 11 | D13: 1475 | E13: =IF(ISNUMBER(C13),D13+MAX($E$3:E12),"") -> 12501 | F13: =IF(ISNUMBER(C13),E13/$E$91,"") -> 0.045249213 | H13: 8 | I13: 1 | J13: =H13*10 -> 80 | M13: =(D13-0.5)/(H13-L13) -> 184.3125 | N13: =(D13+0.4)/(H13-L13) -> 184.425 | S13: =ROUND(H13*Q11,0) -> 1475 | T13: =(S13-D13)/D13 -> 0 | V13: ='PE Fight'!AA11*$V$3 -> 184.24915
C14: 12 | D14: 2027 | E14: =IF(ISNUMBER(C14),D14+MAX($E$3:E13),"") -> 14528 | F14: =IF(ISNUMBER(C14),E14/$E$91,"") -> 0.052586238 | H14: 11 | I14: 2 | J14: =H14*10 -> 110 | M14: =(D14-0.5)/(H14-L14) -> 184.22727 | N14: =(D14+0.4)/(H14-L14) -> 184.30909 | S14: =ROUND(H14*Q11,0) -> 2027 | T14: =(S14-D14)/D14 -> 0
B15: =B11+1 -> 4 | C15: 13 | D15: 1608 | E15: =IF(ISNUMBER(C15),D15+MAX($E$3:E14),"") -> 16136 | F15: =IF(ISNUMBER(C15),E15/$E$91,"") -> 0.058406631 | H15: 8 | I15: 1 | J15: =H15*10 -> 80 | M15: =(D15-0.5)/(H15-L15) -> 200.9375 | N15: =(D15+0.4)/(H15-L15) -> 201.05 | O15: =MAX(M15:M18) -> 200.95833 | P15: =MIN(N15:N18) -> 201.03333 | Q15: =IF((O15+(P15-O15)/2)<O15,O15,O15+(P15-O15)/2) -> 200.99583 | R15: =ROUND(Q15/Q11,4) -> 1.0905 | S15: =ROUND(H15*Q15,0) -> 1608 | T15: =(S15-D15)/D15 -> 0
C16: 14 | D16: 1608 | E16: =IF(ISNUMBER(C16),D16+MAX($E$3:E15),"") -> 17744 | F16: =IF(ISNUMBER(C16),E16/$E$91,"") -> 0.064227024 | H16: 8 | I16: 1 | J16: =H16*10 -> 80 | M16: =(D16-0.5)/(H16-L16) -> 200.9375 | N16: =(D16+0.4)/(H16-L16) -> 201.05 | S16: =ROUND(H16*Q15,0) -> 1608 | T16: =(S16-D16)/D16 -> 0
C17: 15 | D17: 1608 | E17: =IF(ISNUMBER(C17),D17+MAX($E$3:E16),"") -> 19352 | F17: =IF(ISNUMBER(C17),E17/$E$91,"") -> 0.070047417 | H17: 8 | I17: 1 | J17: =H17*10 -> 80 | M17: =(D17-0.5)/(H17-L17) -> 200.9375 | N17: =(D17+0.4)/(H17-L17) -> 201.05 | S17: =ROUND(H17*Q15,0) -> 1608 | T17: =(S17-D17)/D17 -> 0 | V17: ='PE Fight'!AA15*$V$3 -> 201.00575
C18: 16 | D18: 2412 | E18: =IF(ISNUMBER(C18),D18+MAX($E$3:E17),"") -> 21764 | F18: =IF(ISNUMBER(C18),E18/$E$91,"") -> 0.078778007 | H18: 12 | I18: 2 | J18: =H18*10 -> 120 | M18: =(D18-0.5)/(H18-L18) -> 200.95833 | N18: =(D18+0.4)/(H18-L18) -> 201.03333 | S18: =ROUND(H18*Q15,0) -> 2412 | T18: =(S18-D18)/D18 -> 0
A19: =A3+1 -> 2 | B19: =B15+1 -> 5 | C19: 17 | D19: 1742 | E19: =IF(ISNUMBER(C19),D19+MAX($E$3:E18),"") -> 23506 | F19: =IF(ISNUMBER(C19),E19/$E$91,"") -> 0.085083433 | H19: 8 | I19: 1 | J19: =H19*10 -> 80 | M19: =(D19-0.5)/(H19-L19) -> 217.6875 | N19: =(D19+0.4)/(H19-L19) -> 217.8 | O19: =MAX(M19:M22) -> 217.73077 | P19: =MIN(N19:N22) -> 217.8 | Q19: =IF((O19+(P19-O19)/2)<O19,O19,O19+(P19-O19)/2) -> 217.76538 | R19: =ROUND(Q19/Q15,4) -> 1.0834 | S19: =ROUND(H19*Q19,0) -> 1742 | T19: =(S19-D19)/D19 -> 0
C20: 18 | D20: 1742 | E20: =IF(ISNUMBER(C20),D20+MAX($E$3:E19),"") -> 25248 | F20: =IF(ISNUMBER(C20),E20/$E$91,"") -> 0.091388859 | H20: 8 | I20: 1 | J20: =H20*10 -> 80 | M20: =(D20-0.5)/(H20-L20) -> 217.6875 | N20: =(D20+0.4)/(H20-L20) -> 217.8 | S20: =ROUND(H20*Q19,0) -> 1742 | T20: =(S20-D20)/D20 -> 0
C21: 19 | D21: 1742 | E21: =IF(ISNUMBER(C21),D21+MAX($E$3:E20),"") -> 26990 | F21: =IF(ISNUMBER(C21),E21/$E$91,"") -> 0.097694285 | H21: 8 | I21: 1 | J21: =H21*10 -> 80 | M21: =(D21-0.5)/(H21-L21) -> 217.6875 | N21: =(D21+0.4)/(H21-L21) -> 217.8 | S21: =ROUND(H21*Q19,0) -> 1742 | T21: =(S21-D21)/D21 -> 0 | V21: ='PE Fight'!AA19*$V$3 -> 217.78006
C22: 20 | D22: 2831 | E22: =IF(ISNUMBER(C22),D22+MAX($E$3:E21),"") -> 29821 | F22: =IF(ISNUMBER(C22),E22/$E$91,"") -> 0.10794151 | H22: 13 | I22: 2 | J22: =H22*10 -> 130 | M22: =(D22-0.5)/(H22-L22) -> 217.73077 | N22: =(D22+0.4)/(H22-L22) -> 217.8 | S22: =ROUND(H22*Q19,0) -> 2831 | T22: =(S22-D22)/D22 -> 0
B23: =B19+1 -> 6 | C23: 21 | D23: 1943 | E23: =IF(ISNUMBER(C23),D23+MAX($E$3:E22),"") -> 31764 | F23: =IF(ISNUMBER(C23),E23/$E$91,"") -> 0.11497448 | H23: 8 | I23: 1 | J23: =H23*10 -> 80 | M23: =(D23-0.5)/(H23-L23) -> 242.8125 | N23: =(D23+0.4)/(H23-L23) -> 242.925 | O23: =MAX(M23:M27) -> 242.89286 | P23: =MIN(N23:N27) -> 242.925 | Q23: =IF((O23+(P23-O23)/2)<O23,O23,O23+(P23-O23)/2) -> 242.90893 | R23: =ROUND(Q23/Q19,4) -> 1.1155 | S23: =ROUND((H23-L23)*OFFSET($B$23,0,15),0) -> 1943 | T23: =(S23-D23)/D23 -> 0
C24: 22a | D24: 972 | E24: =IF(ISNUMBER(C24),D24+MAX($E$3:E23),"") | F24: =IF(ISNUMBER(C24),E24/$E$91,"") | H24: 8 | I24: 1 | J24: =H24*10 -> 80 | K24: 4 | L24: 4 | M24: =(D24-0.5)/(H24-L24) -> 242.875 | N24: =(D24+0.4)/(H24-L24) -> 243.1 | S24: =ROUND((H24-L24)*OFFSET($B$23,0,15),0) -> 972 | T24: =(S24-D24)/D24 -> 0
C25: 22 | D25: 1943 | E25: =IF(ISNUMBER(C25),D25+MAX($E$3:E24),"") -> 33707 | F25: =IF(ISNUMBER(C25),E25/$E$91,"") -> 0.12200746 | H25: 8 | I25: 1 | J25: =H25*10 -> 80 | K25: 4 | L25: 0 | M25: =(D25-0.5)/(H25-L25) -> 242.8125 | N25: =(D25+0.4)/(H25-L25) -> 242.925 | S25: =ROUND((H25-L25)*OFFSET($B$23,0,15),0) -> 1943 | T25: =(S25-D25)/D25 -> 0
C26: 23 | D26: 1943 | E26: =IF(ISNUMBER(C26),D26+MAX($E$3:E24),"") -> 33707 | F26: =IF(ISNUMBER(C26),E26/$E$91,"") -> 0.12200746 | H26: 8 | I26: 1 | J26: =H26*10 -> 80 | M26: =(D26-0.5)/(H26-L26) -> 242.8125 | N26: =(D26+0.4)/(H26-L26) -> 242.925 | S26: =ROUND((H26-L26)*OFFSET($B$23,0,15),0) -> 1943 | T26: =(S26-D26)/D26 -> 0 | V26: ='PE Fight'!AA23*$V$3 -> 242.8998
C27: 24 | D27: 3401 | E27: =IF(ISNUMBER(C27),D27+MAX($E$3:E26),"") -> 37108 | F27: =IF(ISNUMBER(C27),E27/$E$91,"") -> 0.13431788 | H27: 14 | I27: 2 | J27: =H27*10 -> 140 | M27: =(D27-0.5)/(H27-L27) -> 242.89286 | N27: =(D27+0.4)/(H27-L27) -> 242.95714 | S27: =ROUND((H27-L27)*OFFSET($B$23,0,15),0) -> 3401 | T27: =(S27-D27)/D27 -> 0
B28: =B23+1 -> 7 | C28: 25 | D28: 2144 | E28: =IF(ISNUMBER(C28),D28+MAX($E$3:E27),"") -> 39252 | F28: =IF(ISNUMBER(C28),E28/$E$91,"") -> 0.1420784 | H28: 8 | I28: 1 | J28: =H28*10 -> 80 | M28: =(D28-0.5)/(H28-L28) -> 267.9375 | N28: =(D28+0.4)/(H28-L28) -> 268.05 | O28: =MAX(M28:M34) -> 267.96667 | P28: =MIN(N28:N34) -> 268.02667 | Q28: =IF((O28+(P28-O28)/2)<O28,O28,O28+(P28-O28)/2) -> 267.99667 | R28: =ROUND(Q28/Q23,4) -> 1.1033 | S28: =ROUND((H28-L28)*OFFSET($B$28,0,15),0) -> 2144 | T28: =(S28-D28)/D28 -> 0
C29: 26a | D29: 1340 | E29: =IF(ISNUMBER(C29),D29+MAX($E$3:E28),"") | F29: =IF(ISNUMBER(C29),E29/$E$91,"") | H29: 8 | I29: 1 | J29: =H29*10 -> 80 | K29: 3 | L29: 3 | M29: =(D29-0.5)/(H29-L29) -> 267.9 | N29: =(D29+0.4)/(H29-L29) -> 268.08 | S29: =ROUND((H29-L29)*OFFSET($B$28,0,15),0) -> 1340 | T29: =(S29-D29)/D29 -> 0
C30: 26b | D30: 1876 | E30: =IF(ISNUMBER(C30),D30+MAX($E$3:E29),"") | F30: =IF(ISNUMBER(C30),E30/$E$91,"") | H30: 8 | I30: 1 | J30: =H30*10 -> 80 | L30: 1 | M30: =(D30-0.5)/(H30-L30) -> 267.92857 | N30: =(D30+0.4)/(H30-L30) -> 268.05714 | S30: =ROUND((H30-L30)*OFFSET($B$28,0,15),0) -> 1876 | T30: =(S30-D30)/D30 -> 0
C31: 26 | D31: 2144 | E31: =IF(ISNUMBER(C31),D31+MAX($E$3:E30),"") -> 41396 | F31: =IF(ISNUMBER(C31),E31/$E$91,"") -> 0.14983893 | H31: 8 | I31: 1 | J31: =H31*10 -> 80 | L31: 0 | M31: =(D31-0.5)/(H31-L31) -> 267.9375 | N31: =(D31+0.4)/(H31-L31) -> 268.05 | S31: =ROUND((H31-L31)*OFFSET($B$28,0,15),0) -> 2144 | T31: =(S31-D31)/D31 -> 0
C32: 27a | D32: 1608 | E32: =IF(ISNUMBER(C32),D32+MAX($E$3:E31),"") | F32: =IF(ISNUMBER(C32),E32/$E$91,"") | H32: 8 | I32: 1 | J32: =H32*10 -> 80 | K32: 2 | L32: 2 | M32: =(D32-0.5)/(H32-L32) -> 267.91667 | N32: =(D32+0.4)/(H32-L32) -> 268.06667 | S32: =ROUND((H32-L32)*OFFSET($B$28,0,15),0) -> 1608 | T32: =(S32-D32)/D32 -> 0 | V32: ='PE Fight'!AA27*$V$3 -> 267.87844
C33: 27 | D33: 2144 | E33: =IF(ISNUMBER(C33),D33+MAX($E$3:E32),"") -> 43540 | F33: =IF(ISNUMBER(C33),E33/$E$91,"") -> 0.15759945 | H33: 8 | I33: 1 | J33: =H33*10 -> 80 | K33: 2 | L33: 0 | M33: =(D33-0.5)/(H33-L33) -> 267.9375 | N33: =(D33+0.4)/(H33-L33) -> 268.05 | S33: =ROUND((H33-L33)*OFFSET($B$28,0,15),0) -> 2144 | T33: =(S33-D33)/D33 -> 0
C34: 28 | D34: 4020 | E34: =IF(ISNUMBER(C34),D34+MAX($E$3:E32),"") -> 45416 | F34: =IF(ISNUMBER(C34),E34/$E$91,"") -> 0.16438991 | H34: 15 | I34: 2 | J34: =H34*10 -> 150 | M34: =(D34-0.5)/(H34-L34) -> 267.96667 | N34: =(D34+0.4)/(H34-L34) -> 268.02667 | S34: =ROUND((H34-L34)*OFFSET($B$28,0,15),0) -> 4020 | T34: =(S34-D34)/D34 -> 0
B35: =B28+1 -> 8 | C35: 29 | D35: 3015 | E35: =IF(ISNUMBER(C35),D35+MAX($E$3:E34),"") -> 48431 | F35: =IF(ISNUMBER(C35),E35/$E$91,"") -> 0.17530315 | H35: 10 | I35: 2 | J35: =H35*10 -> 100 | M35: =(D35-0.5)/(H35-L35) -> 301.45 | N35: =(D35+0.4)/(H35-L35) -> 301.54 | O35: =MAX(M35:M40) -> 301.5 | P35: =MIN(N35:N40) -> 301.525 | Q35: =IF((O35+(P35-O35)/2)<O35,O35,O35+(P35-O35)/2) -> 301.5125 | R35: =ROUND(Q35/Q28,4) -> 1.1251 | S35: =ROUND((H35-L35)*OFFSET($B$35,0,15),0) -> 3015 | T35: =(S35-D35)/D35 -> 0
C36: 30 | D36: 3317 | E36: =IF(ISNUMBER(C36),D36+MAX($E$3:E35),"") -> 51748 | F36: =IF(ISNUMBER(C36),E36/$E$91,"") -> 0.18730952 | H36: 11 | I36: 2 | J36: =H36*10 -> 110 | M36: =(D36-0.5)/(H36-L36) -> 301.5 | N36: =(D36+0.4)/(H36-L36) -> 301.58182 | S36: =ROUND((H36-L36)*OFFSET($B$35,0,15),0) -> 3317 | T36: =(S36-D36)/D36 -> 0
C37: 31a | D37: 3015 | E37: =IF(ISNUMBER(C37),D37+MAX($E$3:E36),"") | F37: =IF(ISNUMBER(C37),E37/$E$91,"") | H37: 11 | I37: 2 | J37: =H37*10 -> 110 | K37: 3,1 | L37: 1 | M37: =(D37-0.5)/(H37-L37) -> 301.45 | N37: =(D37+0.4)/(H37-L37) -> 301.54 | S37: =ROUND((H37-L37)*OFFSET($B$35,0,15),0) -> 3015 | T37: =(S37-D37)/D37 -> 0 | V37: ='PE Fight'!AA31*$V$3 -> 301.42659
C38: 31 | D38: 3317 | E38: =IF(ISNUMBER(C38),D38+MAX($E$3:E37),"") -> 55065 | F38: =IF(ISNUMBER(C38),E38/$E$91,"") -> 0.19931589 | H38: 11 | I38: 2 | J38: =H38*10 -> 110 | K38: 3,1 | L38: 0 | M38: =(D38-0.5)/(H38-L38) -> 301.5 | N38: =(D38+0.4)/(H38-L38) -> 301.58182 | S38: =ROUND((H38-L38)*OFFSET($B$35,0,15),0) -> 3317 | T38: =(S38-D38)/D38 -> 0
C39: 32a | D39: 4221 | E39: =IF(ISNUMBER(C39),D39+MAX($E$3:E36),"") | F39: =IF(ISNUMBER(C39),E39/$E$91,"") | H39: 16 | I39: 2 | J39: =H39*10 -> 160 | K39: 1,2 | L39: 2 | M39: =(D39-0.5)/(H39-L39) -> 301.46429 | N39: =(D39+0.4)/(H39-L39) -> 301.52857 | S39: =ROUND((H39-L39)*OFFSET($B$35,0,15),0) -> 4221 | T39: =(S39-D39)/D39 -> 0
C40: 32 | D40: 4824 | E40: =IF(ISNUMBER(C40),D40+MAX($E$3:E37),"") -> 56572 | F40: =IF(ISNUMBER(C40),E40/$E$91,"") -> 0.2047707 | H40: 16 | I40: 2 | J40: =H40*10 -> 160 | K40: 1,2 | L40: 0 | M40: =(D40-0.5)/(H40-L40) -> 301.46875 | N40: =(D40+0.4)/(H40-L40) -> 301.525 | S40: =ROUND((H40-L40)*OFFSET($B$35,0,15),0) -> 4824 | T40: =(S40-D40)/D40 -> 0
A41: =A19+1 -> 3 | B41: =B35+1 -> 9 | C41: 33 | D41: 3685 | E41: =IF(ISNUMBER(C41),D41+MAX($E$3:E40),"") -> 60257 | F41: =IF(ISNUMBER(C41),E41/$E$91,"") -> 0.2181091 | H41: 11 | I41: 2 | J41: =H41*10 -> 110 | M41: =(D41-0.5)/(H41-L41) -> 334.95455 | N41: =(D41+0.4)/(H41-L41) -> 335.03636 | O41: =MAX(M41:M45) -> 334.96875 | P41: =MIN(N41:N45) -> 335.025 | Q41: =IF((O41+(P41-O41)/2)<O41,O41,O41+(P41-O41)/2) -> 334.99687 | R41: =ROUND(Q41/Q35,4) -> 1.1111 | S41: =ROUND((H41-L41)*OFFSET($B$41,0,15),0) -> 3685 | T41: =(S41-D41)/D41 -> 0
C42: 34 | D42: 4020 | E42: =IF(ISNUMBER(C42),D42+MAX($E$3:E41),"") -> 64277 | F42: =IF(ISNUMBER(C42),E42/$E$91,"") -> 0.23266008 | H42: 12 | I42: 2 | J42: =H42*10 -> 120 | M42: =(D42-0.5)/(H42-L42) -> 334.95833 | N42: =(D42+0.4)/(H42-L42) -> 335.03333 | S42: =ROUND((H42-L42)*OFFSET($B$41,0,15),0) -> 4020 | T42: =(S42-D42)/D42 -> 0
C43: 35a | D43: 3350 | E43: =IF(ISNUMBER(C43),D43+MAX($E$3:E42),"") | F43: =IF(ISNUMBER(C43),E43/$E$91,"") | H43: 12 | I43: 2 | J43: =H43*10 -> 120 | K43: 4,2 | L43: 2 | M43: =(D43-0.5)/(H43-L43) -> 334.95 | N43: =(D43+0.4)/(H43-L43) -> 335.04 | S43: =ROUND((H43-L43)*OFFSET($B$41,0,15),0) -> 3350 | T43: =(S43-D43)/D43 -> 0 | V43: ='PE Fight'!AA35*$V$3 -> 334.85014
C44: 35 | D44: 4020 | E44: =IF(ISNUMBER(C44),D44+MAX($E$3:E43),"") -> 68297 | F44: =IF(ISNUMBER(C44),E44/$E$91,"") -> 0.24721106 | H44: 12 | I44: 2 | J44: =H44*10 -> 120 | K44: 4,2 | L44: 0 | M44: =(D44-0.5)/(H44-L44) -> 334.95833 | N44: =(D44+0.4)/(H44-L44) -> 335.03333 | S44: =ROUND((H44-L44)*OFFSET($B$41,0,15),0) -> 4020 | T44: =(S44-D44)/D44 -> 0
C45: 36 | D45: 5360 | E45: =IF(ISNUMBER(C45),D45+MAX($E$3:E43),"") -> 69637 | F45: =IF(ISNUMBER(C45),E45/$E$91,"") -> 0.25206139 | H45: 16 | I45: 2 | J45: =H45*10 -> 160 | M45: =(D45-0.5)/(H45-L45) -> 334.96875 | N45: =(D45+0.4)/(H45-L45) -> 335.025 | S45: =ROUND((H45-L45)*OFFSET($B$41,0,15),0) -> 5360 | T45: =(S45-D45)/D45 -> 0
B46: =B41+1 -> 10 | C46: 37 | D46: 5009 | E46: =IF(ISNUMBER(C46),D46+MAX($E$3:E45),"") -> 74646 | F46: =IF(ISNUMBER(C46),E46/$E$91,"") -> 0.2701922 | H46: 13 | I46: 2 | J46: =H46*10 -> 130 | M46: =(D46-0.5)/(H46-L46) -> 385.26923 | N46: =(D46+0.4)/(H46-L46) -> 385.33846 | O46: =MAX(M46:M51) -> 385.26923 | P46: =MIN(N46:N51) -> 385.275 | Q46: =IF((O46+(P46-O46)/2)<O46,O46,O46+(P46-O46)/2) -> 385.27212 | R46: =ROUND(Q46/Q41,4) -> 1.1501 | S46: =ROUND((H46-L46)*OFFSET($B$46,0,15),0) -> 5009 | T46: =(S46-D46)/D46 -> 0
C47: 38a | D47: 4623 | E47: =IF(ISNUMBER(C47),D47+MAX($E$3:E46),"") | F47: =IF(ISNUMBER(C47),E47/$E$91,"") | H47: 13 | I47: 2 | J47: =H47*10 -> 130 | K47: 4,1 | L47: 1 | M47: =(D47-0.5)/(H47-L47) -> 385.20833 | N47: =(D47+0.4)/(H47-L47) -> 385.28333 | S47: =ROUND((H47-L47)*OFFSET($B$46,0,15),0) -> 4623 | T47: =(S47-D47)/D47 -> 0
C48: 38 | D48: 5009 | E48: =IF(ISNUMBER(C48),D48+MAX($E$3:E47),"") -> 79655 | F48: =IF(ISNUMBER(C48),E48/$E$91,"") -> 0.28832302 | H48: 13 | I48: 2 | J48: =H48*10 -> 130 | K48: 4,1 | L48: 0 | M48: =(D48-0.5)/(H48-L48) -> 385.26923 | N48: =(D48+0.4)/(H48-L48) -> 385.33846 | S48: =ROUND((H48-L48)*OFFSET($B$46,0,15),0) -> 5009 | T48: =(S48-D48)/D48 -> 0
C49: 39 | D49: 5009 | E49: =IF(ISNUMBER(C49),D49+MAX($E$3:E47),"") -> 79655 | F49: =IF(ISNUMBER(C49),E49/$E$91,"") -> 0.28832302 | H49: 13 | I49: 2 | J49: =H49*10 -> 130 | M49: =(D49-0.5)/(H49-L49) -> 385.26923 | N49: =(D49+0.4)/(H49-L49) -> 385.33846 | S49: =ROUND((H49-L49)*OFFSET($B$46,0,15),0) -> 5009 | T49: =(S49-D49)/D49 -> 0 | V49: ='PE Fight'!AA39*$V$3 -> 385.1109
C50: 40a | D50: 5394 | E50: =IF(ISNUMBER(C50),D50+MAX($E$3:E47),"") | F50: =IF(ISNUMBER(C50),E50/$E$91,"") | H50: 16 | I50: 2 | J50: =H50*10 -> 160 | K50: 2,2 | L50: 2 | M50: =(D50-0.5)/(H50-L50) -> 385.25 | N50: =(D50+0.4)/(H50-L50) -> 385.31429 | S50: =ROUND((H50-L50)*OFFSET($B$46,0,15),0) -> 5394 | T50: =(S50-D50)/D50 -> 0
C51: 40 | D51: 6164 | E51: =IF(ISNUMBER(C51),D51+MAX($E$3:E49),"") -> 85819 | F51: =IF(ISNUMBER(C51),E51/$E$91,"") -> 0.31063452 | H51: 16 | I51: 2 | J51: =H51*10 -> 160 | K51: 2,2 | L51: 0 | M51: =(D51-0.5)/(H51-L51) -> 385.21875 | N51: =(D51+0.4)/(H51-L51) -> 385.275 | S51: =ROUND((H51-L51)*OFFSET($B$46,0,15),0) -> 6164 | T51: =(S51-D51)/D51 -> 0
B52: =B46+1 -> 11 | C52: 41 | D52: 6097 | E52: =IF(ISNUMBER(C52),D52+MAX($E$3:E51),"") -> 91916 | F52: =IF(ISNUMBER(C52),E52/$E$91,"") -> 0.33270351 | H52: 14 | I52: 2 | J52: =H52*10 -> 140 | M52: =(D52-0.5)/(H52-L52) -> 435.46429 | N52: =(D52+0.4)/(H52-L52) -> 435.52857 | O52: =MAX(M52:M57) -> 435.5 | P52: =MIN(N52:N57) -> 435.525 | Q52: =IF((O52+(P52-O52)/2)<O52,O52,O52+(P52-O52)/2) -> 435.5125 | R52: =ROUND(Q52/Q46,4) -> 1.1304 | S52: =ROUND((H52-L52)*OFFSET($B$52,0,15),0) -> 6097 | T52: =(S52-D52)/D52 -> 0
C53: 42 | D53: 6097 | E53: =IF(ISNUMBER(C53),D53+MAX($E$3:E52),"") -> 98013 | F53: =IF(ISNUMBER(C53),E53/$E$91,"") -> 0.35477251 | H53: 14 | I53: 2 | J53: =H53*10 -> 140 | M53: =(D53-0.5)/(H53-L53) -> 435.46429 | N53: =(D53+0.4)/(H53-L53) -> 435.52857 | S53: =ROUND((H53-L53)*OFFSET($B$52,0,15),0) -> 6097 | T53: =(S53-D53)/D53 -> 0
C54: 43a | D54: 5662 | E54: =IF(ISNUMBER(C54),D54+MAX($E$3:E53),"") | F54: =IF(ISNUMBER(C54),E54/$E$91,"") | H54: 14 | I54: 2 | J54: =H54*10 -> 140 | K54: 2,1 | L54: 1 | M54: =(D54-0.5)/(H54-L54) -> 435.5 | N54: =(D54+0.4)/(H54-L54) -> 435.56923 | S54: =ROUND((H54-L54)*OFFSET($B$52,0,15),0) -> 5662 | T54: =(S54-D54)/D54 -> 0 | V54: ='PE Fight'!AA43*$V$3 -> 435.37062
C55: 43 | D55: 6097 | E55: =IF(ISNUMBER(C55),D55+MAX($E$3:E54),"") -> 104110 | F55: =IF(ISNUMBER(C55),E55/$E$91,"") -> 0.3768415 | H55: 14 | I55: 2 | J55: =H55*10 -> 140 | K55: 2,1 | L55: 0 | M55: =(D55-0.5)/(H55-L55) -> 435.46429 | N55: =(D55+0.4)/(H55-L55) -> 435.52857 | S55: =ROUND((H55-L55)*OFFSET($B$52,0,15),0) -> 6097 | T55: =(S55-D55)/D55 -> 0
C56: 44a | D56: 6097 | E56: =IF(ISNUMBER(C56),D56+MAX($E$3:E53),"") | F56: =IF(ISNUMBER(C56),E56/$E$91,"") | H56: 16 | I56: 2 | J56: =H56*10 -> 160 | K56: 2,2 | L56: 2 | M56: =(D56-0.5)/(H56-L56) -> 435.46429 | N56: =(D56+0.4)/(H56-L56) -> 435.52857 | S56: =ROUND((H56-L56)*OFFSET($B$52,0,15),0) -> 6097 | T56: =(S56-D56)/D56 -> 0
C57: 44 | D57: 6968 | E57: =IF(ISNUMBER(C57),D57+MAX($E$3:E54),"") -> 104981 | F57: =IF(ISNUMBER(C57),E57/$E$91,"") -> 0.37999421 | H57: 16 | I57: 2 | J57: =H57*10 -> 160 | K57: 2,2 | L57: 0 | M57: =(D57-0.5)/(H57-L57) -> 435.46875 | N57: =(D57+0.4)/(H57-L57) -> 435.525 | S57: =ROUND((H57-L57)*OFFSET($B$52,0,15),0) -> 6968 | T57: =(S57-D57)/D57 -> 0
B58: =B52+1 -> 12 | C58: 45a | D58: 6030 | E58: =IF(ISNUMBER(C58),D58+MAX($E$3:E57),"") | F58: =IF(ISNUMBER(C58),E58/$E$91,"") | H58: 15 | I58: 2 | J58: =H58*10 -> 150 | K58: 0,3 | L58: 3 | M58: =(D58-0.5)/(H58-L58) -> 502.45833 | N58: =(D58+0.4)/(H58-L58) -> 502.53333 | O58: =MAX(M58:M65) -> 502.5 | P58: =MIN(N58:N65) -> 502.525 | Q58: =IF((O58+(P58-O58)/2)<O58,O58,O58+(P58-O58)/2) -> 502.5125 | R58: =ROUND(Q58/Q52,4) -> 1.1538 | S58: =ROUND((H58-L58)*OFFSET($B$58,0,15),0) -> 6030 | T58: =(S58-D58)/D58 -> 0
C59: 45 | D59: 7538 | E59: =IF(ISNUMBER(C59),D59+MAX($E$3:E57),"") -> 112519 | F59: =IF(ISNUMBER(C59),E59/$E$91,"") -> 0.40727911 | H59: 15 | I59: 2 | J59: =H59*10 -> 150 | K59: 0,3 | L59: 0 | M59: =(D59-0.5)/(H59-L59) -> 502.5 | N59: =(D59+0.4)/(H59-L59) -> 502.56 | S59: =ROUND((H59-L59)*OFFSET($B$58,0,15),0) -> 7538 | T59: =(S59-D59)/D59 -> 0
C60: 46a | D60: 6030 | E60: =IF(ISNUMBER(C60),D60+MAX($E$3:E57),"") | F60: =IF(ISNUMBER(C60),E60/$E$91,"") | H60: 15 | I60: 2 | J60: =H60*10 -> 150 | K60: 0,3 | L60: 3 | M60: =(D60-0.5)/(H60-L60) -> 502.45833 | N60: =(D60+0.4)/(H60-L60) -> 502.53333 | S60: =ROUND((H60-L60)*OFFSET($B$58,0,15),0) -> 6030 | T60: =(S60-D60)/D60 -> 0
C61: 46 | D61: 7538 | E61: =IF(ISNUMBER(C61),D61+MAX($E$3:E58),"") -> 112519 | F61: =IF(ISNUMBER(C61),E61/$E$91,"") -> 0.40727911 | H61: 15 | I61: 2 | J61: =H61*10 -> 150 | K61: 0,3 | L61: 0 | M61: =(D61-0.5)/(H61-L61) -> 502.5 | N61: =(D61+0.4)/(H61-L61) -> 502.56 | S61: =ROUND((H61-L61)*OFFSET($B$58,0,15),0) -> 7538 | T61: =(S61-D61)/D61 -> 0
C62: 47a | D62: 5528 | E62: =IF(ISNUMBER(C62),D62+MAX($E$3:E60),"") | F62: =IF(ISNUMBER(C62),E62/$E$91,"") | H62: 16 | I62: 2 | J62: =H62*10 -> 160 | K62: 2,6 | L62: 5 | M62: =(D62-0.5)/(H62-L62) -> 502.5 | N62: =(D62+0.4)/(H62-L62) -> 502.58182 | S62: =ROUND((H62-L62)*OFFSET($B$58,0,15),0) -> 5528 | T62: =(S62-D62)/D62 -> 0
C63: 47 | D63: 8040 | E63: =IF(ISNUMBER(C63),D63+MAX($E$3:E61),"") -> 120559 | F63: =IF(ISNUMBER(C63),E63/$E$91,"") -> 0.43638108 | H63: 16 | I63: 2 | J63: =H63*10 -> 160 | K63: 2,6 | L63: 0 | M63: =(D63-0.5)/(H63-L63) -> 502.46875 | N63: =(D63+0.4)/(H63-L63) -> 502.525 | S63: =ROUND((H63-L63)*OFFSET($B$58,0,15),0) -> 8040 | T63: =(S63-D63)/D63 -> 0
C64: 48a | D64: 6030 | E64: =IF(ISNUMBER(C64),D64+MAX($E$3:E61),"") | F64: =IF(ISNUMBER(C64),E64/$E$91,"") | H64: 16 | I64: 2 | J64: =H64*10 -> 160 | K64: 2,4 | L64: 4 | M64: =(D64-0.5)/(H64-L64) -> 502.45833 | N64: =(D64+0.4)/(H64-L64) -> 502.53333 | S64: =ROUND((H64-L64)*OFFSET($B$58,0,15),0) -> 6030 | T64: =(S64-D64)/D64 -> 0 | V64: ='PE Fight'!AA47*$V$3 -> 502.30968
C65: 48 | D65: 8040 | E65: =IF(ISNUMBER(C65),D65+MAX($E$3:E64),"") -> 128599 | F65: =IF(ISNUMBER(C65),E65/$E$91,"") -> 0.46548304 | H65: 16 | I65: 2 | J65: =H65*10 -> 160 | K65: 2,4 | L65: 0 | M65: =(D65-0.5)/(H65-L65) -> 502.46875 | N65: =(D65+0.4)/(H65-L65) -> 502.525 | S65: =ROUND((H65-L65)*OFFSET($B$58,0,15),0) -> 8040 | T65: =(S65-D65)/D65 -> 0
A66: =A41+1 -> 4 | B66: =B58+1 -> 13 | C66: 49 | D66: 9112 | E66: =IF(ISNUMBER(C66),D66+MAX($E$3:E65),"") -> 137711 | F66: =IF(ISNUMBER(C66),E66/$E$91,"") -> 0.49846527 | H66: 16 | I66: 2 | J66: =H66*10 -> 160 | M66: =(D66-0.5)/(H66-L66) -> 569.46875 | N66: =(D66+0.4)/(H66-L66) -> 569.525 | O66: =MAX(M66:M71) -> 569.46875 | P66: =MIN(N66:N71) -> 569.525 | Q66: =IF((O66+(P66-O66)/2)<O66,O66,O66+(P66-O66)/2) -> 569.49688 | R66: =ROUND(Q66/Q58,4) -> 1.1333 | S66: =ROUND((H66-L66)*OFFSET($B$66,0,15),0) -> 9112 | T66: =(S66-D66)/D66 -> 0
C67: 50 | D67: 9112 | E67: =IF(ISNUMBER(C67),D67+MAX($E$3:E66),"") -> 146823 | F67: =IF(ISNUMBER(C67),E67/$E$91,"") -> 0.5314475 | H67: 16 | I67: 2 | J67: =H67*10 -> 160 | M67: =(D67-0.5)/(H67-L67) -> 569.46875 | N67: =(D67+0.4)/(H67-L67) -> 569.525 | S67: =ROUND((H67-L67)*OFFSET($B$66,0,15),0) -> 9112 | T67: =(S67-D67)/D67 -> 0
C68: 52a | D68: 7973 | E68: =IF(ISNUMBER(C68),D68+MAX($E$3:E67),"") | F68: =IF(ISNUMBER(C68),E68/$E$91,"") | H68: 16 | I68: 2 | J68: =H68*10 -> 160 | K68: 1,2 | L68: 2 | M68: =(D68-0.5)/(H68-L68) -> 569.46429 | N68: =(D68+0.4)/(H68-L68) -> 569.52857 | S68: =ROUND((H68-L68)*OFFSET($B$66,0,15),0) -> 7973 | T68: =(S68-D68)/D68 -> 0 | V68: ='PE Fight'!AA51*$V$3 -> 569.32482
C69: 51 | D69: 9112 | E69: =IF(ISNUMBER(C69),D69+MAX($E$3:E68),"") -> 155935 | F69: =IF(ISNUMBER(C69),E69/$E$91,"") -> 0.56442972 | H69: 16 | I69: 2 | J69: =H69*10 -> 160 | K69: 1,2 | L69: 0 | M69: =(D69-0.5)/(H69-L69) -> 569.46875 | N69: =(D69+0.4)/(H69-L69) -> 569.525 | S69: =ROUND((H69-L69)*OFFSET($B$66,0,15),0) -> 9112 | T69: =(S69-D69)/D69 -> 0
C70: 52a | D70: 6834 | E70: =IF(ISNUMBER(C70),D70+MAX($E$3:E69),"") | F70: =IF(ISNUMBER(C70),E70/$E$91,"") | H70: 16 | I70: 2 | J70: =H70*10 -> 160 | K70: ?,4 | L70: 4 | M70: =(D70-0.5)/(H70-L70) -> 569.45833 | N70: =(D70+0.4)/(H70-L70) -> 569.53333 | S70: =ROUND((H70-L70)*OFFSET($B$66,0,15),0) -> 6834 | T70: =(S70-D70)/D70 -> 0
C71: 52 | D71: 9112 | E71: =IF(ISNUMBER(C71),D71+MAX($E$3:E68),"") -> 155935 | F71: =IF(ISNUMBER(C71),E71/$E$91,"") -> 0.56442972 | H71: 16 | I71: 2 | J71: =H71*10 -> 160 | K71: ?,4 | L71: 0 | M71: =(D71-0.5)/(H71-L71) -> 569.46875 | N71: =(D71+0.4)/(H71-L71) -> 569.525 | S71: =ROUND((H71-L71)*OFFSET($B$66,0,15),0) -> 9112 | T71: =(S71-D71)/D71 -> 0
B72: =B66+1 -> 14 | C72: 53 | D72: 10452 | E72: =IF(ISNUMBER(C72),D72+MAX($E$3:E71),"") -> 166387 | F72: =IF(ISNUMBER(C72),E72/$E$91,"") -> 0.60226228 | H72: 16 | I72: 2 | J72: =H72*10 -> 160 | K72: 2,0 | L72: 0 | M72: =(D72-0.5)/(H72-L72) -> 653.21875 | N72: =(D72+0.4)/(H72-L72) -> 653.275 | O72: =MAX(M72:M77) -> 653.26923 | P72: =MIN(N72:N77) -> 653.275 | Q72: =IF((O72+(P72-O72)/2)<O72,O72,O72+(P72-O72)/2) -> 653.27212 | R72: =ROUND(Q72/Q66,4) -> 1.1471 | S72: =ROUND((H72-L72)*OFFSET($B$72,0,15),0) -> 10452 | T72: =(S72-D72)/D72 -> 0
C73: 54 | D73: 10452 | E73: =IF(ISNUMBER(C73),D73+MAX($E$3:E72),"") -> 176839 | F73: =IF(ISNUMBER(C73),E73/$E$91,"") -> 0.64009483 | H73: 16 | I73: 2 | J73: =H73*10 -> 160 | M73: =(D73-0.5)/(H73-L73) -> 653.21875 | N73: =(D73+0.4)/(H73-L73) -> 653.275 | S73: =ROUND((H73-L73)*OFFSET($B$72,0,15),0) -> 10452 | T73: =(S73-D73)/D73 -> 0
C74: 55a | D74: 8493 | E74: =IF(ISNUMBER(C74),D74+MAX($E$3:E73),"") | F74: =IF(ISNUMBER(C74),E74/$E$91,"") | H74: 16 | I74: 2 | J74: =H74*10 -> 160 | K74: ?,3 | L74: 3 | M74: =(D74-0.5)/(H74-L74) -> 653.26923 | N74: =(D74+0.4)/(H74-L74) -> 653.33846 | S74: =ROUND((H74-L74)*OFFSET($B$72,0,15),0) -> 8493 | T74: =(S74-D74)/D74 -> 0 | V74: ='PE Fight'!AA55*$V$3 -> 653.03893
C75: 55 | D75: 10452 | E75: =IF(ISNUMBER(C75),D75+MAX($E$3:E74),"") -> 187291 | F75: =IF(ISNUMBER(C75),E75/$E$91,"") -> 0.67792739 | H75: 16 | I75: 2 | J75: =H75*10 -> 160 | K75: ?,3 | L75: 0 | M75: =(D75-0.5)/(H75-L75) -> 653.21875 | N75: =(D75+0.4)/(H75-L75) -> 653.275 | S75: =ROUND((H75-L75)*OFFSET($B$72,0,15),0) -> 10452 | T75: =(S75-D75)/D75 -> 0
C76: 56a | D76: 5226 | E76: =IF(ISNUMBER(C76),D76+MAX($E$3:E73),"") | F76: =IF(ISNUMBER(C76),E76/$E$91,"") | H76: 16 | I76: 2 | J76: =H76*10 -> 160 | K76: 0,8 | L76: 8 | M76: =(D76-0.5)/(H76-L76) -> 653.1875 | N76: =(D76+0.4)/(H76-L76) -> 653.3 | S76: =ROUND((H76-L76)*OFFSET($B$72,0,15),0) -> 5226 | T76: =(S76-D76)/D76 -> 0
C77: 56 | D77: 10452 | E77: =IF(ISNUMBER(C77),D77+MAX($E$3:E74),"") -> 187291 | F77: =IF(ISNUMBER(C77),E77/$E$91,"") -> 0.67792739 | H77: 16 | I77: 2 | J77: =H77*10 -> 160 | K77: 0,8 | L77: 0 | M77: =(D77-0.5)/(H77-L77) -> 653.21875 | N77: =(D77+0.4)/(H77-L77) -> 653.275 | S77: =ROUND((H77-L77)*OFFSET($B$72,0,15),0) -> 10452 | T77: =(S77-D77)/D77 -> 0
B78: =B72+1 -> 15 | C78: 57a | D78: 10318 | E78: =IF(ISNUMBER(C78),D78+MAX($E$3:E77),"") | F78: =IF(ISNUMBER(C78),E78/$E$91,"") | H78: 16 | I78: 2 | J78: =H78*10 -> 160 | K78: 4,2 | L78: 2 | M78: =(D78-0.5)/(H78-L78) -> 736.96429 | N78: =(D78+0.4)/(H78-L78) -> 737.02857 | O78: =MAX(M78:M85) -> 737.03125 | P78: =MIN(N78:N85) -> 737.02857 | Q78: =IF((O78+(P78-O78)/2)<O78,O78,O78+(P78-O78)/2) -> 737.03125 | R78: =ROUND(Q78/Q72,4) -> 1.1282 | S78: =ROUND((H78-L78)*OFFSET($B$78,0,15),0) -> 10318 | T78: =(S78-D78)/D78 -> 0
C79: 57 | D79: 11793 | E79: =IF(ISNUMBER(C79),D79+MAX($E$3:E78),"") -> 199084 | F79: =IF(ISNUMBER(C79),E79/$E$91,"") -> 0.72061389 | H79: 16 | I79: 2 | J79: =H79*10 -> 160 | K79: 4,2 | M79: =(D79-0.5)/(H79-L79) -> 737.03125 | N79: =(D79+0.4)/(H79-L79) -> 737.0875 | S79: =ROUND((H79-L79)*OFFSET($B$78,0,15),0) -> 11793 | T79: =(S79-D79)/D79 -> 0
C80: 58a | D80: 10318 | E80: =IF(ISNUMBER(C80),D80+MAX($E$3:E79),"") | F80: =IF(ISNUMBER(C80),E80/$E$91,"") | H80: 16 | I80: 2 | J80: =H80*10 -> 160 | K80: 4,4 | L80: 2 | M80: =(D80-0.5)/(H80-L80) -> 736.96429 | N80: =(D80+0.4)/(H80-L80) -> 737.02857 | S80: =ROUND((H80-L80)*OFFSET($B$78,0,15),0) -> 10318 | T80: =(S80-D80)/D80 -> 0 | V80: ='PE Fight'!AA59*$V$3 -> 736.75303
C81: 58 | D81: 11793 | E81: =IF(ISNUMBER(C81),D81+MAX($E$3:E80),"") -> 210877 | F81: =IF(ISNUMBER(C81),E81/$E$91,"") -> 0.76330039 | H81: 16 | I81: 2 | J81: =H81*10 -> 160 | K81: 4,4 | L81: 0 | M81: =(D81-0.5)/(H81-L81) -> 737.03125 | N81: =(D81+0.4)/(H81-L81) -> 737.0875 | S81: =ROUND((H81-L81)*OFFSET($B$78,0,15),0) -> 11793 | T81: =(S81-D81)/D81 -> 0
C82: 59a | D82: 10318 | E82: =IF(ISNUMBER(C82),D82+MAX($E$3:E81),"") | F82: =IF(ISNUMBER(C82),E82/$E$91,"") | H82: 16 | I82: 2 | J82: =H82*10 -> 160 | K82: ? | L82: 2 | M82: =(D82-0.5)/(H82-L82) -> 736.96429 | N82: =(D82+0.4)/(H82-L82) -> 737.02857 | S82: =ROUND((H82-L82)*OFFSET($B$78,0,15),0) -> 10318 | T82: =(S82-D82)/D82 -> 0
C83: 59 | D83: 11793 | E83: =IF(ISNUMBER(C83),D83+MAX($E$3:E82),"") -> 222670 | F83: =IF(ISNUMBER(C83),E83/$E$91,"") -> 0.8059869 | H83: 16 | I83: 2 | J83: =H83*10 -> 160 | K83: ? | L83: 0 | M83: =(D83-0.5)/(H83-L83) -> 737.03125 | N83: =(D83+0.4)/(H83-L83) -> 737.0875 | S83: =ROUND((H83-L83)*OFFSET($B$78,0,15),0) -> 11793 | T83: =(S83-D83)/D83 -> 0
C84: 60a | E84: =IF(ISNUMBER(C84),D84+MAX($E$3:E79),"") | F84: =IF(ISNUMBER(C84),E84/$E$91,"") | H84: 16 | I84: 2 | J84: =H84*10 -> 160 | K84: ? | L84: 0 | S84: =ROUND((H84-L84)*OFFSET($B$78,0,15),0) -> 11793 | T84: =(S84-D84)/D84 -> #DIV/0!
C85: 60 | D85: 11793 | E85: =IF(ISNUMBER(C85),D85+MAX($E$3:E80),"") -> 210877 | F85: =IF(ISNUMBER(C85),E85/$E$91,"") -> 0.76330039 | H85: 16 | I85: 2 | J85: =H85*10 -> 160 | K85: ? | L85: 0 | M85: =(D85-0.5)/(H85-L85) -> 737.03125 | N85: =(D85+0.4)/(H85-L85) -> 737.0875 | S85: =ROUND((H85-L85)*OFFSET($B$78,0,15),0) -> 11793 | T85: =(S85-D85)/D85 -> 0
B86: =B78+1 -> 16 | C86: 61 | D86: 13400 | E86: =IF(ISNUMBER(C86),D86+MAX($E$3:E85),"") -> 236070 | F86: =IF(ISNUMBER(C86),E86/$E$91,"") -> 0.85449017 | H86: 16 | I86: 2 | J86: =H86*10 -> 160 | K86: ?,0 | L86: 0 | M86: =(D86-0.5)/(H86-L86) -> 837.46875 | N86: =(D86+0.4)/(H86-L86) -> 837.525 | O86: =MAX(M86:M91) -> 837.5 | P86: =MIN(N86:N91) -> 837.525 | Q86: =IF((O86+(P86-O86)/2)<O86,O86,O86+(P86-O86)/2) -> 837.5125 | R86: =ROUND(Q86/Q78,4) -> 1.1363 | S86: =ROUND((H86-L86)*OFFSET($B$86,0,15),0) -> 13400 | T86: =(S86-D86)/D86 -> 0
C87: 62a | D87: 10050 | E87: =IF(ISNUMBER(C87),D87+MAX($E$3:E85),"") | F87: =IF(ISNUMBER(C87),E87/$E$91,"") | H87: 16 | I87: 2 | J87: =H87*10 -> 160 | K87: 4,4 | L87: 4 | M87: =(D87-0.5)/(H87-L87) -> 837.45833 | N87: =(D87+0.4)/(H87-L87) -> 837.53333 | S87: =ROUND((H87-L87)*OFFSET($B$86,0,15),0) -> 10050 | T87: =(S87-D87)/D87 -> 0
C88: 62 | D88: 13400 | E88: =IF(ISNUMBER(C88),D88+MAX($E$3:E86),"") -> 249470 | F88: =IF(ISNUMBER(C88),E88/$E$91,"") -> 0.90299345 | H88: 16 | I88: 2 | J88: =H88*10 -> 160 | K88: 4,4 | L88: 0 | M88: =(D88-0.5)/(H88-L88) -> 837.46875 | N88: =(D88+0.4)/(H88-L88) -> 837.525 | S88: =ROUND((H88-L88)*OFFSET($B$86,0,15),0) -> 13400 | T88: =(S88-D88)/D88 -> 0
C89: 63 | D89: 13400 | E89: =IF(ISNUMBER(C89),D89+MAX($E$3:E88),"") -> 262870 | F89: =IF(ISNUMBER(C89),E89/$E$91,"") -> 0.95149672 | H89: 16 | I89: 2 | J89: =H89*10 -> 160 | K89: 4,0 | L89: 0 | M89: =(D89-0.5)/(H89-L89) -> 837.46875 | N89: =(D89+0.4)/(H89-L89) -> 837.525 | S89: =ROUND((H89-L89)*OFFSET($B$86,0,15),0) -> 13400 | T89: =(S89-D89)/D89 -> 0 | V89: ='PE Fight'!AA63*$V$3 -> 837.13476
C90: 64a | D90: 10888 | E90: =IF(ISNUMBER(C90),D90+MAX($E$3:E88),"") | F90: =IF(ISNUMBER(C90),E90/$E$91,"") | H90: 16 | I90: 2 | J90: =H90*10 -> 160 | K90: 4,4 | L90: 3 | M90: =(D90-0.5)/(H90-L90) -> 837.5 | N90: =(D90+0.4)/(H90-L90) -> 837.56923 | S90: =ROUND((H90-L90)*OFFSET($B$86,0,15),0) -> 10888 | T90: =(S90-D90)/D90 -> 0
C91: 64 | D91: 13400 | E91: =IF(ISNUMBER(C91),D91+MAX($E$3:E89),"") -> 276270 | F91: =IF(ISNUMBER(C91),E91/$E$91,"") -> 1 | H91: 16 | I91: 2 | J91: =H91*10 -> 160 | K91: 4,4 | L91: 0 | M91: =(D91-0.5)/(H91-L91) -> 837.46875 | N91: =(D91+0.4)/(H91-L91) -> 837.525 | S91: =ROUND((H91-L91)*OFFSET($B$86,0,15),0) -> 13400 | T91: =(S91-D91)/D91 -> 0
C93: Points | D93: % of Total
B94: Level 1 | C94: {=SUM(D3:D18*ISNUMBER(C3:C18))} -> 21764 | D94: =C94/$C$98 -> 0.064448689
B95: Level 2 | C95: {=SUM(D19:D40*ISNUMBER(C19:C40))} -> 42212 | D95: =C95/$C$98 -> 0.12500037
B96: Level 3 | C96: {=SUM(D41:D65*ISNUMBER(C41:C65))} -> 94691 | D96: =C96/$C$98 -> 0.28040391
B97: Level 4 | C97: {=SUM(D66:D91*ISNUMBER(C66:C91))} -> 179028 | D97: =C97/$C$98 -> 0.53014703
B98: Total | C98: =SUM(C94:C97) -> 337695 | D98: =C98/$C$98 -> 1 | F98: =V3*'PE Fight'!C73 -> 337585.39
D102: Loss
D103: Enemies
D104: 16
...
