Workbook

Sheet IA Fight
G1: Enemy Units | L1: Expedition Points / Unit | R1: Prediction using Avg.
A2: GE Level | B2: Segment | C2: Encounter | D2: Expedition Points | E2: Cumulative EP | F2: Cumulative % of Total | G2: Attacker Bonus | H2: Total | I2: Waves | J2: Damage Taken | L2: Lower Bound | M2: Upper Bound | N2: Min | O2: Max | P2: Est. | Q2: Apparent Increase | R2: Expedition Points | S2: % Error
A3: 1 | B3: 1 | C3: 1 | D3: 30 | E3: =D3 -> 30 | F3: =E3/$E$66 -> 0.0014879476 | H3: 3 | I3: 1 | J3: =H3*10 -> 30 | L3: =(D3-0.5)/H3 -> 9.8333333 | M3: =(D3+0.4)/H3 -> 10.133333 | N3: =MAX(L3:L6) -> 9.9444444 | O3: =MIN(M3:M6) -> 10.044444 | P3: 10 | R3: =ROUND(H3*P3,0) -> 30 | S3: =(R3-D3)/D3 -> 0
C4: 2 | D4: 40 | E4: =D4+E3 -> 70 | F4: =E4/$E$66 -> 0.0034718778 | H4: 4 | I4: 1 | J4: =H4*10 -> 40 | L4: =(D4-0.5)/H4 -> 9.875 | M4: =(D4+0.4)/H4 -> 10.1 | R4: =ROUND(H4*P3,0) -> 40 | S4: =(R4-D4)/D4 -> 0
C5: 3 | D5: 50 | E5: =D5+E4 -> 120 | F5: =E5/$E$66 -> 0.0059517905 | H5: 5 | I5: 1 | J5: =H5*10 -> 50 | L5: =(D5-0.5)/H5 -> 9.9 | M5: =(D5+0.4)/H5 -> 10.08 | R5: =ROUND(H5*P3,0) -> 50 | S5: =(R5-D5)/D5 -> 0
C6: 4 | D6: 90 | E6: =D6+E5 -> 210 | F6: =E6/$E$66 -> 0.010415633 | H6: 9 | I6: 2 | J6: =H6*10 -> 90 | L6: =(D6-0.5)/H6 -> 9.9444444 | M6: =(D6+0.4)/H6 -> 10.044444 | R6: =ROUND(H6*P3,0) -> 90 | S6: =(R6-D6)/D6 -> 0
B7: =B3+1 -> 2 | C7: 5 | D7: 53 | E7: =D7+E6 -> 263 | F7: =E7/$E$66 -> 0.013044341 | H7: 5 | I7: 1 | J7: =H7*10 -> 50 | L7: =(D7-0.5)/H7 -> 10.5 | M7: =(D7+0.4)/H7 -> 10.68 | N7: =MAX(L7:L10) -> 10.5 | O7: =MIN(M7:M10) -> 10.54 | P7: 10.5 | Q7: =ROUND(P7/P3,4) -> 1.05 | R7: =ROUND(H7*P7,0) -> 53 | S7: =(R7-D7)/D7 -> 0
C8: 6 | D8: 63 | E8: =D8+E7 -> 326 | F8: =E8/$E$66 -> 0.016169031 | H8: 6 | I8: 1 | J8: =H8*10 -> 60 | L8: =(D8-0.5)/H8 -> 10.416667 | M8: =(D8+0.4)/H8 -> 10.566667 | R8: =ROUND(H8*P7,0) -> 63 | S8: =(R8-D8)/D8 -> 0
C9: 7 | D9: 74 | E9: =D9+E8 -> 400 | F9: =E9/$E$66 -> 0.019839302 | H9: 7 | I9: 1 | J9: =H9*10 -> 70 | L9: =(D9-0.5)/H9 -> 10.5 | M9: =(D9+0.4)/H9 -> 10.628571 | R9: =ROUND(H9*P7,0) -> 74 | S9: =(R9-D9)/D9 -> 0
C10: 8 | D10: 105 | E10: =D10+E9 -> 505 | F10: =E10/$E$66 -> 0.025047118 | H10: 10 | I10: 1 | J10: =H10*10 -> 100 | L10: =(D10-0.5)/H10 -> 10.45 | M10: =(D10+0.4)/H10 -> 10.54 | R10: =ROUND(H10*P7,0) -> 105 | S10: =(R10-D10)/D10 -> 0
B11: =B7+1 -> 3 | C11: 9 | D11: 77 | E11: =D11+E10 -> 582 | F11: =E11/$E$66 -> 0.028866184 | H11: 7 | I11: 1 | J11: =H11*10 -> 70 | L11: =(D11-0.5)/H11 -> 10.928571 | M11: =(D11+0.4)/H11 -> 11.057143 | N11: =MAX(L11:L14) -> 11.045455 | O11: =MIN(M11:M14) -> 11.05 | P11: =IF((N11+(O11-N11)/2)<N11,N11,N11+(O11-N11)/2) -> 11.047727 | Q11: =ROUND(P11/P7,4) -> 1.0522 | R11: =ROUND(H11*P11,0) -> 77 | S11: =(R11-D11)/D11 -> 0
C12: 10 | D12: 77 | E12: =D12+E11 -> 659 | F12: =E12/$E$66 -> 0.032685249 | H12: 7 | I12: 1 | J12: =H12*10 -> 70 | L12: =(D12-0.5)/H12 -> 10.928571 | M12: =(D12+0.4)/H12 -> 11.057143 | R12: =ROUND(H12*P11,0) -> 77 | S12: =(R12-D12)/D12 -> 0
C13: 11 | D13: 88 | E13: =D13+E12 -> 747 | F13: =E13/$E$66 -> 0.037049896 | H13: 8 | I13: 1 | J13: =H13*10 -> 80 | L13: =(D13-0.5)/H13 -> 10.9375 | M13: =(D13+0.4)/H13 -> 11.05 | R13: =ROUND(H13*P11,0) -> 88 | S13: =(R13-D13)/D13 -> 0
C14: 12 | D14: 122 | E14: =D14+E13 -> 869 | F14: =E14/$E$66 -> 0.043100883 | H14: 11 | I14: 2 | J14: =H14*10 -> 110 | L14: =(D14-0.5)/H14 -> 11.045455 | M14: =(D14+0.4)/H14 -> 11.127273 | R14: =ROUND(H14*P11,0) -> 122 | S14: =(R14-D14)/D14 -> 0
B15: =B11+1 -> 4 | C15: 13 | D15: 96 | E15: =D15+E14 -> 965 | F15: =E15/$E$66 -> 0.047862315 | H15: 8 | I15: 1 | J15: =H15*10 -> 80 | L15: =(D15-0.5)/H15 -> 11.9375 | M15: =(D15+0.4)/H15 -> 12.05 | N15: =MAX(L15:L18) -> 11.958333 | O15: =MIN(M15:M18) -> 12.033333 | P15: 12 | Q15: =ROUND(P15/P11,4) -> 1.0862 | R15: =ROUND(H15*P15,0) -> 96 | S15: =(R15-D15)/D15 -> 0
C16: 14 | D16: 96 | E16: =D16+E15 -> 1061 | F16: =E16/$E$66 -> 0.052623748 | H16: 8 | I16: 1 | J16: =H16*10 -> 80 | L16: =(D16-0.5)/H16 -> 11.9375 | M16: =(D16+0.4)/H16 -> 12.05 | R16: =ROUND(H16*P15,0) -> 96 | S16: =(R16-D16)/D16 -> 0
C17: 15 | D17: 96 | E17: =D17+E16 -> 1157 | F17: =E17/$E$66 -> 0.05738518 | H17: 8 | I17: 1 | J17: =H17*10 -> 80 | L17: =(D17-0.5)/H17 -> 11.9375 | M17: =(D17+0.4)/H17 -> 12.05 | R17: =ROUND(H17*P15,0) -> 96 | S17: =(R17-D17)/D17 -> 0
C18: 16 | D18: 144 | E18: =D18+E17 -> 1301 | F18: =E18/$E$66 -> 0.064527329 | H18: 12 | I18: 2 | J18: =H18*10 -> 120 | L18: =(D18-0.5)/H18 -> 11.958333 | M18: =(D18+0.4)/H18 -> 12.033333 | R18: =ROUND(H18*P15,0) -> 144 | S18: =(R18-D18)/D18 -> 0
A19: =A3+1 -> 2 | B19: =B15+1 -> 5 | C19: 17 | D19: 104 | E19: =D19+E18 -> 1405 | F19: =E19/$E$66 -> 0.069685547 | H19: 8 | I19: 1 | J19: =H19*10 -> 80 | L19: =(D19-0.5)/H19 -> 12.9375 | M19: =(D19+0.4)/H19 -> 13.05 | N19: =MAX(L19:L22) -> 12.961538 | O19: =MIN(M19:M22) -> 13.030769 | P19: 13 | Q19: =ROUND(P19/P15,4) -> 1.0833 | R19: =ROUND(H19*P19,0) -> 104 | S19: =(R19-D19)/D19 -> 0
C20: 18 | D20: 104 | E20: =D20+E19 -> 1509 | F20: =E20/$E$66 -> 0.074843765 | H20: 8 | I20: 1 | J20: =H20*10 -> 80 | L20: =(D20-0.5)/H20 -> 12.9375 | M20: =(D20+0.4)/H20 -> 13.05 | R20: =ROUND(H20*P19,0) -> 104 | S20: =(R20-D20)/D20 -> 0
C21: 19 | D21: 104 | E21: =D21+E20 -> 1613 | F21: =E21/$E$66 -> 0.080001984 | H21: 8 | I21: 1 | J21: =H21*10 -> 80 | L21: =(D21-0.5)/H21 -> 12.9375 | M21: =(D21+0.4)/H21 -> 13.05 | R21: =ROUND(H21*P19,0) -> 104 | S21: =(R21-D21)/D21 -> 0
C22: 20 | D22: 169 | E22: =D22+E21 -> 1782 | F22: =E22/$E$66 -> 0.088384089 | H22: 13 | I22: 2 | J22: =H22*10 -> 130 | L22: =(D22-0.5)/H22 -> 12.961538 | M22: =(D22+0.4)/H22 -> 13.030769 | R22: =ROUND(H22*P19,0) -> 169 | S22: =(R22-D22)/D22 -> 0
B23: =B19+1 -> 6 | C23: 21 | D23: 116 | E23: =D23+E22 -> 1898 | F23: =E23/$E$66 -> 0.094137486 | G23: 0 | H23: 8 | I23: 1 | J23: =H23*10 -> 80 | L23: =(D23-0.5)/H23 -> 14.4375 | M23: =(D23+0.4)/H23 -> 14.55 | N23: =MAX(L23:L26) -> 14.464286 | O23: =MIN(M23:M26) -> 14.528571 | P23: 14.5 | Q23: =ROUND(P23/P19,4) -> 1.1154 | R23: =ROUND(H23*P23,0) -> 116 | S23: =(R23-D23)/D23 -> 0
C24: 22 | D24: 116 | E24: =D24+E23 -> 2014 | F24: =E24/$E$66 -> 0.099890884 | H24: 8 | I24: 1 | J24: =H24*10 -> 80 | L24: =(D24-0.5)/H24 -> 14.4375 | M24: =(D24+0.4)/H24 -> 14.55 | R24: =ROUND(H24*P23,0) -> 116 | S24: =(R24-D24)/D24 -> 0
C25: 23 | D25: 116 | E25: =D25+E24 -> 2130 | F25: =E25/$E$66 -> 0.10564428 | H25: 8 | I25: 1 | J25: =H25*10 -> 80 | L25: =(D25-0.5)/H25 -> 14.4375 | M25: =(D25+0.4)/H25 -> 14.55 | R25: =ROUND(H25*P23,0) -> 116 | S25: =(R25-D25)/D25 -> 0
C26: 24 | D26: 203 | E26: =D26+E25 -> 2333 | F26: =E26/$E$66 -> 0.11571273 | H26: 14 | I26: 2 | J26: =H26*10 -> 140 | L26: =(D26-0.5)/H26 -> 14.464286 | M26: =(D26+0.4)/H26 -> 14.528571 | R26: =ROUND(H26*P23,0) -> 203 | S26: =(R26-D26)/D26 -> 0
B27: =B23+1 -> 7 | C27: 25 | D27: 128 | E27: =D27+E26 -> 2461 | F27: =E27/$E$66 -> 0.1220613 | H27: 8 | I27: 1 | J27: =H27*10 -> 80 | L27: =(D27-0.5)/H27 -> 15.9375 | M27: =(D27+0.4)/H27 -> 16.05 | N27: =MAX(L27:L30) -> 15.966667 | O27: =MIN(M27:M30) -> 16.026667 | P27: 16 | Q27: =ROUND(P27/P23,4) -> 1.1034 | R27: =ROUND(H27*P27,0) -> 128 | S27: =(R27-D27)/D27 -> 0
C28: 26 | D28: 128 | E28: =D28+E27 -> 2589 | F28: =E28/$E$66 -> 0.12840988 | H28: 8 | I28: 1 | J28: =H28*10 -> 80 | L28: =(D28-0.5)/H28 -> 15.9375 | M28: =(D28+0.4)/H28 -> 16.05 | R28: =ROUND(H28*P27,0) -> 128 | S28: =(R28-D28)/D28 -> 0
C29: 27 | D29: 128 | E29: =D29+E28 -> 2717 | F29: =E29/$E$66 -> 0.13475846 | H29: 8 | I29: 1 | J29: =H29*10 -> 80 | L29: =(D29-0.5)/H29 -> 15.9375 | M29: =(D29+0.4)/H29 -> 16.05 | R29: =ROUND(H29*P27,0) -> 128 | S29: =(R29-D29)/D29 -> 0
C30: 28 | D30: 240 | E30: =D30+E29 -> 2957 | F30: =E30/$E$66 -> 0.14666204 | H30: 15 | I30: 2 | J30: =H30*10 -> 150 | L30: =(D30-0.5)/H30 -> 15.966667 | M30: =(D30+0.4)/H30 -> 16.026667 | R30: =ROUND(H30*P27,0) -> 240 | S30: =(R30-D30)/D30 -> 0
B31: =B27+1 -> 8 | C31: 29 | D31: 180 | E31: =D31+E30 -> 3137 | F31: =E31/$E$66 -> 0.15558972 | H31: 10 | I31: 2 | J31: =H31*10 -> 100 | L31: =(D31-0.5)/H31 -> 17.95 | M31: =(D31+0.4)/H31 -> 18.04 | N31: =MAX(L31:L34) -> 17.96875 | O31: =MIN(M31:M34) -> 18.025 | P31: 18 | Q31: =ROUND(P31/P27,4) -> 1.125 | R31: =ROUND(H31*P31,0) -> 180 | S31: =(R31-D31)/D31 -> 0
C32: 30 | D32: 198 | E32: =D32+E31 -> 3335 | F32: =E32/$E$66 -> 0.16541018 | H32: 11 | I32: 2 | J32: =H32*10 -> 110 | L32: =(D32-0.5)/H32 -> 17.954545 | M32: =(D32+0.4)/H32 -> 18.036364 | R32: =ROUND(H32*P31,0) -> 198 | S32: =(R32-D32)/D32 -> 0
C33: 31 | D33: 198 | E33: =D33+E32 -> 3533 | F33: =E33/$E$66 -> 0.17523063 | H33: 11 | I33: 2 | J33: =H33*10 -> 110 | L33: =(D33-0.5)/H33 -> 17.954545 | M33: =(D33+0.4)/H33 -> 18.036364 | R33: =ROUND(H33*P31,0) -> 198 | S33: =(R33-D33)/D33 -> 0
C34: 32 | D34: 288 | E34: =D34+E33 -> 3821 | F34: =E34/$E$66 -> 0.18951493 | H34: 16 | I34: 2 | J34: =H34*10 -> 160 | L34: =(D34-0.5)/H34 -> 17.96875 | M34: =(D34+0.4)/H34 -> 18.025 | R34: =ROUND(H34*P31,0) -> 288 | S34: =(R34-D34)/D34 -> 0
A35: =A19+1 -> 3 | B35: =B31+1 -> 9 | C35: 33 | D35: 220 | E35: =D35+E34 -> 4041 | F35: =E35/$E$66 -> 0.20042654 | H35: 11 | I35: 2 | J35: =H35*10 -> 110 | L35: =(D35-0.5)/H35 -> 19.954545 | M35: =(D35+0.4)/H35 -> 20.036364 | N35: =MAX(L35:L38) -> 19.96875 | O35: =MIN(M35:M38) -> 20.025 | P35: 20 | Q35: =ROUND(P35/P31,4) -> 1.1111 | R35: =ROUND(H35*P35,0) -> 220 | S35: =(R35-D35)/D35 -> 0
C36: 34 | D36: 240 | E36: =D36+E35 -> 4281 | F36: =E36/$E$66 -> 0.21233013 | H36: 12 | I36: 2 | J36: =H36*10 -> 120 | L36: =(D36-0.5)/H36 -> 19.958333 | M36: =(D36+0.4)/H36 -> 20.033333 | R36: =ROUND(H36*P35,0) -> 240 | S36: =(R36-D36)/D36 -> 0
C37: 35 | D37: 240 | E37: =D37+E36 -> 4521 | F37: =E37/$E$66 -> 0.22423371 | H37: 12 | I37: 2 | J37: =H37*10 -> 120 | L37: =(D37-0.5)/H37 -> 19.958333 | M37: =(D37+0.4)/H37 -> 20.033333 | R37: =ROUND(H37*P35,0) -> 240 | S37: =(R37-D37)/D37 -> 0
C38: 36 | D38: 320 | E38: =D38+E37 -> 4841 | F38: =E38/$E$66 -> 0.24010515 | H38: 16 | I38: 2 | J38: =H38*10 -> 160 | L38: =(D38-0.5)/H38 -> 19.96875 | M38: =(D38+0.4)/H38 -> 20.025 | R38: =ROUND(H38*P35,0) -> 320 | S38: =(R38-D38)/D38 -> 0
B39: =B35+1 -> 10 | C39: 37 | D39: 299 | E39: =D39+E38 -> 5140 | F39: =E39/$E$66 -> 0.25493503 | H39: 13 | I39: 2 | J39: =H39*10 -> 130 | L39: =(D39-0.5)/H39 -> 22.961538 | M39: =(D39+0.4)/H39 -> 23.030769 | N39: =MAX(L39:L42) -> 22.96875 | O39: =MIN(M39:M42) -> 23.025 | P39: 23 | Q39: =ROUND(P39/P35,4) -> 1.15 | R39: =ROUND(H39*P39,0) -> 299 | S39: =(R39-D39)/D39 -> 0
C40: 38 | D40: 299 | E40: =D40+E39 -> 5439 | F40: =E40/$E$66 -> 0.2697649 | H40: 13 | I40: 2 | J40: =H40*10 -> 130 | L40: =(D40-0.5)/H40 -> 22.961538 | M40: =(D40+0.4)/H40 -> 23.030769 | R40: =ROUND(H40*P39,0) -> 299 | S40: =(R40-D40)/D40 -> 0
...

Sheet PE Fight
H1: My Units | O1: Enemy Units | W1: Expedition Points / Unit | AC1: Prediction using Avg.
A2: GE Level | B2: Segment | C2: Encounter | D2: Expedition Points | E2: Cumulative EP | F2: Cumulative % of Total | G2: Combat Points | H2: Total | I2: PE | J2: ME | K2: PME | L2: Special | M2: Damage Taken | N2: Lost | O2: Attacker Bonus | P2: Total | Q2: InA | R2: PE | S2: Special | T2: Waves | U2: Damage Taken | W2: Lower Bound | X2: Upper Bound | Y2: Min bound | Z2: Max bound | AA2: Avg. | AB2: Apparent Increase | AC2: Expedition Points | AD2: % Error
A3: 1 | B3: 1 | C3: 1 | D3: 251 | E3: =D3 -> 251 | F3: =E3/$E$66 -> 0.0014908441 | G3: 4968 | H3: 8 | I3: 8 | J3: 0 | K3: 0 | L3: 0 | M3: 0 | N3: 0 | O3: 0.1 | P3: 3 | Q3: 3 | R3: 0 | S3: 0 | T3: 1 | U3: =P3*10 -> 30 | W3: =(D3-0.5)/P3 -> 83.5 | X3: =(D3+0.4)/P3 -> 83.8 | Y3: =MAX(W3:W6) -> 83.5 | Z3: =MIN(X3:X6) -> 83.6 | AA3: =IF((Y3+(Z3-Y3)/2)<Y3,Y3,Y3+(Z3-Y3)/2) -> 83.55 | AC3: =ROUND(P3*AA3,0) -> 251 | AD3: =(AC3-D3)/D3 -> 0
C4: 2 | D4: 334 | E4: =D4+E3 -> 585 | F4: =E4/$E$66 -> 0.0034746764 | G4: 5790 | H4: 8 | I4: 8 | J4: 0 | K4: 0 | L4: 0 | M4: 4 | N4: 0 | O4: 0.1 | P4: 4 | Q4: 4 | R4: 0 | S4: 0 | T4: 1 | U4: =P4*10 -> 40 | W4: =(D4-0.5)/P4 -> 83.375 | X4: =(D4+0.4)/P4 -> 83.6 | AC4: =ROUND(P4*AA3,0) -> 334 | AD4: =(AC4-D4)/D4 -> 0
C5: 3 | D5: 418 | E5: =D5+E4 -> 1003 | F5: =E5/$E$66 -> 0.0059574367 | G5: 6966 | H5: 8 | I5: 8 | J5: 0 | K5: 0 | L5: 0 | M5: 12 | N5: 0 | O5: 0.1 | P5: 5 | Q5: 5 | R5: 0 | S5: 0 | T5: 1 | U5: =P5*10 -> 50 | W5: =(D5-0.5)/P5 -> 83.5 | X5: =(D5+0.4)/P5 -> 83.68 | AC5: =ROUND(P5*AA3,0) -> 418 | AD5: =(AC5-D5)/D5 -> 0
C6: 4 | D6: 752 | E6: =D6+E5 -> 1755 | F6: =E6/$E$66 -> 0.010424029 | G6: 7488 | H6: 8 | I6: 0 | J6: 1 | K6: 0 | L6: 7 R | M6: 0 | N6: 0 | O6: 0.1 | P6: 9 | Q6: 9 | R6: 0 | S6: 0 | T6: 1 | U6: =P6*10 -> 90 | W6: =(D6-0.5)/P6 -> 83.5 | X6: =(D6+0.4)/P6 -> 83.6 | AC6: =ROUND(P6*AA3,0) -> 752 | AD6: =(AC6-D6)/D6 -> 0
B7: =B3+1 -> 2 | C7: 5 | D7: 439 | E7: =D7+E6 -> 2194 | F7: =E7/$E$66 -> 0.013031522 | G7: 7176 | H7: 8 | I7: 0 | J7: 1 | K7: 0 | L7: 7 R | M7: 0 | N7: 0 | O7: 0.15 | P7: 5 | Q7: 5 | R7: 0 | S7: 0 | T7: 1 | U7: =P7*10 -> 50 | W7: =(D7-0.5)/P7 -> 87.7 | X7: =(D7+0.4)/P7 -> 87.88 | Y7: =MAX(W7:W10) -> 87.75 | Z7: =MIN(X7:X10) -> 87.74 | AA7: =IF((Y7+(Z7-Y7)/2)<Y7,Y7,Y7+(Z7-Y7)/2) -> 87.75 | AB7: =ROUND(AA7/AA3,4) -> 1.0503 | AC7: =ROUND(P7*AA7,0) -> 439 | AD7: =(AC7-D7)/D7 -> 0
C8: 6 | D8: 527 | E8: =D8+E7 -> 2721 | F8: =E8/$E$66 -> 0.0161617 | G8: 8438 | H8: 8 | I8: 0 | J8: 1 | K8: 0 | L8: 7 R | M8: 1 | N8: 0 | O8: 0.15 | P8: 6 | Q8: 6 | R8: 0 | S8: 0 | T8: 1 | U8: =P8*10 -> 60 | W8: =(D8-0.5)/P8 -> 87.75 | X8: =(D8+0.4)/P8 -> 87.9 | AC8: =ROUND(P8*AA7,0) -> 527 | AD8: =(AC8-D8)/D8 -> 0
C9: 7 | D9: 614 | E9: =D9+E8 -> 3335 | F9: =E9/$E$66 -> 0.019808626 | G9: 9732 | H9: 8 | I9: 0 | J9: 1 | K9: 0 | L9: 7 R | M9: 6 | N9: 0 | O9: 0.15 | P9: 7 | Q9: 7 | R9: 0 | S9: 0 | T9: 1 | U9: =P9*10 -> 70 | W9: =(D9-0.5)/P9 -> 87.642857 | X9: =(D9+0.4)/P9 -> 87.771429 | AC9: =ROUND(P9*AA7,0) -> 614 | AD9: =(AC9-D9)/D9 -> 0
C10: 8 | D10: 877 | E10: =D10+E9 -> 4212 | F10: =E10/$E$66 -> 0.02501767 | G10: 6624 | H10: 8 | I10: 0 | J10: 1 | K10: 0 | L10: 7 R | M10: 5 | N10: 0 | O10: 0.15 | P10: 10 | Q10: 10 | R10: 0 | S10: 0 | T10: 1 | U10: =P10*10 -> 100 | W10: =(D10-0.5)/P10 -> 87.65 | X10: =(D10+0.4)/P10 -> 87.74 | AC10: =ROUND(P10*AA7,0) -> 878 | AD10: =(AC10-D10)/D10 -> 0.0011402509
B11: =B7+1 -> 3 | C11: 9 | D11: 643 | E11: =D11+E10 -> 4855 | F11: =E11/$E$66 -> 0.028836845 | G11: 10500 | H11: 8 | I11: 0 | J11: 1 | K11: 0 | L11: 7 R | M11: 0 | N11: 0 | O11: 0.2 | P11: 7 | Q11: 7 | R11: 0 | S11: 0 | T11: 1 | U11: =P11*10 -> 70 | W11: =(D11-0.5)/P11 -> 91.785714 | X11: =(D11+0.4)/P11 -> 91.914286 | Y11: =MAX(W11:W14) -> 91.863636 | Z11: =MIN(X11:X14) -> 91.914286 | AA11: =IF((Y11+(Z11-Y11)/2)<Y11,Y11,Y11+(Z11-Y11)/2) -> 91.888961 | AB11: =ROUND(AA11/AA7,4) -> 1.0472 | AC11: =ROUND(P11*AA11,0) -> 643 | AD11: =(AC11-D11)/D11 -> 0
C12: 10 | D12: 643 | E12: =D12+E11 -> 5498 | F12: =E12/$E$66 -> 0.032656019 | G12: 9960 | H12: 8 | I12: 0 | J12: 1 | K12: 0 | L12: 7 R | M12: 0 | N12: 0 | O12: 0.2 | P12: 7 | Q12: 7 | R12: 0 | S12: 0 | T12: 1 | U12: =P12*10 -> 70 | W12: =(D12-0.5)/P12 -> 91.785714 | X12: =(D12+0.4)/P12 -> 91.914286 | AC12: =ROUND(P12*AA11,0) -> 643 | AD12: =(AC12-D12)/D12 -> 0
C13: 11 | D13: 735 | E13: =D13+E12 -> 6233 | F13: =E13/$E$66 -> 0.037021638 | G13: 9072 | H13: 8 | I13: 0 | J13: 0 | K13: 1 | L13: 7 R | M13: 8 | N13: 0 | O13: 0.2 | P13: 8 | Q13: 8 | R13: 0 | S13: 0 | T13: 1 | U13: =P13*10 -> 80 | W13: =(D13-0.5)/P13 -> 91.8125 | X13: =(D13+0.4)/P13 -> 91.925 | AC13: =ROUND(P13*AA11,0) -> 735 | AD13: =(AC13-D13)/D13 -> 0
C14: 12 | D14: 1011 | E14: =D14+E13 -> 7244 | F14: =E14/$E$66 -> 0.043026592 | G14: 9936 | H14: 8 | I14: 0 | J14: 1 | K14: 0 | L14: 7 R | M14: 3 | N14: 0 | O14: 0.2 | P14: 11 | Q14: 11 | R14: 0 | S14: 0 | T14: 2 | U14: =P14*10 -> 110 | W14: =(D14-0.5)/P14 -> 91.863636 | X14: =(D14+0.4)/P14 -> 91.945455 | AC14: =ROUND(P14*AA11,0) -> 1011 | AD14: =(AC14-D14)/D14 -> 0
B15: =B11+1 -> 4 | C15: 13 | D15: 802 | E15: =D15+E14 -> 8046 | F15: =E15/$E$66 -> 0.047790165 | G15: 11390 | H15: 8 | I15: 0 | J15: 1 | K15: 0 | L15: 7 R | M15: 7 | N15: 0 | O15: 0.25 | P15: 8 | Q15: 8 | R15: 0 | S15: 0 | T15: 1 | U15: =P15*10 -> 80 | W15: =(D15-0.5)/P15 -> 100.1875 | X15: =(D15+0.4)/P15 -> 100.3 | Y15: =MAX(W15:W18) -> 100.20833 | Z15: =MIN(X15:X18) -> 100.28333 | AA15: =IF((Y15+(Z15-Y15)/2)<Y15,Y15,Y15+(Z15-Y15)/2) -> 100.24583 | AB15: =ROUND(AA15/AA11,4) -> 1.0909 | AC15: =ROUND(P15*AA15,0) -> 802 | AD15: =(AC15-D15)/D15 -> 0
C16: 14 | D16: 802 | E16: =D16+E15 -> 8848 | F16: =E16/$E$66 -> 0.052553739 | G16: 10512 | H16: 8 | I16: 0 | J16: 1 | K16: 0 | L16: 7 R | M16: 0 | N16: 0 | O16: 0.25 | P16: 8 | Q16: 8 | R16: 0 | S16: 0 | T16: 1 | U16: =P16*10 -> 80 | W16: =(D16-0.5)/P16 -> 100.1875 | X16: =(D16+0.4)/P16 -> 100.3 | AC16: =ROUND(P16*AA15,0) -> 802 | AD16: =(AC16-D16)/D16 -> 0
C17: 15 | D17: 802 | E17: =D17+E16 -> 9650 | F17: =E17/$E$66 -> 0.057317312 | G17: 10806 | H17: 8 | I17: 0 | J17: 1 | K17: 0 | L17: 7 R | M17: 3 | N17: 0 | O17: 0.25 | P17: 8 | Q17: 8 | R17: 0 | S17: 0 | T17: 1 | U17: =P17*10 -> 80 | W17: =(D17-0.5)/P17 -> 100.1875 | X17: =(D17+0.4)/P17 -> 100.3 | AC17: =ROUND(P17*AA15,0) -> 802 | AD17: =(AC17-D17)/D17 -> 0
C18: 16 | D18: 1203 | E18: =D18+E17 -> 10853 | F18: =E18/$E$66 -> 0.064462672 | G18: 9212 | H18: 8 | I18: 0 | J18: 1 | K18: 0 | L18: 7 R | M18: 8 | N18: 0 | O18: 0.25 | P18: 12 | Q18: 11 | R18: 0 | S18: 1 SB | T18: 2 | U18: =P18*10 -> 120 | W18: =(D18-0.5)/P18 -> 100.20833 | X18: =(D18+0.4)/P18 -> 100.28333 | AC18: =ROUND(P18*AA15,0) -> 1203 | AD18: =(AC18-D18)/D18 -> 0
A19: =A3+1 -> 2 | B19: =B15+1 -> 5 | C19: 17 | D19: 869 | E19: =D19+E18 -> 11722 | F19: =E19/$E$66 -> 0.0696242 | G19: 10308 | H19: 8 | I19: 0 | J19: 0 | K19: 1 | L19: 7 R | M19: 10 | N19: 0 | O19: 0.25 | P19: 8 | Q19: 7 | R19: 1 | S19: 0 | T19: 1 | U19: =P19*10 -> 80 | W19: =(D19-0.5)/P19 -> 108.5625 | X19: =(D19+0.4)/P19 -> 108.675 | Y19: =MAX(W19:W22) -> 108.57692 | Z19: =MIN(X19:X22) -> 108.64615 | AA19: =IF((Y19+(Z19-Y19)/2)<Y19,Y19,Y19+(Z19-Y19)/2) -> 108.61154 | AB19: =ROUND(AA19/AA15,4) -> 1.0835 | AC19: =ROUND(P19*AA19,0) -> 869 | AD19: =(AC19-D19)/D19 -> 0
C20: 18 | D20: 869 | E20: =D20+E19 -> 12591 | F20: =E20/$E$66 -> 0.074785728 | G20: 10476 | H20: 8 | I20: 0 | J20: 1 | K20: 0 | L20: 7 R | M20: 7 | N20: 0 | O20: 0.25 | P20: 8 | Q20: 6 | R20: 2 | S20: 0 | T20: 1 | U20: =P20*10 -> 80 | W20: =(D20-0.5)/P20 -> 108.5625 | X20: =(D20+0.4)/P20 -> 108.675 | AC20: =ROUND(P20*AA19,0) -> 869 | AD20: =(AC20-D20)/D20 -> 0
C21: 19 | D21: 869 | E21: =D21+E20 -> 13460 | F21: =E21/$E$66 -> 0.079947256 | G21: 12076 | H21: 8 | I21: 0 | J21: 1 | K21: 0 | L21: 7 R | M21: 14 | N21: 1 | O21: 0.25 | P21: 8 | Q21: 6 | R21: 2 | S21: 0 | T21: 1 | U21: =P21*10 -> 80 | W21: =(D21-0.5)/P21 -> 108.5625 | X21: =(D21+0.4)/P21 -> 108.675 | AC21: =ROUND(P21*AA19,0) -> 869 | AD21: =(AC21-D21)/D21 -> 0
C22: 20 | D22: 1412 | E22: =D22+E21 -> 14872 | F22: =E22/$E$66 -> 0.088333997 | G22: 13812 | H22: 8 | I22: 0 | J22: 1 | K22: 0 | L22: 7 R | M22: 9 | N22: 0 | O22: 0.25 | P22: 13 | Q22: 9 | R22: 3 | S22: 1 SB | T22: 2 | U22: =P22*10 -> 130 | W22: =(D22-0.5)/P22 -> 108.57692 | X22: =(D22+0.4)/P22 -> 108.64615 | AC22: =ROUND(P22*AA19,0) -> 1412 | AD22: =(AC22-D22)/D22 -> 0
B23: =B19+1 -> 6 | C23: 21 | D23: 969 | E23: =D23+E22 -> 15841 | F23: =E23/$E$66 -> 0.094089486 | G23: 12108 | H23: 8 | I23: 0 | J23: 1 | K23: 0 | L23: 7 R | M23: 6 | N23: 0 | O23: 0.25 | P23: 8 | Q23: 5 | R23: 3 | S23: 0 | T23: 1 | U23: =P23*10 -> 80 | W23: =(D23-0.5)/P23 -> 121.0625 | X23: =(D23+0.4)/P23 -> 121.175 | Y23: =MAX(W23:W26) -> 121.10714 | Z23: =MIN(X23:X26) -> 121.17143 | AA23: =IF((Y23+(Z23-Y23)/2)<Y23,Y23,Y23+(Z23-Y23)/2) -> 121.13929 | AB23: =ROUND(AA23/AA19,4) -> 1.1153 | AC23: =ROUND(P23*AA23,0) -> 969 | AD23: =(AC23-D23)/D23 -> 0
C24: 22 | D24: 969 | E24: =D24+E23 -> 16810 | F24: =E24/$E$66 -> 0.099844976 | G24: 11130 | H24: 8 | I24: 0 | J24: 1 | K24: 0 | L24: 7 R | M24: 3 | N24: 0 | O24: 0.25 | P24: 8 | Q24: 4 | R24: 4 | S24: 0 | T24: 1 | U24: =P24*10 -> 80 | W24: =(D24-0.5)/P24 -> 121.0625 | X24: =(D24+0.4)/P24 -> 121.175 | AC24: =ROUND(P24*AA23,0) -> 969 | AD24: =(AC24-D24)/D24 -> 0
C25: 23 | D25: 969 | E25: =D25+E24 -> 17779 | F25: =E25/$E$66 -> 0.10560047 | G25: 13140 | H25: 8 | I25: 0 | J25: 1 | K25: 0 | L25: 7 R | M25: 0 | N25: 0 | O25: 0.25 | P25: 8 | Q25: 4 | R25: 4 | S25: 0 | T25: 1 | U25: =P25*10 -> 80 | W25: =(D25-0.5)/P25 -> 121.0625 | X25: =(D25+0.4)/P25 -> 121.175 | AC25: =ROUND(P25*AA23,0) -> 969 | AD25: =(AC25-D25)/D25 -> 0
C26: 24 | D26: 1696 | E26: =D26+E25 -> 19475 | F26: =E26/$E$66 -> 0.11567406 | G26: 19548 | H26: 8 | I26: 0 | J26: 1 | K26: 0 | L26: 7 R | M26: 3 | N26: 0 | O26: 0.25 | P26: 14 | Q26: 8 | R26: 5 | S26: 1 SB | T26: 2 | U26: =P26*10 -> 140 | W26: =(D26-0.5)/P26 -> 121.10714 | X26: =(D26+0.4)/P26 -> 121.17143 | AC26: =ROUND(P26*AA23,0) -> 1696 | AD26: =(AC26-D26)/D26 -> 0
B27: =B23+1 -> 7 | C27: 25 | D27: 1069 | E27: =D27+E26 -> 20544 | F27: =E27/$E$66 -> 0.12202351 | G27: 11952 | H27: 8 | I27: 0 | J27: 0 | K27: 1 | L27: 7 R | M27: 11 | N27: 0 | O27: 0.3 | P27: 8 | Q27: 3 | R27: 5 | S27: 0 | T27: 1 | U27: =P27*10 -> 80 | W27: =(D27-0.5)/P27 -> 133.5625 | X27: =(D27+0.4)/P27 -> 133.675 | Y27: =MAX(W27:W30) -> 133.56667 | Z27: =MIN(X27:X30) -> 133.62667 | AA27: =IF((Y27+(Z27-Y27)/2)<Y27,Y27,Y27+(Z27-Y27)/2) -> 133.59667 | AB27: =ROUND(AA27/AA23,4) -> 1.1028 | AC27: =ROUND(P27*AA27,0) -> 1069 | AD27: =(AC27-D27)/D27 -> 0
C28: 26 | D28: 1069 | E28: =D28+E27 -> 21613 | F28: =E28/$E$66 -> 0.12837296 | G28: 13284 | H28: 8 | I28: 0 | J28: 0 | K28: 1 | L28: 7 R | M28: 16 | N28: 0 | O28: 0.3 | P28: 8 | Q28: 2 | R28: 6 | S28: 0 | T28: 1 | U28: =P28*10 -> 80 | W28: =(D28-0.5)/P28 -> 133.5625 | X28: =(D28+0.4)/P28 -> 133.675 | AC28: =ROUND(P28*AA27,0) -> 1069 | AD28: =(AC28-D28)/D28 -> 0
C29: 27 | D29: 1069 | E29: =D29+E28 -> 22682 | F29: =E29/$E$66 -> 0.13472241 | G29: 13158 | H29: 8 | I29: 0 | J29: 1 | K29: 0 | L29: 7 R | M29: 9 | N29: 0 | O29: 0.3 | P29: 8 | Q29: 2 | R29: 6 | S29: 0 | T29: 1 | U29: =P29*10 -> 80 | W29: =(D29-0.5)/P29 -> 133.5625 | X29: =(D29+0.4)/P29 -> 133.675 | AC29: =ROUND(P29*AA27,0) -> 1069 | AD29: =(AC29-D29)/D29 -> 0
C30: 28 | D30: 2004 | E30: =D30+E29 -> 24686 | F30: =E30/$E$66 -> 0.14662541 | G30: 20376 | H30: 8 | I30: 0 | J30: 0 | K30: 1 | L30: 7 R | M30: 16 | N30: 0 | O30: 0.3 | P30: 15 | Q30: 8 | R30: 6 | S30: 1 R | T30: 2 | U30: =P30*10 -> 150 | W30: =(D30-0.5)/P30 -> 133.56667 | X30: =(D30+0.4)/P30 -> 133.62667 | AC30: =ROUND(P30*AA27,0) -> 2004 | AD30: =(AC30-D30)/D30 -> 0
B31: =B27+1 -> 8 | C31: 29 | D31: 1503 | E31: =D31+E30 -> 26189 | F31: =E31/$E$66 -> 0.15555265 | G31: 12288 | H31: 8 | I31: 0 | J31: 1 | K31: 0 | L31: 7 R | M31: 2 | N31: 0 | O31: 0.4 | P31: 10 | Q31: 3 | R31: 7 | S31: 0 | T31: 2 | U31: =P31*10 -> 100 | W31: =(D31-0.5)/P31 -> 150.25 | X31: =(D31+0.4)/P31 -> 150.34 | Y31: =MAX(W31:W34) -> 150.31818 | Z31: =MIN(X31:X34) -> 150.3375 | AA31: =IF((Y31+(Z31-Y31)/2)<Y31,Y31,Y31+(Z31-Y31)/2) -> 150.32784 | AB31: =ROUND(AA31/AA27,4) -> 1.1252 | AC31: =ROUND(P31*AA31,0) -> 1503 | AD31: =(AC31-D31)/D31 -> 0
C32: 30 | D32: 1654 | E32: =D32+E31 -> 27843 | F32: =E32/$E$66 -> 0.16537678 | G32: 12000 | H32: 8 | I32: 0 | J32: 1 | K32: 0 | L32: 7 R | M32: 6 | N32: 0 | O32: 0.4 | P32: 11 | Q32: 3 | R32: 8 | S32: 0 | T32: 2 | U32: =P32*10 -> 110 | W32: =(D32-0.5)/P32 -> 150.31818 | X32: =(D32+0.4)/P32 -> 150.4 | AC32: =ROUND(P32*AA31,0) -> 1654 | AD32: =(AC32-D32)/D32 -> 0
C33: 31 | D33: 1654 | E33: =D33+E32 -> 29497 | F33: =E33/$E$66 -> 0.17520091 | G33: 11880 | H33: 8 | I33: 0 | J33: 0 | K33: 1 | L33: 7 R | M33: 9 | N33: 0 | O33: 0.4 | P33: 11 | Q33: 3 | R33: 8 | S33: 0 | T33: 2 | U33: =P33*10 -> 110 | W33: =(D33-0.5)/P33 -> 150.31818 | X33: =(D33+0.4)/P33 -> 150.4 | AC33: =ROUND(P33*AA31,0) -> 1654 | AD33: =(AC33-D33)/D33 -> 0
C34: 32 | D34: 2405 | E34: =D34+E33 -> 31902 | F34: =E34/$E$66 -> 0.18948569 | G34: 25056 | H34: 8 | I34: 0 | J34: 0 | K34: 1 | L34: 7 R | M34: 5 | N34: 0 | O34: 0.4 | P34: 16 | Q34: 6 | R34: 9 | S34: 1 C | T34: 2 | U34: =P34*10 -> 160 | W34: =(D34-0.5)/P34 -> 150.28125 | X34: =(D34+0.4)/P34 -> 150.3375 | AC34: =ROUND(P34*AA31,0) -> 2405 | AD34: =(AC34-D34)/D34 -> 0
A35: =A19+1 -> 3 | B35: =B31+1 -> 9 | C35: 33 | D35: 1837 | E35: =D35+E34 -> 33739 | F35: =E35/$E$66 -> 0.20039677 | G35: 12216 | H35: 8 | I35: 0 | J35: 0 | K35: 1 | L35: 7 R | M35: 17 | N35: 0 | O35: 0.5 | P35: 11 | Q35: 2 | R35: 9 | S35: 0 | T35: 2 | U35: =P35*10 -> 110 | W35: =(D35-0.5)/P35 -> 166.95455 | X35: =(D35+0.4)/P35 -> 167.03636 | Y35: =MAX(W35:W38) -> 166.96875 | Z35: =MIN(X35:X38) -> 167.025 | AA35: =IF((Y35+(Z35-Y35)/2)<Y35,Y35,Y35+(Z35-Y35)/2) -> 166.99687 | AB35: =ROUND(AA35/AA31,4) -> 1.1109 | AC35: =ROUND(P35*AA35,0) -> 1837 | AD35: =(AC35-D35)/D35 -> 0
C36: 34 | D36: 2004 | E36: =D36+E35 -> 35743 | F36: =E36/$E$66 -> 0.21229976 | G36: 15312 | H36: 8 | I36: 0 | J36: 0 | K36: 1 | L36: 7 R | M36: 1 | N36: 0 | O36: 0.5 | P36: 12 | Q36: 2 | R36: 10 | S36: 0 | T36: 2 | U36: =P36*10 -> 120 | W36: =(D36-0.5)/P36 -> 166.95833 | X36: =(D36+0.4)/P36 -> 167.03333 | AC36: =ROUND(P36*AA35,0) -> 2004 | AD36: =(AC36-D36)/D36 -> 0
C37: 35 | D37: 2004 | E37: =D37+E36 -> 37747 | F37: =E37/$E$66 -> 0.22420275 | G37: 13968 | H37: 8 | I37: 0 | J37: 1 | K37: 0 | L37: 7 R | M37: 11 | N37: 0 | O37: 0.5 | P37: 12 | Q37: 2 | R37: 10 | S37: 0 | T37: 2 | U37: =P37*10 -> 120 | W37: =(D37-0.5)/P37 -> 166.95833 | X37: =(D37+0.4)/P37 -> 167.03333 | AC37: =ROUND(P37*AA35,0) -> 2004 | AD37: =(AC37-D37)/D37 -> 0
C38: 36 | D38: 2672 | E38: =D38+E37 -> 40419 | F38: =E38/$E$66 -> 0.24007341 | G38: 25256 | H38: 8 | I38: 0 | J38: 1 | K38: 0 | L38: 7 R | M38: 8 | N38: 0 | O38: 0.5 | P38: 16 | Q38: 7 | R38: 10 | S38: 1 R | T38: 2 | U38: =P38*10 -> 160 | W38: =(D38-0.5)/P38 -> 166.96875 | X38: =(D38+0.4)/P38 -> 167.025 | AC38: =ROUND(P38*AA35,0) -> 2672 | AD38: =(AC38-D38)/D38 -> 0
B39: =B35+1 -> 10 | C39: 37 | D39: 2497 | E39: =D39+E38 -> 42916 | F39: =E39/$E$66 -> 0.25490464 | G39: 20496 | H39: 8 | I39: 0 | J39: 1 | K39: 0 | L39: 7 R | M39: 5 | N39: 0 | O39: 0.55 | P39: 13 | Q39: 2 | R39: 11 | S39: 0 | T39: 2 | U39: =P39*10 -> 130 | W39: =(D39-0.5)/P39 -> 192.03846 | X39: =(D39+0.4)/P39 -> 192.10769 | Y39: =MAX(W39:W42) -> 192.03846 | Z39: =MIN(X39:X42) -> 192.0875 | AA39: =IF((Y39+(Z39-Y39)/2)<Y39,Y39,Y39+(Z39-Y39)/2) -> 192.06298 | AB39: =ROUND(AA39/AA35,4) -> 1.1501 | AC39: =ROUND(P39*AA39,0) -> 2497 | AD39: =(AC39-D39)/D39 -> 0
C40: 38 | D40: 2497 | E40: =D40+E39 -> 45413 | F40: =E40/$E$66 -> 0.26973587 | G40: 21408 | H40: 8 | I40: 0 | J40: 1 | K40: 0 | L40: 7 R | M40: 15 | N40: 1 | O40: 0.55 | P40: 13 | Q40: 1 | R40: 12 | S40: 0 | T40: 2 | U40: =P40*10 -> 130 | W40: =(D40-0.5)/P40 -> 192.03846 | X40: =(D40+0.4)/P40 -> 192.10769 | AC40: =ROUND(P40*AA39,0) -> 2497 | AD40: =(AC40-D40)/D40 -> 0
...

Sheet PE Fight Plots and Analysis
B6: Progressive Era Point Summary
B7: GE Level | C7: Segment | D7: Approximate Points/Enemy Unit | E7: Point Increase over Previous Segment
B8: 1 | C8: 1 | D8: =OFFSET('PE Fight'!$AA$3,(ROW()-ROW($C$8))*4,0) -> 83.55 | E8: -
C9: 2 | D9: =OFFSET('PE Fight'!$AA$3,(ROW()-ROW($C$8))*4,0) -> 87.75 | E9: =OFFSET('PE Fight'!$AA$3,(ROW()-ROW($C$8))*4,1) -> 1.0503
C10: 3 | D10: =OFFSET('PE Fight'!$AA$3,(ROW()-ROW($C$8))*4,0) -> 91.888961 | E10: =OFFSET('PE Fight'!$AA$3,(ROW()-ROW($C$8))*4,1) -> 1.0472
C11: 4 | D11: =OFFSET('PE Fight'!$AA$3,(ROW()-ROW($C$8))*4,0) -> 100.24583 | E11: =OFFSET('PE Fight'!$AA$3,(ROW()-ROW($C$8))*4,1) -> 1.0909
B12: =B8+1 -> 2 | C12: 5 | D12: =OFFSET('PE Fight'!$AA$3,(ROW()-ROW($C$8))*4,0) -> 108.61154 | E12: =OFFSET('PE Fight'!$AA$3,(ROW()-ROW($C$8))*4,1) -> 1.0835
C13: 6 | D13: =OFFSET('PE Fight'!$AA$3,(ROW()-ROW($C$8))*4,0) -> 121.13929 | E13: =OFFSET('PE Fight'!$AA$3,(ROW()-ROW($C$8))*4,1) -> 1.1153
C14: 7 | D14: =OFFSET('PE Fight'!$AA$3,(ROW()-ROW($C$8))*4,0) -> 133.59667 | E14: =OFFSET('PE Fight'!$AA$3,(ROW()-ROW($C$8))*4,1) -> 1.1028
C15: 8 | D15: =OFFSET('PE Fight'!$AA$3,(ROW()-ROW($C$8))*4,0) -> 150.32784 | E15: =OFFSET('PE Fight'!$AA$3,(ROW()-ROW($C$8))*4,1) -> 1.1252
B16: =B12+1 -> 3 | C16: 9 | D16: =OFFSET('PE Fight'!$AA$3,(ROW()-ROW($C$8))*4,0) -> 166.99687 | E16: =OFFSET('PE Fight'!$AA$3,(ROW()-ROW($C$8))*4,1) -> 1.1109
C17: 10 | D17: =OFFSET('PE Fight'!$AA$3,(ROW()-ROW($C$8))*4,0) -> 192.06298 | E17: =OFFSET('PE Fight'!$AA$3,(ROW()-ROW($C$8))*4,1) -> 1.1501
C18: 11 | D18: =OFFSET('PE Fight'!$AA$3,(ROW()-ROW($C$8))*4,0) -> 217.12857 | E18: =OFFSET('PE Fight'!$AA$3,(ROW()-ROW($C$8))*4,1) -> 1.1305
C19: 12 | D19: =OFFSET('PE Fight'!$AA$3,(ROW()-ROW($C$8))*4,0) -> 250.5125 | E19: =OFFSET('PE Fight'!$AA$3,(ROW()-ROW($C$8))*4,1) -> 1.1538
B20: =B16+1 -> 4 | C20: 13 | D20: =OFFSET('PE Fight'!$AA$3,(ROW()-ROW($C$8))*4,0) -> 283.93437 | E20: =OFFSET('PE Fight'!$AA$3,(ROW()-ROW($C$8))*4,1) -> 1.1334
C21: 14 | D21: =OFFSET('PE Fight'!$AA$3,(ROW()-ROW($C$8))*4,0) -> 325.68437 | E21: =OFFSET('PE Fight'!$AA$3,(ROW()-ROW($C$8))*4,1) -> 1.147
C22: 15 | D22: =OFFSET('PE Fight'!$AA$3,(ROW()-ROW($C$8))*4,0) -> 367.43437 | E22: =OFFSET('PE Fight'!$AA$3,(ROW()-ROW($C$8))*4,1) -> 1.1282
C23: 16 | D23: =OFFSET('PE Fight'!$AA$3,(ROW()-ROW($C$8))*4,0) -> 417.49687 | E23: =OFFSET('PE Fight'!$AA$3,(ROW()-ROW($C$8))*4,1) -> 1.1362

Sheet ME Fight
G1: Enemy Units | L1: Expedition Points / Unit | R1: Prediction using Avg.
A2: GE Level | B2: Segment | C2: Encounter | D2: Expedition Points | E2: Cumulative EP | F2: Cumulative % of Total | G2: Attacker Bonus | H2: Total | I2: Waves | J2: Damage Taken | L2: Lower Bound | M2: Upper Bound | N2: Min bound | O2: Max bound | P2: Avg. | Q2: Apparent Increase | R2: Expedition Points | S2: % Error
A3: 1 | B3: 1 | C3: 1 | D3: 324 | E3: =D3 -> 324 | F3: =E3/$E$66 -> 0.0014879039 | H3: 3 | I3: 1 | J3: =H3*10 -> 30 | L3: =(D3-0.5)/H3 -> 107.83333 | M3: =(D3+0.4)/H3 -> 108.13333 | N3: =MAX(L3:L6) -> 108.05556 | O3: =MIN(M3:M6) -> 108.08 | P3: =IF((N3+(O3-N3)/2)<N3,N3,N3+(O3-N3)/2) -> 108.06778 | R3: =ROUND(H3*P3,0) -> 324 | S3: =(R3-D3)/D3 -> 0 | U3: =D3/'PE Fight'!D3 -> 1.2908367
C4: 2 | D4: 432 | E4: =D4+E3 -> 756 | F4: =E4/$E$66 -> 0.0034717757 | H4: 4 | I4: 1 | J4: =H4*10 -> 40 | L4: =(D4-0.5)/H4 -> 107.875 | M4: =(D4+0.4)/H4 -> 108.1 | R4: =ROUND(H4*P3,0) -> 432 | S4: =(R4-D4)/D4 -> 0
C5: 3 | D5: 540 | E5: =D5+E4 -> 1296 | F5: =E5/$E$66 -> 0.0059516156 | H5: 5 | I5: 1 | J5: =H5*10 -> 50 | L5: =(D5-0.5)/H5 -> 107.9 | M5: =(D5+0.4)/H5 -> 108.08 | R5: =ROUND(H5*P3,0) -> 540 | S5: =(R5-D5)/D5 -> 0
C6: 4 | D6: 973 | E6: =D6+E5 -> 2269 | F6: =E6/$E$66 -> 0.01041992 | H6: 9 | I6: 2 | J6: =H6*10 -> 90 | L6: =(D6-0.5)/H6 -> 108.05556 | M6: =(D6+0.4)/H6 -> 108.15556 | R6: =ROUND(H6*P3,0) -> 973 | S6: =(R6-D6)/D6 -> 0
B7: =B3+1 -> 2 | C7: 5 | D7: 567 | E7: =D7+E6 -> 2836 | F7: =E7/$E$66 -> 0.013023751 | H7: 5 | I7: 1 | J7: =H7*10 -> 50 | L7: =(D7-0.5)/H7 -> 113.3 | M7: =(D7+0.4)/H7 -> 113.48 | N7: =MAX(L7:L10) -> 113.41667 | O7: =MIN(M7:M10) -> 113.44 | P7: =IF((N7+(O7-N7)/2)<N7,N7,N7+(O7-N7)/2) -> 113.42833 | Q7: =ROUND(P7/P3,4) -> 1.0496 | R7: =ROUND(H7*P7,0) -> 567 | S7: =(R7-D7)/D7 -> 0
C8: 6 | D8: 681 | E8: =D8+E7 -> 3517 | F8: =E8/$E$66 -> 0.016151105 | H8: 6 | I8: 1 | J8: =H8*10 -> 60 | L8: =(D8-0.5)/H8 -> 113.41667 | M8: =(D8+0.4)/H8 -> 113.56667 | R8: =ROUND(H8*P7,0) -> 681 | S8: =(R8-D8)/D8 -> 0
C9: 7 | D9: 794 | E9: =D9+E8 -> 4311 | F9: =E9/$E$66 -> 0.019797388 | H9: 7 | I9: 1 | J9: =H9*10 -> 70 | L9: =(D9-0.5)/H9 -> 113.35714 | M9: =(D9+0.4)/H9 -> 113.48571 | R9: =ROUND(H9*P7,0) -> 794 | S9: =(R9-D9)/D9 -> 0 | U9: ='PE Fight'!AA7*$U$3 -> 113.27092
C10: 8 | D10: 1134 | E10: =D10+E9 -> 5445 | F10: =E10/$E$66 -> 0.025005052 | H10: 10 | I10: 1 | J10: =H10*10 -> 100 | L10: =(D10-0.5)/H10 -> 113.35 | M10: =(D10+0.4)/H10 -> 113.44 | R10: =ROUND(H10*P7,0) -> 1134 | S10: =(R10-D10)/D10 -> 0
B11: =B7+1 -> 3 | C11: 9 | D11: 832 | E11: =D11+E10 -> 6277 | F11: =E11/$E$66 -> 0.028825842 | H11: 7 | I11: 1 | J11: =H11*10 -> 70 | L11: =(D11-0.5)/H11 -> 118.78571 | M11: =(D11+0.4)/H11 -> 118.91429 | N11: =MAX(L11:L14) -> 118.8125 | O11: =MIN(M11:M14) -> 118.85455 | P11: =IF((N11+(O11-N11)/2)<N11,N11,N11+(O11-N11)/2) -> 118.83352 | Q11: =ROUND(P11/P7,4) -> 1.0477 | R11: =ROUND(H11*P11,0) -> 832 | S11: =(R11-D11)/D11 -> 0
C12: 10 | D12: 832 | E12: =D12+E11 -> 7109 | F12: =E12/$E$66 -> 0.032646632 | H12: 7 | I12: 1 | J12: =H12*10 -> 70 | L12: =(D12-0.5)/H12 -> 118.78571 | M12: =(D12+0.4)/H12 -> 118.91429 | R12: =ROUND(H12*P11,0) -> 832 | S12: =(R12-D12)/D12 -> 0
C13: 11 | D13: 951 | E13: =D13+E12 -> 8060 | F13: =E13/$E$66 -> 0.037013905 | H13: 8 | I13: 1 | J13: =H13*10 -> 80 | L13: =(D13-0.5)/H13 -> 118.8125 | M13: =(D13+0.4)/H13 -> 118.925 | R13: =ROUND(H13*P11,0) -> 951 | S13: =(R13-D13)/D13 -> 0 | U13: ='PE Fight'!AA11*$U$3 -> 118.61364
C14: 12 | D14: 1307 | E14: =D14+E13 -> 9367 | F14: =E14/$E$66 -> 0.043016036 | H14: 11 | I14: 2 | J14: =H14*10 -> 110 | L14: =(D14-0.5)/H14 -> 118.77273 | M14: =(D14+0.4)/H14 -> 118.85455 | R14: =ROUND(H14*P11,0) -> 1307 | S14: =(R14-D14)/D14 -> 0
B15: =B11+1 -> 4 | C15: 13 | D15: 1037 | E15: =D15+E14 -> 10404 | F15: =E15/$E$66 -> 0.047778247 | H15: 8 | I15: 1 | J15: =H15*10 -> 80 | L15: =(D15-0.5)/H15 -> 129.5625 | M15: =(D15+0.4)/H15 -> 129.675 | N15: =MAX(L15:L18) -> 129.625 | O15: =MIN(M15:M18) -> 129.675 | P15: =IF((N15+(O15-N15)/2)<N15,N15,N15+(O15-N15)/2) -> 129.65 | Q15: =ROUND(P15/P11,4) -> 1.091 | R15: =ROUND(H15*P15,0) -> 1037 | S15: =(R15-D15)/D15 -> 0
C16: 14 | D16: 1037 | E16: =D16+E15 -> 11441 | F16: =E16/$E$66 -> 0.052540458 | H16: 8 | I16: 1 | J16: =H16*10 -> 80 | L16: =(D16-0.5)/H16 -> 129.5625 | M16: =(D16+0.4)/H16 -> 129.675 | R16: =ROUND(H16*P15,0) -> 1037 | S16: =(R16-D16)/D16 -> 0
C17: 15 | D17: 1037 | E17: =D17+E16 -> 12478 | F17: =E17/$E$66 -> 0.057302669 | G17: 0.3 | H17: 8 | I17: 1 | J17: =H17*10 -> 80 | L17: =(D17-0.5)/H17 -> 129.5625 | M17: =(D17+0.4)/H17 -> 129.675 | R17: =ROUND(H17*P15,0) -> 1037 | S17: =(R17-D17)/D17 -> 0 | U17: ='PE Fight'!AA15*$U$3 -> 129.401
C18: 16 | D18: 1556 | E18: =D18+E17 -> 14034 | F18: =E18/$E$66 -> 0.064448282 | G18: 0.3 | H18: 12 | I18: 2 | J18: =H18*10 -> 120 | L18: =(D18-0.5)/H18 -> 129.625 | M18: =(D18+0.4)/H18 -> 129.7 | R18: =ROUND(H18*P15,0) -> 1556 | S18: =(R18-D18)/D18 -> 0
A19: =A3+1 -> 2 | B19: =B15+1 -> 5 | C19: 17 | D19: 1124 | E19: =D19+E18 -> 15158 | F19: =E19/$E$66 -> 0.069610022 | H19: 8 | I19: 1 | J19: =H19*10 -> 80 | L19: =(D19-0.5)/H19 -> 140.4375 | M19: =(D19+0.4)/H19 -> 140.55 | N19: =MAX(L19:L22) -> 140.4375 | O19: =MIN(M19:M22) -> 140.49231 | P19: =IF((N19+(O19-N19)/2)<N19,N19,N19+(O19-N19)/2) -> 140.4649 | Q19: =ROUND(P19/P15,4) -> 1.0834 | R19: =ROUND(H19*P19,0) -> 1124 | S19: =(R19-D19)/D19 -> 0
C20: 18 | D20: 1124 | E20: =D20+E19 -> 16282 | F20: =E20/$E$66 -> 0.074771763 | H20: 8 | I20: 1 | J20: =H20*10 -> 80 | L20: =(D20-0.5)/H20 -> 140.4375 | M20: =(D20+0.4)/H20 -> 140.55 | R20: =ROUND(H20*P19,0) -> 1124 | S20: =(R20-D20)/D20 -> 0
C21: 19 | D21: 1124 | E21: =D21+E20 -> 17406 | F21: =E21/$E$66 -> 0.079933504 | H21: 8 | I21: 1 | J21: =H21*10 -> 80 | L21: =(D21-0.5)/H21 -> 140.4375 | M21: =(D21+0.4)/H21 -> 140.55 | R21: =ROUND(H21*P19,0) -> 1124 | S21: =(R21-D21)/D21 -> 0 | U21: ='PE Fight'!AA19*$U$3 -> 140.19975
C22: 20 | D22: 1826 | E22: =D22+E21 -> 19232 | F22: =E22/$E$66 -> 0.088319036 | H22: 13 | I22: 2 | J22: =H22*10 -> 130 | L22: =(D22-0.5)/H22 -> 140.42308 | M22: =(D22+0.4)/H22 -> 140.49231 | R22: =ROUND(H22*P19,0) -> 1826 | S22: =(R22-D22)/D22 -> 0
B23: =B19+1 -> 6 | C23: 21 | D23: 1253 | E23: =D23+E22 -> 20485 | F23: =E23/$E$66 -> 0.094073183 | H23: 8 | I23: 1 | J23: =H23*10 -> 80 | L23: =(D23-0.5)/H23 -> 156.5625 | M23: =(D23+0.4)/H23 -> 156.675 | N23: =MAX(L23:L26) -> 156.60714 | O23: =MIN(M23:M26) -> 156.67143 | P23: =IF((N23+(O23-N23)/2)<N23,N23,N23+(O23-N23)/2) -> 156.63929 | Q23: =ROUND(P23/P19,4) -> 1.1151 | R23: =ROUND(H23*P23,0) -> 1253 | S23: =(R23-D23)/D23 -> 0
C24: 22 | D24: 1253 | E24: =D24+E23 -> 21738 | F24: =E24/$E$66 -> 0.09982733 | H24: 8 | I24: 1 | J24: =H24*10 -> 80 | L24: =(D24-0.5)/H24 -> 156.5625 | M24: =(D24+0.4)/H24 -> 156.675 | R24: =ROUND(H24*P23,0) -> 1253 | S24: =(R24-D24)/D24 -> 0
C25: 23 | D25: 1253 | E25: =D25+E24 -> 22991 | F25: =E25/$E$66 -> 0.10558148 | H25: 8 | I25: 1 | J25: =H25*10 -> 80 | L25: =(D25-0.5)/H25 -> 156.5625 | M25: =(D25+0.4)/H25 -> 156.675 | R25: =ROUND(H25*P23,0) -> 1253 | S25: =(R25-D25)/D25 -> 0 | U25: ='PE Fight'!AA23*$U$3 -> 156.37103
C26: 24 | D26: 2193 | E26: =D26+E25 -> 25184 | F26: =E26/$E$66 -> 0.11565238 | H26: 14 | I26: 2 | J26: =H26*10 -> 140 | L26: =(D26-0.5)/H26 -> 156.60714 | M26: =(D26+0.4)/H26 -> 156.67143 | R26: =ROUND(H26*P23,0) -> 2193 | S26: =(R26-D26)/D26 -> 0
B27: =B23+1 -> 7 | C27: 25 | D27: 1383 | E27: =D27+E26 -> 26567 | F27: =E27/$E$66 -> 0.12200353 | H27: 8 | I27: 1 | J27: =H27*10 -> 80 | L27: =(D27-0.5)/H27 -> 172.8125 | M27: =(D27+0.4)/H27 -> 172.925 | N27: =MAX(L27:L30) -> 172.8125 | O27: =MIN(M27:M30) -> 172.82667 | P27: =IF((N27+(O27-N27)/2)<N27,N27,N27+(O27-N27)/2) -> 172.81958 | Q27: =ROUND(P27/P23,4) -> 1.1033 | R27: =ROUND(H27*P27,0) -> 1383 | S27: =(R27-D27)/D27 -> 0
C28: 26 | D28: 1383 | E28: =D28+E27 -> 27950 | F28: =E28/$E$66 -> 0.12835467 | H28: 8 | I28: 1 | J28: =H28*10 -> 80 | L28: =(D28-0.5)/H28 -> 172.8125 | M28: =(D28+0.4)/H28 -> 172.925 | R28: =ROUND(H28*P27,0) -> 1383 | S28: =(R28-D28)/D28 -> 0
C29: 27 | D29: 1383 | E29: =D29+E28 -> 29333 | F29: =E29/$E$66 -> 0.13470582 | H29: 8 | I29: 1 | J29: =H29*10 -> 80 | L29: =(D29-0.5)/H29 -> 172.8125 | M29: =(D29+0.4)/H29 -> 172.925 | R29: =ROUND(H29*P27,0) -> 1383 | S29: =(R29-D29)/D29 -> 0 | U29: ='PE Fight'!AA27*$U$3 -> 172.45147
C30: 28 | D30: 2592 | E30: =D30+E29 -> 31925 | F30: =E30/$E$66 -> 0.14660905 | H30: 15 | I30: 2 | J30: =H30*10 -> 150 | L30: =(D30-0.5)/H30 -> 172.76667 | M30: =(D30+0.4)/H30 -> 172.82667 | R30: =ROUND(H30*P27,0) -> 2592 | S30: =(R30-D30)/D30 -> 0
B31: =B27+1 -> 8 | C31: 29 | D31: 1944 | E31: =D31+E30 -> 33869 | F31: =E31/$E$66 -> 0.15553647 | H31: 10 | I31: 2 | J31: =H31*10 -> 100 | L31: =(D31-0.5)/H31 -> 194.35 | M31: =(D31+0.4)/H31 -> 194.44 | N31: =MAX(L31:L34) -> 194.40909 | O31: =MIN(M31:M34) -> 194.44 | P31: =IF((N31+(O31-N31)/2)<N31,N31,N31+(O31-N31)/2) -> 194.42455 | Q31: =ROUND(P31/P27,4) -> 1.125 | R31: =ROUND(H31*P31,0) -> 1944 | S31: =(R31-D31)/D31 -> 0
C32: 30 | D32: 2139 | E32: =D32+E31 -> 36008 | F32: =E32/$E$66 -> 0.16535939 | H32: 11 | I32: 2 | J32: =H32*10 -> 110 | L32: =(D32-0.5)/H32 -> 194.40909 | M32: =(D32+0.4)/H32 -> 194.49091 | R32: =ROUND(H32*P31,0) -> 2139 | S32: =(R32-D32)/D32 -> 0
C33: 31 | D33: 2139 | E33: =D33+E32 -> 38147 | F33: =E33/$E$66 -> 0.17518231 | H33: 11 | I33: 2 | J33: =H33*10 -> 110 | L33: =(D33-0.5)/H33 -> 194.40909 | M33: =(D33+0.4)/H33 -> 194.49091 | R33: =ROUND(H33*P31,0) -> 2139 | S33: =(R33-D33)/D33 -> 0 | U33: ='PE Fight'!AA31*$U$3 -> 194.04869
C34: 32 | D34: 3111 | E34: =D34+E33 -> 41258 | F34: =E34/$E$66 -> 0.18946895 | H34: 16 | I34: 2 | J34: =H34*10 -> 160 | L34: =(D34-0.5)/H34 -> 194.40625 | M34: =(D34+0.4)/H34 -> 194.4625 | R34: =ROUND(H34*P31,0) -> 3111 | S34: =(R34-D34)/D34 -> 0
A35: =A19+1 -> 3 | B35: =B31+1 -> 9 | C35: 33 | D35: 2376 | E35: =D35+E34 -> 43634 | F35: =E35/$E$66 -> 0.20038024 | H35: 11 | I35: 2 | J35: =H35*10 -> 110 | L35: =(D35-0.5)/H35 -> 215.95455 | M35: =(D35+0.4)/H35 -> 216.03636 | N35: =MAX(L35:L38) -> 215.96875 | O35: =MIN(M35:M38) -> 216.025 | P35: =IF((N35+(O35-N35)/2)<N35,N35,N35+(O35-N35)/2) -> 215.99687 | Q35: =ROUND(P35/P31,4) -> 1.111 | R35: =ROUND(H35*P35,0) -> 2376 | S35: =(R35-D35)/D35 -> 0
C36: 34 | D36: 2592 | E36: =D36+E35 -> 46226 | F36: =E36/$E$66 -> 0.21228347 | H36: 12 | I36: 2 | J36: =H36*10 -> 120 | L36: =(D36-0.5)/H36 -> 215.95833 | M36: =(D36+0.4)/H36 -> 216.03333 | R36: =ROUND(H36*P35,0) -> 2592 | S36: =(R36-D36)/D36 -> 0
C37: 35 | D37: 2592 | E37: =D37+E36 -> 48818 | F37: =E37/$E$66 -> 0.2241867 | H37: 12 | I37: 2 | J37: =H37*10 -> 120 | L37: =(D37-0.5)/H37 -> 215.95833 | M37: =(D37+0.4)/H37 -> 216.03333 | R37: =ROUND(H37*P35,0) -> 2592 | S37: =(R37-D37)/D37 -> 0 | U37: ='PE Fight'!AA35*$U$3 -> 215.56569
C38: 36 | D38: 3456 | E38: =D38+E37 -> 52274 | F38: =E38/$E$66 -> 0.24005768 | H38: 16 | I38: 2 | J38: =H38*10 -> 160 | L38: =(D38-0.5)/H38 -> 215.96875 | M38: =(D38+0.4)/H38 -> 216.025 | R38: =ROUND(H38*P35,0) -> 3456 | S38: =(R38-D38)/D38 -> 0
B39: =B35+1 -> 10 | C39: 37 | D39: 3230 | E39: =D39+E38 -> 55504 | F39: =E39/$E$66 -> 0.2548908 | H39: 13 | I39: 2 | J39: =H39*10 -> 130 | L39: =(D39-0.5)/H39 -> 248.42308 | M39: =(D39+0.4)/H39 -> 248.49231 | N39: =MAX(L39:L42) -> 248.42308 | O39: =MIN(M39:M42) -> 248.4625 | P39: =IF((N39+(O39-N39)/2)<N39,N39,N39+(O39-N39)/2) -> 248.44279 | Q39: =ROUND(P39/P35,4) -> 1.1502 | R39: =ROUND(H39*P39,0) -> 3230 | S39: =(R39-D39)/D39 -> 0
C40: 38 | D40: 3230 | E40: =D40+E39 -> 58734 | F40: =E40/$E$66 -> 0.26972391 | H40: 13 | I40: 2 | J40: =H40*10 -> 130 | L40: =(D40-0.5)/H40 -> 248.42308 | M40: =(D40+0.4)/H40 -> 248.49231 | R40: =ROUND(H40*P39,0) -> 3230 | S40: =(R40-D40)/D40 -> 0
...

Sheet PME Fight
G1: Enemy Units | L1: Expedition Points / Unit | R1: Prediction using Avg.
A2: GE Level | B2: Segment | C2: Encounter | D2: Expedition Points | E2: Cumulative EP | F2: Cumulative % of Total | G2: Attacker Bonus | H2: Total | I2: Waves | J2: Damage Taken | L2: Lower Bound | M2: Upper Bound | N2: Min bound | O2: Max bound | P2: Avg. | Q2: Apparent Increase | R2: Expedition Points | S2: % Error
A3: 1 | B3: 1 | C3: 1 | D3: 408 | E3: =D3 -> 408 | F3: =E3/$E$66 -> 0.0014879813 | H3: 3 | I3: 1 | J3: =H3*10 -> 30 | L3: =(D3-0.5)/H3 -> 135.83333 | M3: =(D3+0.4)/H3 -> 136.13333 | N3: =MAX(L3:L6) -> 135.94444 | O3: =MIN(M3:M6) -> 136.04444 | P3: =IF((N3+(O3-N3)/2)<N3,N3,N3+(O3-N3)/2) -> 135.99444 | R3: =ROUND(H3*P3,0) -> 408 | S3: =(R3-D3)/D3 -> 0 | U3: =E6/'PE Fight'!E6 -> 1.6273504
C4: 2 | D4: 544 | E4: =D4+E3 -> 952 | F4: =E4/$E$66 -> 0.0034719563 | H4: 4 | I4: 1 | J4: =H4*10 -> 40 | L4: =(D4-0.5)/H4 -> 135.875 | M4: =(D4+0.4)/H4 -> 136.1 | R4: =ROUND(H4*P3,0) -> 544 | S4: =(R4-D4)/D4 -> 0
C5: 3 | D5: 680 | E5: =D5+E4 -> 1632 | F5: =E5/$E$66 -> 0.0059519251 | H5: 5 | I5: 1 | J5: =H5*10 -> 50 | L5: =(D5-0.5)/H5 -> 135.9 | M5: =(D5+0.4)/H5 -> 136.08 | R5: =ROUND(H5*P3,0) -> 680 | S5: =(R5-D5)/D5 -> 0
C6: 4 | D6: 1224 | E6: =D6+E5 -> 2856 | F6: =E6/$E$66 -> 0.010415869 | H6: 9 | I6: 2 | J6: =H6*10 -> 90 | L6: =(D6-0.5)/H6 -> 135.94444 | M6: =(D6+0.4)/H6 -> 136.04444 | R6: =ROUND(H6*P3,0) -> 1224 | S6: =(R6-D6)/D6 -> 0
B7: =B3+1 -> 2 | C7: 5 | D7: 714 | E7: =D7+E6 -> 3570 | F7: =E7/$E$66 -> 0.013019836 | H7: 5 | I7: 1 | J7: =H7*10 -> 50 | L7: =(D7-0.5)/H7 -> 142.7 | M7: =(D7+0.4)/H7 -> 142.88 | N7: =MAX(L7:L10) -> 142.78571 | O7: =MIN(M7:M10) -> 142.84 | P7: =IF((N7+(O7-N7)/2)<N7,N7,N7+(O7-N7)/2) -> 142.81286 | Q7: =ROUND(P7/P3,4) -> 1.0501 | R7: =ROUND(H7*P7,0) -> 714 | S7: =(R7-D7)/D7 -> 0
C8: 6 | D8: 857 | E8: =D8+E7 -> 4427 | F8: =E8/$E$66 -> 0.016145326 | H8: 6 | I8: 1 | J8: =H8*10 -> 60 | L8: =(D8-0.5)/H8 -> 142.75 | M8: =(D8+0.4)/H8 -> 142.9 | R8: =ROUND(H8*P7,0) -> 857 | S8: =(R8-D8)/D8 -> 0
C9: 7 | D9: 1000 | E9: =D9+E8 -> 5427 | F9: =E9/$E$66 -> 0.019792339 | H9: 7 | I9: 1 | J9: =H9*10 -> 70 | L9: =(D9-0.5)/H9 -> 142.78571 | M9: =(D9+0.4)/H9 -> 142.91429 | R9: =ROUND(H9*P7,0) -> 1000 | S9: =(R9-D9)/D9 -> 0 | U9: ='PE Fight'!AA7*$U$3 -> 142.8
C10: 8 | D10: 1428 | E10: =D10+E9 -> 6855 | F10: =E10/$E$66 -> 0.025000274 | H10: 10 | I10: 1 | J10: =H10*10 -> 100 | L10: =(D10-0.5)/H10 -> 142.75 | M10: =(D10+0.4)/H10 -> 142.84 | R10: =ROUND(H10*P7,0) -> 1428 | S10: =(R10-D10)/D10 -> 0
B11: =B7+1 -> 3 | C11: 9 | D11: 1048 | E11: =D11+E10 -> 7903 | F11: =E11/$E$66 -> 0.028822343 | H11: 7 | I11: 1 | J11: =H11*10 -> 70 | L11: =(D11-0.5)/H11 -> 149.64286 | M11: =(D11+0.4)/H11 -> 149.77143 | N11: =MAX(L11:L14) -> 149.64286 | O11: =MIN(M11:M14) -> 149.67273 | P11: =IF((N11+(O11-N11)/2)<N11,N11,N11+(O11-N11)/2) -> 149.65779 | Q11: =ROUND(P11/P7,4) -> 1.0479 | R11: =ROUND(H11*P11,0) -> 1048 | S11: =(R11-D11)/D11 -> 0
C12: 10 | D12: 1048 | E12: =D12+E11 -> 8951 | F12: =E12/$E$66 -> 0.032644413 | H12: 7 | I12: 1 | J12: =H12*10 -> 70 | L12: =(D12-0.5)/H12 -> 149.64286 | M12: =(D12+0.4)/H12 -> 149.77143 | R12: =ROUND(H12*P11,0) -> 1048 | S12: =(R12-D12)/D12 -> 0
C13: 11 | D13: 1197 | E13: =D13+E12 -> 10148 | F13: =E13/$E$66 -> 0.037009887 | H13: 8 | I13: 1 | J13: =H13*10 -> 80 | L13: =(D13-0.5)/H13 -> 149.5625 | M13: =(D13+0.4)/H13 -> 149.675 | R13: =ROUND(H13*P11,0) -> 1197 | S13: =(R13-D13)/D13 -> 0 | U13: ='PE Fight'!AA11*$U$3 -> 149.53554
C14: 12 | D14: 1646 | E14: =D14+E13 -> 11794 | F14: =E14/$E$66 -> 0.04301287 | H14: 11 | I14: 2 | J14: =H14*10 -> 110 | L14: =(D14-0.5)/H14 -> 149.59091 | M14: =(D14+0.4)/H14 -> 149.67273 | R14: =ROUND(H14*P11,0) -> 1646 | S14: =(R14-D14)/D14 -> 0
B15: =B11+1 -> 4 | C15: 13 | D15: 1306 | E15: =D15+E14 -> 13100 | F15: =E15/$E$66 -> 0.047775869 | H15: 8 | I15: 1 | J15: =H15*10 -> 80 | L15: =(D15-0.5)/H15 -> 163.1875 | M15: =(D15+0.4)/H15 -> 163.3 | N15: =MAX(L15:L18) -> 163.20833 | O15: =MIN(M15:M18) -> 163.28333 | P15: =IF((N15+(O15-N15)/2)<N15,N15,N15+(O15-N15)/2) -> 163.24583 | Q15: =ROUND(P15/P11,4) -> 1.0908 | R15: =ROUND(H15*P15,0) -> 1306 | S15: =(R15-D15)/D15 -> 0
C16: 14 | D16: 1306 | E16: =D16+E15 -> 14406 | F16: =E16/$E$66 -> 0.052538868 | H16: 8 | I16: 1 | J16: =H16*10 -> 80 | L16: =(D16-0.5)/H16 -> 163.1875 | M16: =(D16+0.4)/H16 -> 163.3 | R16: =ROUND(H16*P15,0) -> 1306 | S16: =(R16-D16)/D16 -> 0
C17: 15 | D17: 1306 | E17: =D17+E16 -> 15712 | F17: =E17/$E$66 -> 0.057301867 | G17: 0.3 | H17: 8 | I17: 1 | J17: =H17*10 -> 80 | L17: =(D17-0.5)/H17 -> 163.1875 | M17: =(D17+0.4)/H17 -> 163.3 | R17: =ROUND(H17*P15,0) -> 1306 | S17: =(R17-D17)/D17 -> 0 | U17: ='PE Fight'!AA15*$U$3 -> 163.1351
C18: 16 | D18: 1959 | E18: =D18+E17 -> 17671 | F18: =E18/$E$66 -> 0.064446365 | G18: 0.3 | H18: 12 | I18: 2 | J18: =H18*10 -> 120 | L18: =(D18-0.5)/H18 -> 163.20833 | M18: =(D18+0.4)/H18 -> 163.28333 | R18: =ROUND(H18*P15,0) -> 1959 | S18: =(R18-D18)/D18 -> 0
A19: =A3+1 -> 2 | B19: =B15+1 -> 5 | C19: 17 | D19: 1415 | E19: =D19+E18 -> 19086 | F19: =E19/$E$66 -> 0.069606888 | H19: 8 | I19: 1 | J19: =H19*10 -> 80 | L19: =(D19-0.5)/H19 -> 176.8125 | M19: =(D19+0.4)/H19 -> 176.925 | N19: =MAX(L19:L22) -> 176.8125 | O19: =MIN(M19:M22) -> 176.87692 | P19: =IF((N19+(O19-N19)/2)<N19,N19,N19+(O19-N19)/2) -> 176.84471 | Q19: =ROUND(P19/P15,4) -> 1.0833 | R19: =ROUND(H19*P19,0) -> 1415 | S19: =(R19-D19)/D19 -> 0
C20: 18 | D20: 1415 | E20: =D20+E19 -> 20501 | F20: =E20/$E$66 -> 0.074767412 | H20: 8 | I20: 1 | J20: =H20*10 -> 80 | L20: =(D20-0.5)/H20 -> 176.8125 | M20: =(D20+0.4)/H20 -> 176.925 | R20: =ROUND(H20*P19,0) -> 1415 | S20: =(R20-D20)/D20 -> 0
C21: 19 | D21: 1415 | E21: =D21+E20 -> 21916 | F21: =E21/$E$66 -> 0.079927935 | H21: 8 | I21: 1 | J21: =H21*10 -> 80 | L21: =(D21-0.5)/H21 -> 176.8125 | M21: =(D21+0.4)/H21 -> 176.925 | R21: =ROUND(H21*P19,0) -> 1415 | S21: =(R21-D21)/D21 -> 0 | U21: ='PE Fight'!AA19*$U$3 -> 176.74903
C22: 20 | D22: 2299 | E22: =D22+E21 -> 24215 | F22: =E22/$E$66 -> 0.088312418 | H22: 13 | I22: 2 | J22: =H22*10 -> 130 | L22: =(D22-0.5)/H22 -> 176.80769 | M22: =(D22+0.4)/H22 -> 176.87692 | R22: =ROUND(H22*P19,0) -> 2299 | S22: =(R22-D22)/D22 -> 0
B23: =B19+1 -> 6 | C23: 21 | D23: 1578 | E23: =D23+E22 -> 25793 | F23: =E23/$E$66 -> 0.094067404 | H23: 8 | I23: 1 | J23: =H23*10 -> 80 | L23: =(D23-0.5)/H23 -> 197.1875 | M23: =(D23+0.4)/H23 -> 197.3 | N23: =MAX(L23:L26) -> 197.1875 | O23: =MIN(M23:M26) -> 197.24286 | P23: =IF((N23+(O23-N23)/2)<N23,N23,N23+(O23-N23)/2) -> 197.21518 | Q23: =ROUND(P23/P19,4) -> 1.1152 | R23: =ROUND(H23*P23,0) -> 1578 | S23: =(R23-D23)/D23 -> 0
C24: 22 | D24: 1578 | E24: =D24+E23 -> 27371 | F24: =E24/$E$66 -> 0.09982239 | H24: 8 | I24: 1 | J24: =H24*10 -> 80 | L24: =(D24-0.5)/H24 -> 197.1875 | M24: =(D24+0.4)/H24 -> 197.3 | R24: =ROUND(H24*P23,0) -> 1578 | S24: =(R24-D24)/D24 -> 0
C25: 23 | D25: 1578 | E25: =D25+E24 -> 28949 | F25: =E25/$E$66 -> 0.10557738 | H25: 8 | I25: 1 | J25: =H25*10 -> 80 | L25: =(D25-0.5)/H25 -> 197.1875 | M25: =(D25+0.4)/H25 -> 197.3 | R25: =ROUND(H25*P23,0) -> 1578 | S25: =(R25-D25)/D25 -> 0 | U25: ='PE Fight'!AA23*$U$3 -> 197.13607
C26: 24 | D26: 2761 | E26: =D26+E25 -> 31710 | F26: =E26/$E$66 -> 0.11564678 | H26: 14 | I26: 2 | J26: =H26*10 -> 140 | L26: =(D26-0.5)/H26 -> 197.17857 | M26: =(D26+0.4)/H26 -> 197.24286 | R26: =ROUND(H26*P23,0) -> 2761 | S26: =(R26-D26)/D26 -> 0
B27: =B23+1 -> 7 | C27: 25 | D27: 1741 | E27: =D27+E26 -> 33451 | F27: =E27/$E$66 -> 0.12199623 | H27: 8 | I27: 1 | J27: =H27*10 -> 80 | L27: =(D27-0.5)/H27 -> 217.5625 | M27: =(D27+0.4)/H27 -> 217.675 | N27: =MAX(L27:L30) -> 217.56667 | O27: =MIN(M27:M30) -> 217.62667 | P27: =IF((N27+(O27-N27)/2)<N27,N27,N27+(O27-N27)/2) -> 217.59667 | Q27: =ROUND(P27/P23,4) -> 1.1033 | R27: =ROUND(H27*P27,0) -> 1741 | S27: =(R27-D27)/D27 -> 0
C28: 26 | D28: 1741 | E28: =D28+E27 -> 35192 | F28: =E28/$E$66 -> 0.12834568 | H28: 8 | I28: 1 | J28: =H28*10 -> 80 | L28: =(D28-0.5)/H28 -> 217.5625 | M28: =(D28+0.4)/H28 -> 217.675 | R28: =ROUND(H28*P27,0) -> 1741 | S28: =(R28-D28)/D28 -> 0
C29: 27 | D29: 1741 | E29: =D29+E28 -> 36933 | F29: =E29/$E$66 -> 0.13469513 | H29: 8 | I29: 1 | J29: =H29*10 -> 80 | L29: =(D29-0.5)/H29 -> 217.5625 | M29: =(D29+0.4)/H29 -> 217.675 | R29: =ROUND(H29*P27,0) -> 1741 | S29: =(R29-D29)/D29 -> 0 | U29: ='PE Fight'!AA27*$U$3 -> 217.40859
C30: 28 | D30: 3264 | E30: =D30+E29 -> 40197 | F30: =E30/$E$66 -> 0.14659898 | H30: 15 | I30: 2 | J30: =H30*10 -> 150 | L30: =(D30-0.5)/H30 -> 217.56667 | M30: =(D30+0.4)/H30 -> 217.62667 | R30: =ROUND(H30*P27,0) -> 3264 | S30: =(R30-D30)/D30 -> 0
B31: =B27+1 -> 8 | C31: 29 | D31: 2448 | E31: =D31+E30 -> 42645 | F31: =E31/$E$66 -> 0.15552687 | H31: 10 | I31: 2 | J31: =H31*10 -> 100 | L31: =(D31-0.5)/H31 -> 244.75 | M31: =(D31+0.4)/H31 -> 244.84 | N31: =MAX(L31:L34) -> 244.78125 | O31: =MIN(M31:M34) -> 244.8375 | P31: =IF((N31+(O31-N31)/2)<N31,N31,N31+(O31-N31)/2) -> 244.80937 | Q31: =ROUND(P31/P27,4) -> 1.1251 | R31: =ROUND(H31*P31,0) -> 2448 | S31: =(R31-D31)/D31 -> 0
C32: 30 | D32: 2693 | E32: =D32+E31 -> 45338 | F32: =E32/$E$66 -> 0.16534827 | H32: 11 | I32: 2 | J32: =H32*10 -> 110 | L32: =(D32-0.5)/H32 -> 244.77273 | M32: =(D32+0.4)/H32 -> 244.85455 | R32: =ROUND(H32*P31,0) -> 2693 | S32: =(R32-D32)/D32 -> 0
C33: 31 | D33: 2693 | E33: =D33+E32 -> 48031 | F33: =E33/$E$66 -> 0.17516968 | H33: 11 | I33: 2 | J33: =H33*10 -> 110 | L33: =(D33-0.5)/H33 -> 244.77273 | M33: =(D33+0.4)/H33 -> 244.85455 | R33: =ROUND(H33*P31,0) -> 2693 | S33: =(R33-D33)/D33 -> 0 | U33: ='PE Fight'!AA31*$U$3 -> 244.63608
C34: 32 | D34: 3917 | E34: =D34+E33 -> 51948 | F34: =E34/$E$66 -> 0.18945503 | H34: 16 | I34: 2 | J34: =H34*10 -> 160 | L34: =(D34-0.5)/H34 -> 244.78125 | M34: =(D34+0.4)/H34 -> 244.8375 | R34: =ROUND(H34*P31,0) -> 3917 | S34: =(R34-D34)/D34 -> 0
A35: =A19+1 -> 3 | B35: =B31+1 -> 9 | C35: 33 | D35: 2992 | E35: =D35+E34 -> 54940 | F35: =E35/$E$66 -> 0.20036689 | H35: 11 | I35: 2 | J35: =H35*10 -> 110 | L35: =(D35-0.5)/H35 -> 271.95455 | M35: =(D35+0.4)/H35 -> 272.03636 | N35: =MAX(L35:L38) -> 271.96875 | O35: =MIN(M35:M38) -> 272.025 | P35: =IF((N35+(O35-N35)/2)<N35,N35,N35+(O35-N35)/2) -> 271.99687 | Q35: =ROUND(P35/P31,4) -> 1.1111 | R35: =ROUND(H35*P35,0) -> 2992 | S35: =(R35-D35)/D35 -> 0
C36: 34 | D36: 3264 | E36: =D36+E35 -> 58204 | F36: =E36/$E$66 -> 0.21227074 | H36: 12 | I36: 2 | J36: =H36*10 -> 120 | L36: =(D36-0.5)/H36 -> 271.95833 | M36: =(D36+0.4)/H36 -> 272.03333 | R36: =ROUND(H36*P35,0) -> 3264 | S36: =(R36-D36)/D36 -> 0
C37: 35 | D37: 3264 | E37: =D37+E36 -> 61468 | F37: =E37/$E$66 -> 0.22417459 | H37: 12 | I37: 2 | J37: =H37*10 -> 120 | L37: =(D37-0.5)/H37 -> 271.95833 | M37: =(D37+0.4)/H37 -> 272.03333 | R37: =ROUND(H37*P35,0) -> 3264 | S37: =(R37-D37)/D37 -> 0 | U37: ='PE Fight'!AA35*$U$3 -> 271.76244
C38: 36 | D38: 4352 | E38: =D38+E37 -> 65820 | F38: =E38/$E$66 -> 0.24004639 | H38: 16 | I38: 2 | J38: =H38*10 -> 160 | L38: =(D38-0.5)/H38 -> 271.96875 | M38: =(D38+0.4)/H38 -> 272.025 | R38: =ROUND(H38*P35,0) -> 4352 | S38: =(R38-D38)/D38 -> 0
B39: =B35+1 -> 10 | C39: 37 | D39: 4067 | E39: =D39+E38 -> 69887 | F39: =E39/$E$66 -> 0.25487879 | H39: 13 | I39: 2 | J39: =H39*10 -> 130 | L39: =(D39-0.5)/H39 -> 312.80769 | M39: =(D39+0.4)/H39 -> 312.87692 | N39: =MAX(L39:L42) -> 312.80769 | O39: =MIN(M39:M42) -> 312.8375 | P39: =IF((N39+(O39-N39)/2)<N39,N39,N39+(O39-N39)/2) -> 312.8226 | Q39: =ROUND(P39/P35,4) -> 1.1501 | R39: =ROUND(H39*P39,0) -> 4067 | S39: =(R39-D39)/D39 -> 0
C40: 38 | D40: 4067 | E40: =D40+E39 -> 73954 | F40: =E40/$E$66 -> 0.26971119 | H40: 13 | I40: 2 | J40: =H40*10 -> 130 | L40: =(D40-0.5)/H40 -> 312.80769 | M40: =(D40+0.4)/H40 -> 312.87692 | R40: =ROUND(H40*P39,0) -> 4067 | S40: =(R40-D40)/D40 -> 0
...

Sheet CE Fight
G1: Enemy Units | M1: Expedition Points / Unit | S1: Prediction using Avg.
A2: GE Level | B2: Segment | C2: Encounter | D2: Expedition Points | E2: Cumulative EP | F2: Cumulative % of Total | G2: Attacker Bonus | H2: Total | I2: Waves | J2: Damage Taken | K2: Number of MIRVs | L2: Number of MIRVs Left | M2: Lower Bound | N2: Upper Bound | O2: Min bound | P2: Max bound | Q2: Avg. | R2: Apparent Increase | S2: Expedition Points | T2: % Error
A3: 1 | B3: 1 | C3: 1 | D3: 503 | E3: =D3 -> 503 | F3: =E3/$E$91 -> 0.0018206827 | H3: 3 | I3: 1 | J3: =H3*10 -> 30 | M3: =(D3-0.5)/(H3-L3) -> 167.5 | N3: =(D3+0.4)/(H3-L3) -> 167.8 | O3: =MAX(M3:M6) -> 167.5 | P3: =MIN(N3:N6) -> 167.6 | Q3: =IF((O3+(P3-O3)/2)<O3,O3,O3+(P3-O3)/2) -> 167.55 | S3: =ROUND(H3*Q3,0) -> 503 | T3: =(S3-D3)/D3 -> 0 | V3: =E6/'PE Fight'!E6 -> 2.0051282
C4: 2 | D4: 670 | E4: =IF(ISNUMBER(C4),D4+MAX($E$3:E3),"") -> 1173 | F4: =IF(ISNUMBER(C4),E4/$E$91,"") -> 0.0042458465 | H4: 4 | I4: 1 | J4: =H4*10 -> 40 | M4: =(D4-0.5)/(H4-L4) -> 167.375 | N4: =(D4+0.4)/(H4-L4) -> 167.6 | S4: =ROUND(H4*Q3,0) -> 670 | T4: =(S4-D4)/D4 -> 0
C5: 3 | D5: 838 | E5: =IF(ISNUMBER(C5),D5+MAX($E$3:E4),"") -> 2011 | F5: =IF(ISNUMBER(C5),E5/$E$91,"") -> 0.007279111 | H5: 5 | I5: 1 | J5: =H5*10 -> 50 | M5: =(D5-0.5)/(H5-L5) -> 167.5 | N5: =(D5+0.4)/(H5-L5) -> 167.68 | S5: =ROUND(H5*Q3,0) -> 838 | T5: =(S5-D5)/D5 -> 0
C6: 4 | D6: 1508 | E6: =IF(ISNUMBER(C6),D6+MAX($E$3:E5),"") -> 3519 | F6: =IF(ISNUMBER(C6),E6/$E$91,"") -> 0.012737539 | H6: 9 | I6: 2 | J6: =H6*10 -> 90 | M6: =(D6-0.5)/(H6-L6) -> 167.5 | N6: =(D6+0.4)/(H6-L6) -> 167.6 | S6: =ROUND(H6*Q3,0) -> 1508 | T6: =(S6-D6)/D6 -> 0
B7: =B3+1 -> 2 | C7: 5 | D7: 880 | E7: =IF(ISNUMBER(C7),D7+MAX($E$3:E6),"") -> 4399 | F7: =IF(ISNUMBER(C7),E7/$E$91,"") -> 0.015922829 | H7: 5 | I7: 1 | J7: =H7*10 -> 50 | M7: =(D7-0.5)/(H7-L7) -> 175.9 | N7: =(D7+0.4)/(H7-L7) -> 176.08 | O7: =MAX(M7:M10) -> 175.92857 | P7: =MIN(N7:N10) -> 175.94 | Q7: =IF((O7+(P7-O7)/2)<O7,O7,O7+(P7-O7)/2) -> 175.93429 | R7: =ROUND(Q7/Q3,4) -> 1.05 | S7: =ROUND(H7*Q7,0) -> 880 | T7: =(S7-D7)/D7 -> 0
C8: 6 | D8: 1056 | E8: =IF(ISNUMBER(C8),D8+MAX($E$3:E7),"") -> 5455 | F8: =IF(ISNUMBER(C8),E8/$E$91,"") -> 0.019745177 | H8: 6 | I8: 1 | J8: =H8*10 -> 60 | M8: =(D8-0.5)/(H8-L8) -> 175.91667 | N8: =(D8+0.4)/(H8-L8) -> 176.06667 | S8: =ROUND(H8*Q7,0) -> 1056 | T8: =(S8-D8)/D8 -> 0
C9: 7 | D9: 1232 | E9: =IF(ISNUMBER(C9),D9+MAX($E$3:E8),"") -> 6687 | F9: =IF(ISNUMBER(C9),E9/$E$91,"") -> 0.024204582 | H9: 7 | I9: 1 | J9: =H9*10 -> 70 | M9: =(D9-0.5)/(H9-L9) -> 175.92857 | N9: =(D9+0.4)/(H9-L9) -> 176.05714 | S9: =ROUND(H9*Q7,0) -> 1232 | T9: =(S9-D9)/D9 -> 0 | V9: ='PE Fight'!AA7*$V$3 -> 175.95
C10: 8 | D10: 1759 | E10: =IF(ISNUMBER(C10),D10+MAX($E$3:E9),"") -> 8446 | F10: =IF(ISNUMBER(C10),E10/$E$91,"") -> 0.030571542 | H10: 10 | I10: 1 | J10: =H10*10 -> 100 | M10: =(D10-0.5)/(H10-L10) -> 175.85 | N10: =(D10+0.4)/(H10-L10) -> 175.94 | S10: =ROUND(H10*Q7,0) -> 1759 | T10: =(S10-D10)/D10 -> 0
B11: =B7+1 -> 3 | C11: 9 | D11: 1290 | E11: =IF(ISNUMBER(C11),D11+MAX($E$3:E10),"") -> 9736 | F11: =IF(ISNUMBER(C11),E11/$E$91,"") -> 0.035240888 | H11: 7 | I11: 1 | J11: =H11*10 -> 70 | M11: =(D11-0.5)/(H11-L11) -> 184.21429 | N11: =(D11+0.4)/(H11-L11) -> 184.34286 | O11: =MAX(M11:M14) -> 184.3125 | P11: =MIN(N11:N14) -> 184.30909 | Q11: =IF((O11+(P11-O11)/2)<O11,O11,O11+(P11-O11)/2) -> 184.3125 | R11: =ROUND(Q11/Q7,4) -> 1.0476 | S11: =ROUND(H11*Q11,0) -> 1290 | T11: =(S11-D11)/D11 -> 0
C12: 10 | D12: 1290 | E12: =IF(ISNUMBER(C12),D12+MAX($E$3:E11),"") -> 11026 | F12: =IF(ISNUMBER(C12),E12/$E$91,"") -> 0.039910233 | H12: 7 | I12: 1 | J12: =H12*10 -> 70 | M12: =(D12-0.5)/(H12-L12) -> 184.21429 | N12: =(D12+0.4)/(H12-L12) -> 184.34286 | S12: =ROUND(H12*Q11,0) -> 1290 | T12: =(S12-D12)/D12 -> 0
C13: 11 | D13: 1475 | E13: =IF(ISNUMBER(C13),D13+MAX($E$3:E12),"") -> 12501 | F13: =IF(ISNUMBER(C13),E13/$E$91,"") -> 0.045249213 | H13: 8 | I13: 1 | J13: =H13*10 -> 80 | M13: =(D13-0.5)/(H13-L13) -> 184.3125 | N13: =(D13+0.4)/(H13-L13) -> 184.425 | S13: =ROUND(H13*Q11,0) -> 1475 | T13: =(S13-D13)/D13 -> 0 | V13: ='PE Fight'!AA11*$V$3 -> 184.24915
C14: 12 | D14: 2027 | E14: =IF(ISNUMBER(C14),D14+MAX($E$3:E13),"") -> 14528 | F14: =IF(ISNUMBER(C14),E14/$E$91,"") -> 0.052586238 | H14: 11 | I14: 2 | J14: =H14*10 -> 110 | M14: =(D14-0.5)/(H14-L14) -> 184.22727 | N14: =(D14+0.4)/(H14-L14) -> 184.30909 | S14: =ROUND(H14*Q11,0) -> 2027 | T14: =(S14-D14)/D14 -> 0
B15: =B11+1 -> 4 | C15: 13 | D15: 1608 | E15: =IF(ISNUMBER(C15),D15+MAX($E$3:E14),"") -> 16136 | F15: =IF(ISNUMBER(C15),E15/$E$91,"") -> 0.058406631 | H15: 8 | I15: 1 | J15: =H15*10 -> 80 | M15: =(D15-0.5)/(H15-L15) -> 200.9375 | N15: =(D15+0.4)/(H15-L15) -> 201.05 | O15: =MAX(M15:M18) -> 200.95833 | P15: =MIN(N15:N18) -> 201.03333 | Q15: =IF((O15+(P15-O15)/2)<O15,O15,O15+(P15-O15)/2) -> 200.99583 | R15: =ROUND(Q15/Q11,4) -> 1.0905 | S15: =ROUND(H15*Q15,0) -> 1608 | T15: =(S15-D15)/D15 -> 0
C16: 14 | D16: 1608 | E16: =IF(ISNUMBER(C16),D16+MAX($E$3:E15),"") -> 17744 | F16: =IF(ISNUMBER(C16),E16/$E$91,"") -> 0.064227024 | H16: 8 | I16: 1 | J16: =H16*10 -> 80 | M16: =(D16-0.5)/(H16-L16) -> 200.9375 | N16: =(D16+0.4)/(H16-L16) -> 201.05 | S16: =ROUND(H16*Q15,0) -> 1608 | T16: =(S16-D16)/D16 -> 0
C17: 15 | D17: 1608 | E17: =IF(ISNUMBER(C17),D17+MAX($E$3:E16),"") -> 19352 | F17: =IF(ISNUMBER(C17),E17/$E$91,"") -> 0.070047417 | H17: 8 | I17: 1 | J17: =H17*10 -> 80 | M17: =(D17-0.5)/(H17-L17) -> 200.9375 | N17: =(D17+0.4)/(H17-L17) -> 201.05 | S17: =ROUND(H17*Q15,0) -> 1608 | T17: =(S17-D17)/D17 -> 0 | V17: ='PE Fight'!AA15*$V$3 -> 201.00575
C18: 16 | D18: 2412 | E18: =IF(ISNUMBER(C18),D18+MAX($E$3:E17),"") -> 21764 | F18: =IF(ISNUMBER(C18),E18/$E$91,"") -> 0.078778007 | H18: 12 | I18: 2 | J18: =H18*10 -> 120 | M18: =(D18-0.5)/(H18-L18) -> 200.95833 | N18: =(D18+0.4)/(H18-L18) -> 201.03333 | S18: =ROUND(H18*Q15,0) -> 2412 | T18: =(S18-D18)/D18 -> 0
A19: =A3+1 -> 2 | B19: =B15+1 -> 5 | C19: 17 | D19: 1742 | E19: =IF(ISNUMBER(C19),D19+MAX($E$3:E18),"") -> 23506 | F19: =IF(ISNUMBER(C19),E19/$E$91,"") -> 0.085083433 | H19: 8 | I19: 1 | J19: =H19*10 -> 80 | M19: =(D19-0.5)/(H19-L19) -> 217.6875 | N19: =(D19+0.4)/(H19-L19) -> 217.8 | O19: =MAX(M19:M22) -> 217.73077 | P19: =MIN(N19:N22) -> 217.8 | Q19: =IF((O19+(P19-O19)/2)<O19,O19,O19+(P19-O19)/2) -> 217.76538 | R19: =ROUND(Q19/Q15,4) -> 1.0834 | S19: =ROUND(H19*Q19,0) -> 1742 | T19: =(S19-D19)/D19 -> 0
C20: 18 | D20: 1742 | E20: =IF(ISNUMBER(C20),D20+MAX($E$3:E19),"") -> 25248 | F20: =IF(ISNUMBER(C20),E20/$E$91,"") -> 0.091388859 | H20: 8 | I20: 1 | J20: =H20*10 -> 80 | M20: =(D20-0.5)/(H20-L20) -> 217.6875 | N20: =(D20+0.4)/(H20-L20) -> 217.8 | S20: =ROUND(H20*Q19,0) -> 1742 | T20: =(S20-D20)/D20 -> 0
C21: 19 | D21: 1742 | E21: =IF(ISNUMBER(C21),D21+MAX($E$3:E20),"") -> 26990 | F21: =IF(ISNUMBER(C21),E21/$E$91,"") -> 0.097694285 | H21: 8 | I21: 1 | J21: =H21*10 -> 80 | M21: =(D21-0.5)/(H21-L21) -> 217.6875 | N21: =(D21+0.4)/(H21-L21) -> 217.8 | S21: =ROUND(H21*Q19,0) -> 1742 | T21: =(S21-D21)/D21 -> 0 | V21: ='PE Fight'!AA19*$V$3 -> 217.78006
C22: 20 | D22: 2831 | E22: =IF(ISNUMBER(C22),D22+MAX($E$3:E21),"") -> 29821 | F22: =IF(ISNUMBER(C22),E22/$E$91,"") -> 0.10794151 | H22: 13 | I22: 2 | J22: =H22*10 -> 130 | M22: =(D22-0.5)/(H22-L22) -> 217.73077 | N22: =(D22+0.4)/(H22-L22) -> 217.8 | S22: =ROUND(H22*Q19,0) -> 2831 | T22: =(S22-D22)/D22 -> 0
